BEGIN:VCALENDAR
VERSION:2.0
PRODID:-//Legion Memorial Library - ECPv6.15.20//NONSGML v1.0//EN
CALSCALE:GREGORIAN
METHOD:PUBLISH
X-WR-CALNAME:Legion Memorial Library
X-ORIGINAL-URL:https://www.legionmemoriallibrary.org
X-WR-CALDESC:Events for Legion Memorial Library
REFRESH-INTERVAL;VALUE=DURATION:PT1H
X-Robots-Tag:noindex
X-PUBLISHED-TTL:PT1H
BEGIN:VTIMEZONE
TZID:America/Chicago
BEGIN:DAYLIGHT
TZOFFSETFROM:-0600
TZOFFSETTO:-0500
TZNAME:CDT
DTSTART:20250309T080000
END:DAYLIGHT
BEGIN:STANDARD
TZOFFSETFROM:-0500
TZOFFSETTO:-0600
TZNAME:CST
DTSTART:20251102T070000
END:STANDARD
BEGIN:DAYLIGHT
TZOFFSETFROM:-0600
TZOFFSETTO:-0500
TZNAME:CDT
DTSTART:20260308T080000
END:DAYLIGHT
BEGIN:STANDARD
TZOFFSETFROM:-0500
TZOFFSETTO:-0600
TZNAME:CST
DTSTART:20261101T070000
END:STANDARD
BEGIN:DAYLIGHT
TZOFFSETFROM:-0600
TZOFFSETTO:-0500
TZNAME:CDT
DTSTART:20270314T080000
END:DAYLIGHT
BEGIN:STANDARD
TZOFFSETFROM:-0500
TZOFFSETTO:-0600
TZNAME:CST
DTSTART:20271107T070000
END:STANDARD
END:VTIMEZONE
BEGIN:VEVENT
DTSTART;VALUE=DATE:20260331
DTEND;VALUE=DATE:20260401
DTSTAMP:20260421T124144
CREATED:20260225T191044Z
LAST-MODIFIED:20260310T185057Z
UID:10003935-1774915200-1775001599@www.legionmemoriallibrary.org
SUMMARY: National Dance Marathon Day
DESCRIPTION:National Dance Marathon Day \n“Dance is the hidden language of the soul.” -Martha Graham
URL:https://www.legionmemoriallibrary.org/event/national-dance-marathon-day/
LOCATION:Legion Memorial Library\, 106 Iron Street\, Mellen\, WI\, 54546\, United States
GEO:46.32721;-90.658573
X-APPLE-STRUCTURED-LOCATION;VALUE=URI;X-ADDRESS=Legion Memorial Library 106 Iron Street Mellen WI 54546 United States;X-APPLE-RADIUS=500;X-TITLE=106 Iron Street:geo:-90.658573,46.32721
END:VEVENT
BEGIN:VEVENT
DTSTART;TZID=America/Chicago:20260330T100000
DTEND;TZID=America/Chicago:20260330T140000
DTSTAMP:20260421T124144
CREATED:20260330T150758Z
LAST-MODIFIED:20260330T150758Z
UID:10003982-1774864800-1774879200@www.legionmemoriallibrary.org
SUMMARY:CLICK & Learn
DESCRIPTION:Jake Koval\, the CLICK & Learn Digital Navigator is here today from 10am-2pm to help with your technology questions.  Bring your phone\, tablet\, or laptop and get help with your questions and concerns. CLICK & Learn also has laptops available to borrow and use.  Request one from our Digital Navigator.  \nJake Koval will be here every other Monday from 10am-2pm: \nApril 13 & 27 \nMay 11 \nJune 8 & 22
URL:https://www.legionmemoriallibrary.org/event/click-learn-3/
LOCATION:Legion Memorial Library\, 106 Iron Street\, Mellen\, WI\, 54546\, United States
GEO:46.32721;-90.658573
X-APPLE-STRUCTURED-LOCATION;VALUE=URI;X-ADDRESS=Legion Memorial Library 106 Iron Street Mellen WI 54546 United States;X-APPLE-RADIUS=500;X-TITLE=106 Iron Street:geo:-90.658573,46.32721
END:VEVENT
BEGIN:VEVENT
DTSTART;VALUE=DATE:20260330
DTEND;VALUE=DATE:20260331
DTSTAMP:20260421T124144
CREATED:20260225T190916Z
LAST-MODIFIED:20260310T173327Z
UID:10003934-1774828800-1774915199@www.legionmemoriallibrary.org
SUMMARY:I Am In Control Day
DESCRIPTION:I Am In Control Day \n“Incredible change happens in your life when you decide to take control of what you do have power over instead of craving control over what you don’t.” -Steve Maraboli\, Life\, the Truth\, and Being Free
URL:https://www.legionmemoriallibrary.org/event/i-am-in-control-day/
LOCATION:Legion Memorial Library\, 106 Iron Street\, Mellen\, WI\, 54546\, United States
GEO:46.32721;-90.658573
X-APPLE-STRUCTURED-LOCATION;VALUE=URI;X-ADDRESS=Legion Memorial Library 106 Iron Street Mellen WI 54546 United States;X-APPLE-RADIUS=500;X-TITLE=106 Iron Street:geo:-90.658573,46.32721
END:VEVENT
BEGIN:VEVENT
DTSTART;VALUE=DATE:20260329
DTEND;VALUE=DATE:20260330
DTSTAMP:20260421T124144
CREATED:20260225T190602Z
LAST-MODIFIED:20260310T173511Z
UID:10003933-1774742400-1774828799@www.legionmemoriallibrary.org
SUMMARY:National Mom and Pop Business Owners Day
DESCRIPTION:National Mom and Pop Business Owners Day \n“Mom and pop stores are not about something small; they are about something big. Ninety percent of all U.S. businesses are family owned or controlled. They are important not only for the food\, drink\, clothing\, and tools they sell us\, but also for providing us with intellectual stimulation\, social interaction\, and connection to our communities. We must have mom and pop stores because we are social animals.  We crave to be part of the marketplace.” -Robert Spector\, The Mom and Pop Store: How the Unsung Heroes of the American Economy Are Surviving and Thriving
URL:https://www.legionmemoriallibrary.org/event/11253/
LOCATION:Legion Memorial Library\, 106 Iron Street\, Mellen\, WI\, 54546\, United States
GEO:46.32721;-90.658573
X-APPLE-STRUCTURED-LOCATION;VALUE=URI;X-ADDRESS=Legion Memorial Library 106 Iron Street Mellen WI 54546 United States;X-APPLE-RADIUS=500;X-TITLE=106 Iron Street:geo:-90.658573,46.32721
END:VEVENT
BEGIN:VEVENT
DTSTART;VALUE=DATE:20260328
DTEND;VALUE=DATE:20260329
DTSTAMP:20260421T124144
CREATED:20260225T190459Z
LAST-MODIFIED:20260310T173412Z
UID:10003932-1774656000-1774742399@www.legionmemoriallibrary.org
SUMMARY:National Hot Tub Day
DESCRIPTION:National Hot Tub Day \n“Imagine a hot tub for the mind.  That is what meditation is; it can bathe your mind in relaxing thoughts.” -Eknath Easwaran
URL:https://www.legionmemoriallibrary.org/event/national-hot-tub-day/
LOCATION:Legion Memorial Library\, 106 Iron Street\, Mellen\, WI\, 54546\, United States
GEO:46.32721;-90.658573
X-APPLE-STRUCTURED-LOCATION;VALUE=URI;X-ADDRESS=Legion Memorial Library 106 Iron Street Mellen WI 54546 United States;X-APPLE-RADIUS=500;X-TITLE=106 Iron Street:geo:-90.658573,46.32721
END:VEVENT
BEGIN:VEVENT
DTSTART;VALUE=DATE:20260327
DTEND;VALUE=DATE:20260328
DTSTAMP:20260421T124144
CREATED:20260225T190337Z
LAST-MODIFIED:20260310T173440Z
UID:10003931-1774569600-1774655999@www.legionmemoriallibrary.org
SUMMARY:World Theatre Day
DESCRIPTION:World Theatre Day \n“That’s the magic of art and the magic of theatre: it has the power to transform an audience\, an individual\, or en masse\, to transform them and give them an epiphanal experience that changes their life\, opens their hearts and their minds and the way they think.” -Brian Stokes Mitchell
URL:https://www.legionmemoriallibrary.org/event/world-theatre-day/
LOCATION:Legion Memorial Library\, 106 Iron Street\, Mellen\, WI\, 54546\, United States
GEO:46.32721;-90.658573
X-APPLE-STRUCTURED-LOCATION;VALUE=URI;X-ADDRESS=Legion Memorial Library 106 Iron Street Mellen WI 54546 United States;X-APPLE-RADIUS=500;X-TITLE=106 Iron Street:geo:-90.658573,46.32721
END:VEVENT
BEGIN:VEVENT
DTSTART;TZID=America/Chicago:20260326T153000
DTEND;TZID=America/Chicago:20260326T163000
DTSTAMP:20260421T124144
CREATED:20260302T151500Z
LAST-MODIFIED:20260302T151500Z
UID:10003942-1774539000-1774542600@www.legionmemoriallibrary.org
SUMMARY:Lego Club
DESCRIPTION:
URL:https://www.legionmemoriallibrary.org/event/lego-club-4/
LOCATION:Legion Memorial Library\, 106 Iron Street\, Mellen\, WI\, 54546\, United States
GEO:46.32721;-90.658573
X-APPLE-STRUCTURED-LOCATION;VALUE=URI;X-ADDRESS=Legion Memorial Library 106 Iron Street Mellen WI 54546 United States;X-APPLE-RADIUS=500;X-TITLE=106 Iron Street:geo:-90.658573,46.32721
END:VEVENT
BEGIN:VEVENT
DTSTART;VALUE=DATE:20260326
DTEND;VALUE=DATE:20260327
DTSTAMP:20260421T124144
CREATED:20260225T192403Z
LAST-MODIFIED:20260310T173603Z
UID:10003938-1774483200-1774569599@www.legionmemoriallibrary.org
SUMMARY:Spinach Day
DESCRIPTION:Spinach Day \n“Our bodies are garbage heaps: we collect experience\, and from the decomposition of the thrown-out eggshells\, spinach leaves\, coffee grinds\, and old steak bones out of our minds come nitrogen\, heat\, and very fertile soil.  Out of this fertile soil bloom our poems and stories. But this does not come all at once.  It takes time. Continue to turn over and over the organic details of your life until some of them fall through the garbage of discursive thoughts to the solid ground of black soil.” -Natalie Goldberg
URL:https://www.legionmemoriallibrary.org/event/spinach-day-3/
LOCATION:Legion Memorial Library\, 106 Iron Street\, Mellen\, WI\, 54546\, United States
GEO:46.32721;-90.658573
X-APPLE-STRUCTURED-LOCATION;VALUE=URI;X-ADDRESS=Legion Memorial Library 106 Iron Street Mellen WI 54546 United States;X-APPLE-RADIUS=500;X-TITLE=106 Iron Street:geo:-90.658573,46.32721
END:VEVENT
BEGIN:VEVENT
DTSTART;TZID=America/Chicago:20260325T160000
DTEND;TZID=America/Chicago:20260325T170000
DTSTAMP:20260421T124144
CREATED:20260302T180041Z
LAST-MODIFIED:20260325T153331Z
UID:10003946-1774454400-1774458000@www.legionmemoriallibrary.org
SUMMARY:Asahi Nordic Exercise
DESCRIPTION:
URL:https://www.legionmemoriallibrary.org/event/asahi-nordic-exercise-65/
LOCATION:Legion Memorial Library\, 106 Iron Street\, Mellen\, WI\, 54546\, United States
GEO:46.32721;-90.658573
X-APPLE-STRUCTURED-LOCATION;VALUE=URI;X-ADDRESS=Legion Memorial Library 106 Iron Street Mellen WI 54546 United States;X-APPLE-RADIUS=500;X-TITLE=106 Iron Street:geo:-90.658573,46.32721
END:VEVENT
BEGIN:VEVENT
DTSTART;VALUE=DATE:20260325
DTEND;VALUE=DATE:20260326
DTSTAMP:20260421T124144
CREATED:20260225T192300Z
LAST-MODIFIED:20260310T173637Z
UID:10003937-1774396800-1774483199@www.legionmemoriallibrary.org
SUMMARY:International Waffle Day
DESCRIPTION:International Waffle Day \n“There’s something about waffle geometry and the transformative power of the waffle iron that turns a recipe into an adventure\, and if there’s one thing that’s become clear to me\, it’s that I’m not the only one who finds the adventure irresistible.” -Daniel Shumski
URL:https://www.legionmemoriallibrary.org/event/international-waffle-day-4/
LOCATION:Legion Memorial Library\, 106 Iron Street\, Mellen\, WI\, 54546\, United States
GEO:46.32721;-90.658573
X-APPLE-STRUCTURED-LOCATION;VALUE=URI;X-ADDRESS=Legion Memorial Library 106 Iron Street Mellen WI 54546 United States;X-APPLE-RADIUS=500;X-TITLE=106 Iron Street:geo:-90.658573,46.32721
END:VEVENT
BEGIN:VEVENT
DTSTART;VALUE=DATE:20260324
DTEND;VALUE=DATE:20260325
DTSTAMP:20260421T124144
CREATED:20260225T185940Z
LAST-MODIFIED:20260310T173709Z
UID:10003929-1774310400-1774396799@www.legionmemoriallibrary.org
SUMMARY:Diabetes Alert Day
DESCRIPTION:Diabetes Alert Day \n“You either get bitter or you get better. It’s that simple. You either take what has been dealt to you and allow it to make you a better person\, or you allow it to tear you down.  The choice does not belong to fate\, it belongs to you.” -Josh Shipp
URL:https://www.legionmemoriallibrary.org/event/diabetes-alert-day/
LOCATION:Legion Memorial Library\, 106 Iron Street\, Mellen\, WI\, 54546\, United States
GEO:46.32721;-90.658573
X-APPLE-STRUCTURED-LOCATION;VALUE=URI;X-ADDRESS=Legion Memorial Library 106 Iron Street Mellen WI 54546 United States;X-APPLE-RADIUS=500;X-TITLE=106 Iron Street:geo:-90.658573,46.32721
END:VEVENT
BEGIN:VEVENT
DTSTART;VALUE=DATE:20260323
DTEND;VALUE=DATE:20260324
DTSTAMP:20260421T124144
CREATED:20260225T185858Z
LAST-MODIFIED:20260310T173736Z
UID:10003928-1774224000-1774310399@www.legionmemoriallibrary.org
SUMMARY:National Tamale Day
DESCRIPTION:National Tamale Day \n“Tamales teach patience: steam slow\, savor deep.” -Unknown
URL:https://www.legionmemoriallibrary.org/event/national-tamale-day/
LOCATION:Legion Memorial Library\, 106 Iron Street\, Mellen\, WI\, 54546\, United States
GEO:46.32721;-90.658573
X-APPLE-STRUCTURED-LOCATION;VALUE=URI;X-ADDRESS=Legion Memorial Library 106 Iron Street Mellen WI 54546 United States;X-APPLE-RADIUS=500;X-TITLE=106 Iron Street:geo:-90.658573,46.32721
END:VEVENT
BEGIN:VEVENT
DTSTART;VALUE=DATE:20260322
DTEND;VALUE=DATE:20260323
DTSTAMP:20260421T124144
CREATED:20260225T185816Z
LAST-MODIFIED:20260310T173802Z
UID:10003927-1774137600-1774223999@www.legionmemoriallibrary.org
SUMMARY:National Water Day
DESCRIPTION:National Water Day \n“Water is a living being. Water is the earth’s blood. Water is the sky’s soul. Water is the heart of the world.” -Simon J. Ortiz
URL:https://www.legionmemoriallibrary.org/event/national-water-day/
LOCATION:Legion Memorial Library\, 106 Iron Street\, Mellen\, WI\, 54546\, United States
GEO:46.32721;-90.658573
X-APPLE-STRUCTURED-LOCATION;VALUE=URI;X-ADDRESS=Legion Memorial Library 106 Iron Street Mellen WI 54546 United States;X-APPLE-RADIUS=500;X-TITLE=106 Iron Street:geo:-90.658573,46.32721
END:VEVENT
BEGIN:VEVENT
DTSTART;VALUE=DATE:20260321
DTEND;VALUE=DATE:20260322
DTSTAMP:20260421T124144
CREATED:20260225T185320Z
LAST-MODIFIED:20260310T173834Z
UID:10003926-1774051200-1774137599@www.legionmemoriallibrary.org
SUMMARY:World Poetry Day
DESCRIPTION:World Poetry Day \n“If you are a dreamer come in\, If you are a dreamer\, a wisher\, a liar\, A hope-er\, a pray-er\, a magic-bean-buyer…If you’re a pretender\, come sit by my fire For we have some flax-golden tales to spin.  Come in! Come in!” -Shel Silverstein
URL:https://www.legionmemoriallibrary.org/event/world-poetry-day/
LOCATION:Legion Memorial Library\, 106 Iron Street\, Mellen\, WI\, 54546\, United States
GEO:46.32721;-90.658573
X-APPLE-STRUCTURED-LOCATION;VALUE=URI;X-ADDRESS=Legion Memorial Library 106 Iron Street Mellen WI 54546 United States;X-APPLE-RADIUS=500;X-TITLE=106 Iron Street:geo:-90.658573,46.32721
END:VEVENT
BEGIN:VEVENT
DTSTART;TZID=America/Chicago:20260320T180000
DTEND;TZID=America/Chicago:20260320T210000
DTSTAMP:20260421T124144
CREATED:20260302T180732Z
LAST-MODIFIED:20260302T180732Z
UID:10003953-1774029600-1774040400@www.legionmemoriallibrary.org
SUMMARY:Paint Night
DESCRIPTION:We’ll be painting along with Michelle the Painter to create her “Blossoming Blue Birds”.  Call or stop by the library to register.
URL:https://www.legionmemoriallibrary.org/event/paint-night-14/
LOCATION:Legion Memorial Library\, 106 Iron Street\, Mellen\, WI\, 54546\, United States
GEO:46.32721;-90.658573
X-APPLE-STRUCTURED-LOCATION;VALUE=URI;X-ADDRESS=Legion Memorial Library 106 Iron Street Mellen WI 54546 United States;X-APPLE-RADIUS=500;X-TITLE=106 Iron Street:geo:-90.658573,46.32721
END:VEVENT
BEGIN:VEVENT
DTSTART;VALUE=DATE:20260320
DTEND;VALUE=DATE:20260321
DTSTAMP:20260421T124144
CREATED:20260225T185202Z
LAST-MODIFIED:20260225T185202Z
UID:10003925-1773964800-1774051199@www.legionmemoriallibrary.org
SUMMARY:Won’t You By My Neighbor Day!
DESCRIPTION:Won’t You By My Neighbor Day! “In loving and appreciating our neighbor\, we’re participating in something truly sacred.” -Fred Rogers
URL:https://www.legionmemoriallibrary.org/event/wont-you-by-my-neighbor-day/
LOCATION:Legion Memorial Library\, 106 Iron Street\, Mellen\, WI\, 54546\, United States
GEO:46.32721;-90.658573
X-APPLE-STRUCTURED-LOCATION;VALUE=URI;X-ADDRESS=Legion Memorial Library 106 Iron Street Mellen WI 54546 United States;X-APPLE-RADIUS=500;X-TITLE=106 Iron Street:geo:-90.658573,46.32721
END:VEVENT
BEGIN:VEVENT
DTSTART;TZID=America/Chicago:20260319T153000
DTEND;TZID=America/Chicago:20260319T163000
DTSTAMP:20260421T124144
CREATED:20260302T151424Z
LAST-MODIFIED:20260302T151424Z
UID:10003941-1773934200-1773937800@www.legionmemoriallibrary.org
SUMMARY:Lego Club
DESCRIPTION:
URL:https://www.legionmemoriallibrary.org/event/lego-club-3/
LOCATION:Legion Memorial Library\, 106 Iron Street\, Mellen\, WI\, 54546\, United States
GEO:46.32721;-90.658573
X-APPLE-STRUCTURED-LOCATION;VALUE=URI;X-ADDRESS=Legion Memorial Library 106 Iron Street Mellen WI 54546 United States;X-APPLE-RADIUS=500;X-TITLE=106 Iron Street:geo:-90.658573,46.32721
END:VEVENT
BEGIN:VEVENT
DTSTART;TZID=America/Chicago:20260319T090000
DTEND;TZID=America/Chicago:20260319T100000
DTSTAMP:20260421T124144
CREATED:20260302T180339Z
LAST-MODIFIED:20260302T180419Z
UID:10003949-1773910800-1773914400@www.legionmemoriallibrary.org
SUMMARY:Book Club
DESCRIPTION:Book Club will meet to discuss “She’s Come Undone” by Wally Lamb.  Please note the day change from our normal Wednesday morning to Thursday.  See you then.
URL:https://www.legionmemoriallibrary.org/event/book-club-62/
LOCATION:Legion Memorial Library\, 106 Iron Street\, Mellen\, WI\, 54546\, United States
GEO:46.32721;-90.658573
X-APPLE-STRUCTURED-LOCATION;VALUE=URI;X-ADDRESS=Legion Memorial Library 106 Iron Street Mellen WI 54546 United States;X-APPLE-RADIUS=500;X-TITLE=106 Iron Street:geo:-90.658573,46.32721
END:VEVENT
BEGIN:VEVENT
DTSTART;VALUE=DATE:20260319
DTEND;VALUE=DATE:20260320
DTSTAMP:20260421T124144
CREATED:20260225T185024Z
LAST-MODIFIED:20260310T173917Z
UID:10003924-1773878400-1773964799@www.legionmemoriallibrary.org
SUMMARY:Let’s Laugh Day
DESCRIPTION:Let’s Laugh Day \n“Laughter is the language of the soul. A good laugh overcomes more difficulties and dissipates more dark clouds than any other one thing.” -Laura Ingalls Wilder
URL:https://www.legionmemoriallibrary.org/event/lets-laugh-day-2/
LOCATION:Legion Memorial Library\, 106 Iron Street\, Mellen\, WI\, 54546\, United States
GEO:46.32721;-90.658573
X-APPLE-STRUCTURED-LOCATION;VALUE=URI;X-ADDRESS=Legion Memorial Library 106 Iron Street Mellen WI 54546 United States;X-APPLE-RADIUS=500;X-TITLE=106 Iron Street:geo:-90.658573,46.32721
END:VEVENT
BEGIN:VEVENT
DTSTART;TZID=America/Chicago:20260318T160000
DTEND;TZID=America/Chicago:20260318T170000
DTSTAMP:20260421T124144
CREATED:20260302T180007Z
LAST-MODIFIED:20260302T180007Z
UID:10003945-1773849600-1773853200@www.legionmemoriallibrary.org
SUMMARY:Asahi Nordic Exercise
DESCRIPTION:
URL:https://www.legionmemoriallibrary.org/event/asahi-nordic-exercise-64/
LOCATION:Legion Memorial Library\, 106 Iron Street\, Mellen\, WI\, 54546\, United States
GEO:46.32721;-90.658573
X-APPLE-STRUCTURED-LOCATION;VALUE=URI;X-ADDRESS=Legion Memorial Library 106 Iron Street Mellen WI 54546 United States;X-APPLE-RADIUS=500;X-TITLE=106 Iron Street:geo:-90.658573,46.32721
END:VEVENT
BEGIN:VEVENT
DTSTART;VALUE=DATE:20260318
DTEND;VALUE=DATE:20260319
DTSTAMP:20260421T124144
CREATED:20260225T192219Z
LAST-MODIFIED:20260310T173948Z
UID:10003936-1773792000-1773878399@www.legionmemoriallibrary.org
SUMMARY:Transit Driver Appreciation Day
DESCRIPTION:Transit Driver Appreciation Day \n “Every stop is a story\, and every driver is a hero.” -Alex Rivera 
URL:https://www.legionmemoriallibrary.org/event/transit-driver-appreciation-day/
LOCATION:Legion Memorial Library\, 106 Iron Street\, Mellen\, WI\, 54546\, United States
GEO:46.32721;-90.658573
X-APPLE-STRUCTURED-LOCATION;VALUE=URI;X-ADDRESS=Legion Memorial Library 106 Iron Street Mellen WI 54546 United States;X-APPLE-RADIUS=500;X-TITLE=106 Iron Street:geo:-90.658573,46.32721
END:VEVENT
BEGIN:VEVENT
DTSTART;VALUE=DATE:20260317
DTEND;VALUE=DATE:20260318
DTSTAMP:20260421T124144
CREATED:20260225T181217Z
LAST-MODIFIED:20260310T185026Z
UID:10003923-1773705600-1773791999@www.legionmemoriallibrary.org
SUMMARY:World Social Work Day
DESCRIPTION:World Social Work Day “The role of a great social worker is to hold up a mirror to help people see their potential.” -Maria Lopez
URL:https://www.legionmemoriallibrary.org/event/world-socialwork-day/
LOCATION:Legion Memorial Library\, 106 Iron Street\, Mellen\, WI\, 54546\, United States
GEO:46.32721;-90.658573
X-APPLE-STRUCTURED-LOCATION;VALUE=URI;X-ADDRESS=Legion Memorial Library 106 Iron Street Mellen WI 54546 United States;X-APPLE-RADIUS=500;X-TITLE=106 Iron Street:geo:-90.658573,46.32721
END:VEVENT
BEGIN:VEVENT
DTSTART;VALUE=DATE:20260316
DTEND;VALUE=DATE:20260317
DTSTAMP:20260421T124144
CREATED:20260225T181107Z
LAST-MODIFIED:20260310T185153Z
UID:10003922-1773619200-1773705599@www.legionmemoriallibrary.org
SUMMARY:Freedom of Information Day
DESCRIPTION:Freedom of Information Day “But libraries are about freedom.  Freedom to read\, freedom of ideas\, freedom of communication. They are about education (which is not a process that finishes the day we leave school or university)\, about entertainment\, about making safe spaces\, and about access to information.” -Neil Gaiman
URL:https://www.legionmemoriallibrary.org/event/freedom-of-information-day/
LOCATION:Legion Memorial Library\, 106 Iron Street\, Mellen\, WI\, 54546\, United States
GEO:46.32721;-90.658573
X-APPLE-STRUCTURED-LOCATION;VALUE=URI;X-ADDRESS=Legion Memorial Library 106 Iron Street Mellen WI 54546 United States;X-APPLE-RADIUS=500;X-TITLE=106 Iron Street:geo:-90.658573,46.32721
END:VEVENT
BEGIN:VEVENT
DTSTART;VALUE=DATE:20260315
DTEND;VALUE=DATE:20260316
DTSTAMP:20260421T124144
CREATED:20260225T180831Z
LAST-MODIFIED:20260310T185223Z
UID:10003921-1773532800-1773619199@www.legionmemoriallibrary.org
SUMMARY:Pretzel Sunday
DESCRIPTION:Pretzel Sunday “Life is like a pretzel\, twist and turns make it beautiful.” -Unknown
URL:https://www.legionmemoriallibrary.org/event/pretzel-sunday/
LOCATION:Legion Memorial Library\, 106 Iron Street\, Mellen\, WI\, 54546\, United States
GEO:46.32721;-90.658573
X-APPLE-STRUCTURED-LOCATION;VALUE=URI;X-ADDRESS=Legion Memorial Library 106 Iron Street Mellen WI 54546 United States;X-APPLE-RADIUS=500;X-TITLE=106 Iron Street:geo:-90.658573,46.32721
END:VEVENT
BEGIN:VEVENT
DTSTART;VALUE=DATE:20260314
DTEND;VALUE=DATE:20260315
DTSTAMP:20260421T124144
CREATED:20260225T180715Z
LAST-MODIFIED:20260310T185321Z
UID:10003920-1773446400-1773532799@www.legionmemoriallibrary.org
SUMMARY:Pi Day 
DESCRIPTION:Pi Day “Pi is a constant that connects the infinite with the finite. It’s a number that gives meaning to the very fabric of the universe.” -Anonymous
URL:https://www.legionmemoriallibrary.org/event/pi-day/
LOCATION:Legion Memorial Library\, 106 Iron Street\, Mellen\, WI\, 54546\, United States
GEO:46.32721;-90.658573
X-APPLE-STRUCTURED-LOCATION;VALUE=URI;X-ADDRESS=Legion Memorial Library 106 Iron Street Mellen WI 54546 United States;X-APPLE-RADIUS=500;X-TITLE=106 Iron Street:geo:-90.658573,46.32721
END:VEVENT
BEGIN:VEVENT
DTSTART;VALUE=DATE:20260313
DTEND;VALUE=DATE:20260314
DTSTAMP:20260421T124144
CREATED:20260225T180620Z
LAST-MODIFIED:20260310T185414Z
UID:10003919-1773360000-1773446399@www.legionmemoriallibrary.org
SUMMARY:World Sleep Day
DESCRIPTION:World Sleep Day “If tonight my soul may find her peace in sleep\, and sink in good oblivion\, and in the morning wake like a new opened flower then I have been dipped again in God\, and new created.” -D.H. Lawrence
URL:https://www.legionmemoriallibrary.org/event/world-sleep-day/
LOCATION:Legion Memorial Library\, 106 Iron Street\, Mellen\, WI\, 54546\, United States
GEO:46.32721;-90.658573
X-APPLE-STRUCTURED-LOCATION;VALUE=URI;X-ADDRESS=Legion Memorial Library 106 Iron Street Mellen WI 54546 United States;X-APPLE-RADIUS=500;X-TITLE=106 Iron Street:geo:-90.658573,46.32721
END:VEVENT
BEGIN:VEVENT
DTSTART;TZID=America/Chicago:20260312T170000
DTEND;TZID=America/Chicago:20260312T180000
DTSTAMP:20260421T124144
CREATED:20260302T180615Z
LAST-MODIFIED:20260302T180615Z
UID:10003952-1773334800-1773338400@www.legionmemoriallibrary.org
SUMMARY:Friends of the Library Meeting
DESCRIPTION:
URL:https://www.legionmemoriallibrary.org/event/friends-of-the-library-meeting-20/
LOCATION:Legion Memorial Library\, 106 Iron Street\, Mellen\, WI\, 54546\, United States
GEO:46.32721;-90.658573
X-APPLE-STRUCTURED-LOCATION;VALUE=URI;X-ADDRESS=Legion Memorial Library 106 Iron Street Mellen WI 54546 United States;X-APPLE-RADIUS=500;X-TITLE=106 Iron Street:geo:-90.658573,46.32721
END:VEVENT
BEGIN:VEVENT
DTSTART;TZID=America/Chicago:20260312T153000
DTEND;TZID=America/Chicago:20260312T163000
DTSTAMP:20260421T124144
CREATED:20260302T151348Z
LAST-MODIFIED:20260302T151348Z
UID:10003940-1773329400-1773333000@www.legionmemoriallibrary.org
SUMMARY:Lego Club
DESCRIPTION:
URL:https://www.legionmemoriallibrary.org/event/lego-club-2/
LOCATION:Legion Memorial Library\, 106 Iron Street\, Mellen\, WI\, 54546\, United States
GEO:46.32721;-90.658573
X-APPLE-STRUCTURED-LOCATION;VALUE=URI;X-ADDRESS=Legion Memorial Library 106 Iron Street Mellen WI 54546 United States;X-APPLE-RADIUS=500;X-TITLE=106 Iron Street:geo:-90.658573,46.32721
END:VEVENT
BEGIN:VEVENT
DTSTART;TZID=America/Chicago:20260312T090000
DTEND;TZID=America/Chicago:20260312T100000
DTSTAMP:20260421T124144
CREATED:20260302T180530Z
LAST-MODIFIED:20260302T180530Z
UID:10003951-1773306000-1773309600@www.legionmemoriallibrary.org
SUMMARY:Storytime
DESCRIPTION:
URL:https://www.legionmemoriallibrary.org/event/storytime-10/
LOCATION:Legion Memorial Library\, 106 Iron Street\, Mellen\, WI\, 54546\, United States
GEO:46.32721;-90.658573
X-APPLE-STRUCTURED-LOCATION;VALUE=URI;X-ADDRESS=Legion Memorial Library 106 Iron Street Mellen WI 54546 United States;X-APPLE-RADIUS=500;X-TITLE=106 Iron Street:geo:-90.658573,46.32721
END:VEVENT
BEGIN:VEVENT
DTSTART;VALUE=DATE:20260312
DTEND;VALUE=DATE:20260313
DTSTAMP:20260421T124144
CREATED:20260302T180503Z
LAST-MODIFIED:20260302T180503Z
UID:10003950-1773273600-1773359999@www.legionmemoriallibrary.org
SUMMARY:LML's 99th Birthday
DESCRIPTION:
URL:https://www.legionmemoriallibrary.org/event/lmls-99th-birthday/
LOCATION:Legion Memorial Library\, 106 Iron Street\, Mellen\, WI\, 54546\, United States
GEO:46.32721;-90.658573
X-APPLE-STRUCTURED-LOCATION;VALUE=URI;X-ADDRESS=Legion Memorial Library 106 Iron Street Mellen WI 54546 United States;X-APPLE-RADIUS=500;X-TITLE=106 Iron Street:geo:-90.658573,46.32721
END:VEVENT
END:VCALENDAR