BEGIN:VCALENDAR
VERSION:2.0
PRODID:-//Legion Memorial Library - ECPv6.15.20//NONSGML v1.0//EN
CALSCALE:GREGORIAN
METHOD:PUBLISH
X-ORIGINAL-URL:https://www.legionmemoriallibrary.org
X-WR-CALDESC:Events for Legion Memorial Library
REFRESH-INTERVAL;VALUE=DURATION:PT1H
X-Robots-Tag:noindex
X-PUBLISHED-TTL:PT1H
BEGIN:VTIMEZONE
TZID:America/Chicago
BEGIN:DAYLIGHT
TZOFFSETFROM:-0600
TZOFFSETTO:-0500
TZNAME:CDT
DTSTART:20240310T080000
END:DAYLIGHT
BEGIN:STANDARD
TZOFFSETFROM:-0500
TZOFFSETTO:-0600
TZNAME:CST
DTSTART:20241103T070000
END:STANDARD
BEGIN:DAYLIGHT
TZOFFSETFROM:-0600
TZOFFSETTO:-0500
TZNAME:CDT
DTSTART:20250309T080000
END:DAYLIGHT
BEGIN:STANDARD
TZOFFSETFROM:-0500
TZOFFSETTO:-0600
TZNAME:CST
DTSTART:20251102T070000
END:STANDARD
BEGIN:DAYLIGHT
TZOFFSETFROM:-0600
TZOFFSETTO:-0500
TZNAME:CDT
DTSTART:20260308T080000
END:DAYLIGHT
BEGIN:STANDARD
TZOFFSETFROM:-0500
TZOFFSETTO:-0600
TZNAME:CST
DTSTART:20261101T070000
END:STANDARD
BEGIN:DAYLIGHT
TZOFFSETFROM:-0600
TZOFFSETTO:-0500
TZNAME:CDT
DTSTART:20270314T080000
END:DAYLIGHT
BEGIN:STANDARD
TZOFFSETFROM:-0500
TZOFFSETTO:-0600
TZNAME:CST
DTSTART:20271107T070000
END:STANDARD
END:VTIMEZONE
BEGIN:VEVENT
DTSTART;TZID=America/Chicago:20260121T090000
DTEND;TZID=America/Chicago:20260121T100000
DTSTAMP:20260421T194900
CREATED:20251222T202410Z
LAST-MODIFIED:20251222T202410Z
UID:10003851-1768986000-1768989600@www.legionmemoriallibrary.org
SUMMARY:Book Club
DESCRIPTION:Book Club will meet to discuss\, “The Midnight Library” by Matt Haig.
URL:https://www.legionmemoriallibrary.org/event/book-club-58/
LOCATION:Legion Memorial Library\, 106 Iron Street\, Mellen\, WI\, 54546\, United States
GEO:46.32721;-90.658573
X-APPLE-STRUCTURED-LOCATION;VALUE=URI;X-ADDRESS=Legion Memorial Library 106 Iron Street Mellen WI 54546 United States;X-APPLE-RADIUS=500;X-TITLE=106 Iron Street:geo:-90.658573,46.32721
END:VEVENT
BEGIN:VEVENT
DTSTART;VALUE=DATE:20260121
DTEND;VALUE=DATE:20260122
DTSTAMP:20260421T194900
CREATED:20251222T200950Z
LAST-MODIFIED:20251222T200950Z
UID:10003836-1768953600-1769039999@www.legionmemoriallibrary.org
SUMMARY:Hugging Day
DESCRIPTION:National Hugging Day \n“He was one of those guys who’d pronounce I’m a hugger as he came at you\, neglecting to ask if the feeling was mutual.”  Gillian Flynn\, Gone Girl
URL:https://www.legionmemoriallibrary.org/event/hugging-day/
LOCATION:Legion Memorial Library\, 106 Iron Street\, Mellen\, WI\, 54546\, United States
GEO:46.32721;-90.658573
X-APPLE-STRUCTURED-LOCATION;VALUE=URI;X-ADDRESS=Legion Memorial Library 106 Iron Street Mellen WI 54546 United States;X-APPLE-RADIUS=500;X-TITLE=106 Iron Street:geo:-90.658573,46.32721
END:VEVENT
BEGIN:VEVENT
DTSTART;VALUE=DATE:20260120
DTEND;VALUE=DATE:20260121
DTSTAMP:20260421T194900
CREATED:20251222T200904Z
LAST-MODIFIED:20251222T200904Z
UID:10003835-1768867200-1768953599@www.legionmemoriallibrary.org
SUMMARY:National Coffee Break Day
DESCRIPTION:National Coffee Break Day \n“Smell the roses.  Smell the coffee.  Whatever it is that makes you happy.”  Rita Moreno
URL:https://www.legionmemoriallibrary.org/event/national-coffee-break-day/
LOCATION:Legion Memorial Library\, 106 Iron Street\, Mellen\, WI\, 54546\, United States
GEO:46.32721;-90.658573
X-APPLE-STRUCTURED-LOCATION;VALUE=URI;X-ADDRESS=Legion Memorial Library 106 Iron Street Mellen WI 54546 United States;X-APPLE-RADIUS=500;X-TITLE=106 Iron Street:geo:-90.658573,46.32721
END:VEVENT
BEGIN:VEVENT
DTSTART;VALUE=DATE:20260119
DTEND;VALUE=DATE:20260120
DTSTAMP:20260421T194900
CREATED:20251222T200548Z
LAST-MODIFIED:20251222T200548Z
UID:10003834-1768780800-1768867199@www.legionmemoriallibrary.org
SUMMARY:Martin Luther King\, Jr. Day
DESCRIPTION:Martin Luther King\, Jr. Day \n“Darkness cannot drive out darkness; only light can do that.  Hate cannot drive out hate; only love can do that.”
URL:https://www.legionmemoriallibrary.org/event/martin-luther-king-jr-day-2/
LOCATION:Legion Memorial Library\, 106 Iron Street\, Mellen\, WI\, 54546\, United States
GEO:46.32721;-90.658573
X-APPLE-STRUCTURED-LOCATION;VALUE=URI;X-ADDRESS=Legion Memorial Library 106 Iron Street Mellen WI 54546 United States;X-APPLE-RADIUS=500;X-TITLE=106 Iron Street:geo:-90.658573,46.32721
END:VEVENT
BEGIN:VEVENT
DTSTART;VALUE=DATE:20260118
DTEND;VALUE=DATE:20260119
DTSTAMP:20260421T194900
CREATED:20251222T200454Z
LAST-MODIFIED:20251222T200454Z
UID:10003833-1768694400-1768780799@www.legionmemoriallibrary.org
SUMMARY:Thesaurus Day 
DESCRIPTION:National Thesaurus Day \n“The man is not wholly evil – he has a Thesaurus in his cabin.”  J.M. Barrie
URL:https://www.legionmemoriallibrary.org/event/thesaurus-day/
LOCATION:Legion Memorial Library\, 106 Iron Street\, Mellen\, WI\, 54546\, United States
GEO:46.32721;-90.658573
X-APPLE-STRUCTURED-LOCATION;VALUE=URI;X-ADDRESS=Legion Memorial Library 106 Iron Street Mellen WI 54546 United States;X-APPLE-RADIUS=500;X-TITLE=106 Iron Street:geo:-90.658573,46.32721
END:VEVENT
BEGIN:VEVENT
DTSTART;VALUE=DATE:20260117
DTEND;VALUE=DATE:20260118
DTSTAMP:20260421T194900
CREATED:20251222T200413Z
LAST-MODIFIED:20251222T200413Z
UID:10003832-1768608000-1768694399@www.legionmemoriallibrary.org
SUMMARY:Hot Buttered Rum Day
DESCRIPTION:National Hot Buttered Rum Day \n“Hot Buttered Rum:  The perfect potion to chase winter’s chill\, warming body and soul one spiced sip at a time.”
URL:https://www.legionmemoriallibrary.org/event/hot-buttered-rum-day-3/
LOCATION:Legion Memorial Library\, 106 Iron Street\, Mellen\, WI\, 54546\, United States
GEO:46.32721;-90.658573
X-APPLE-STRUCTURED-LOCATION;VALUE=URI;X-ADDRESS=Legion Memorial Library 106 Iron Street Mellen WI 54546 United States;X-APPLE-RADIUS=500;X-TITLE=106 Iron Street:geo:-90.658573,46.32721
END:VEVENT
BEGIN:VEVENT
DTSTART;VALUE=DATE:20260116
DTEND;VALUE=DATE:20260117
DTSTAMP:20260421T194900
CREATED:20251222T200309Z
LAST-MODIFIED:20251222T200309Z
UID:10003831-1768521600-1768607999@www.legionmemoriallibrary.org
SUMMARY:Appreciate a Dragon Day
DESCRIPTION:Appreciate a Dragon Day \n“Puff\, the Magic Dragon\, lived by the sea\, \nAnd frolicked in the Autumn Mist in a land called Honah Lee\, \nLittle Jacky Paper\, loved that rascal Puff\, \nAnd gave him strings and sealing wax and other fancy stuff.”  Peter Yarrow
URL:https://www.legionmemoriallibrary.org/event/appreciate-a-dragon-day/
LOCATION:Legion Memorial Library\, 106 Iron Street\, Mellen\, WI\, 54546\, United States
GEO:46.32721;-90.658573
X-APPLE-STRUCTURED-LOCATION;VALUE=URI;X-ADDRESS=Legion Memorial Library 106 Iron Street Mellen WI 54546 United States;X-APPLE-RADIUS=500;X-TITLE=106 Iron Street:geo:-90.658573,46.32721
END:VEVENT
BEGIN:VEVENT
DTSTART;VALUE=DATE:20260115
DTEND;VALUE=DATE:20260116
DTSTAMP:20260421T194900
CREATED:20251222T200228Z
LAST-MODIFIED:20251222T200228Z
UID:10003830-1768435200-1768521599@www.legionmemoriallibrary.org
SUMMARY:
DESCRIPTION:National Hat Day \n“The way you wear your hat\, \nThe way you sip your tea \nThe mem’ry of all that\, \nNo\, no!  They can’t take that away from me. \nIra Gershwin
URL:https://www.legionmemoriallibrary.org/event/11013/
LOCATION:Legion Memorial Library\, 106 Iron Street\, Mellen\, WI\, 54546\, United States
GEO:46.32721;-90.658573
X-APPLE-STRUCTURED-LOCATION;VALUE=URI;X-ADDRESS=Legion Memorial Library 106 Iron Street Mellen WI 54546 United States;X-APPLE-RADIUS=500;X-TITLE=106 Iron Street:geo:-90.658573,46.32721
END:VEVENT
BEGIN:VEVENT
DTSTART;TZID=America/Chicago:20260114T160000
DTEND;TZID=America/Chicago:20260114T170000
DTSTAMP:20260421T194900
CREATED:20251222T202603Z
LAST-MODIFIED:20251222T202603Z
UID:10003854-1768406400-1768410000@www.legionmemoriallibrary.org
SUMMARY:Asahi Nordic Exercise
DESCRIPTION:
URL:https://www.legionmemoriallibrary.org/event/asahi-nordic-exercise-55/
LOCATION:Legion Memorial Library\, 106 Iron Street\, Mellen\, WI\, 54546\, United States
GEO:46.32721;-90.658573
X-APPLE-STRUCTURED-LOCATION;VALUE=URI;X-ADDRESS=Legion Memorial Library 106 Iron Street Mellen WI 54546 United States;X-APPLE-RADIUS=500;X-TITLE=106 Iron Street:geo:-90.658573,46.32721
END:VEVENT
BEGIN:VEVENT
DTSTART;VALUE=DATE:20260114
DTEND;VALUE=DATE:20260115
DTSTAMP:20260421T194900
CREATED:20251222T200038Z
LAST-MODIFIED:20251222T200038Z
UID:10003829-1768348800-1768435199@www.legionmemoriallibrary.org
SUMMARY:Dress Up Your Pet Day
DESCRIPTION:National Dress Up Your Pet Day \nIf interested\, post photos of your pets all dolled up with #DressUpYourPetDay on social media
URL:https://www.legionmemoriallibrary.org/event/dress-up-your-pet-day/
LOCATION:Legion Memorial Library\, 106 Iron Street\, Mellen\, WI\, 54546\, United States
GEO:46.32721;-90.658573
X-APPLE-STRUCTURED-LOCATION;VALUE=URI;X-ADDRESS=Legion Memorial Library 106 Iron Street Mellen WI 54546 United States;X-APPLE-RADIUS=500;X-TITLE=106 Iron Street:geo:-90.658573,46.32721
END:VEVENT
BEGIN:VEVENT
DTSTART;VALUE=DATE:20260113
DTEND;VALUE=DATE:20260114
DTSTAMP:20260421T194900
CREATED:20251222T195925Z
LAST-MODIFIED:20251222T195925Z
UID:10003828-1768262400-1768348799@www.legionmemoriallibrary.org
SUMMARY:Make Your Dreams Come True Day 
DESCRIPTION:Make Your Dreams Come True Day \n“Dreams don’t work unless you take action.  The surest way to make your dreams come true is to live them.”  Roy T. Bennett
URL:https://www.legionmemoriallibrary.org/event/make-your-dreams-come-true-day/
LOCATION:Legion Memorial Library\, 106 Iron Street\, Mellen\, WI\, 54546\, United States
GEO:46.32721;-90.658573
X-APPLE-STRUCTURED-LOCATION;VALUE=URI;X-ADDRESS=Legion Memorial Library 106 Iron Street Mellen WI 54546 United States;X-APPLE-RADIUS=500;X-TITLE=106 Iron Street:geo:-90.658573,46.32721
END:VEVENT
BEGIN:VEVENT
DTSTART;TZID=America/Chicago:20260112T180000
DTEND;TZID=America/Chicago:20260112T190000
DTSTAMP:20260421T194900
CREATED:20251222T202207Z
LAST-MODIFIED:20251222T202207Z
UID:10003849-1768240800-1768244400@www.legionmemoriallibrary.org
SUMMARY:Book Club
DESCRIPTION:Book Club will discuss\, “We All Are Welcome Here” by Jojo Moyes.
URL:https://www.legionmemoriallibrary.org/event/book-club-57/
LOCATION:Legion Memorial Library\, 106 Iron Street\, Mellen\, WI\, 54546\, United States
GEO:46.32721;-90.658573
X-APPLE-STRUCTURED-LOCATION;VALUE=URI;X-ADDRESS=Legion Memorial Library 106 Iron Street Mellen WI 54546 United States;X-APPLE-RADIUS=500;X-TITLE=106 Iron Street:geo:-90.658573,46.32721
END:VEVENT
BEGIN:VEVENT
DTSTART;TZID=America/Chicago:20260112T090000
DTEND;TZID=America/Chicago:20260112T120000
DTSTAMP:20260421T194900
CREATED:20251222T202106Z
LAST-MODIFIED:20251222T202106Z
UID:10003848-1768208400-1768219200@www.legionmemoriallibrary.org
SUMMARY:Elder Benefit Specialist
DESCRIPTION:
URL:https://www.legionmemoriallibrary.org/event/elder-benefit-specialist-4/
LOCATION:Legion Memorial Library\, 106 Iron Street\, Mellen\, WI\, 54546\, United States
GEO:46.32721;-90.658573
X-APPLE-STRUCTURED-LOCATION;VALUE=URI;X-ADDRESS=Legion Memorial Library 106 Iron Street Mellen WI 54546 United States;X-APPLE-RADIUS=500;X-TITLE=106 Iron Street:geo:-90.658573,46.32721
END:VEVENT
BEGIN:VEVENT
DTSTART;VALUE=DATE:20260112
DTEND;VALUE=DATE:20260113
DTSTAMP:20260421T194900
CREATED:20251222T195826Z
LAST-MODIFIED:20251222T195826Z
UID:10003827-1768176000-1768262399@www.legionmemoriallibrary.org
SUMMARY:Hot Tea Day 
DESCRIPTION:National Hot Tea Day \n“Rainy days should be spent at home with a cup of tea and a good book.”  Bill Watterson\, The Calvin and Hobbes Tenth Anniversary Book
URL:https://www.legionmemoriallibrary.org/event/hot-tea-day-2/
LOCATION:Legion Memorial Library\, 106 Iron Street\, Mellen\, WI\, 54546\, United States
GEO:46.32721;-90.658573
X-APPLE-STRUCTURED-LOCATION;VALUE=URI;X-ADDRESS=Legion Memorial Library 106 Iron Street Mellen WI 54546 United States;X-APPLE-RADIUS=500;X-TITLE=106 Iron Street:geo:-90.658573,46.32721
END:VEVENT
BEGIN:VEVENT
DTSTART;VALUE=DATE:20260111
DTEND;VALUE=DATE:20260112
DTSTAMP:20260421T194900
CREATED:20251222T195730Z
LAST-MODIFIED:20251222T195730Z
UID:10003826-1768089600-1768175999@www.legionmemoriallibrary.org
SUMMARY:Learn Your Name in Morse Code Day
DESCRIPTION:Learn Your Name in Morse Code Day  “I would imagine that if you could understand Morse code\, a tap dancer would drive you crazy.”  Mitch Hedberg
URL:https://www.legionmemoriallibrary.org/event/learn-your-name-in-morse-code-day/
LOCATION:Legion Memorial Library\, 106 Iron Street\, Mellen\, WI\, 54546\, United States
GEO:46.32721;-90.658573
X-APPLE-STRUCTURED-LOCATION;VALUE=URI;X-ADDRESS=Legion Memorial Library 106 Iron Street Mellen WI 54546 United States;X-APPLE-RADIUS=500;X-TITLE=106 Iron Street:geo:-90.658573,46.32721
END:VEVENT
BEGIN:VEVENT
DTSTART;VALUE=DATE:20260110
DTEND;VALUE=DATE:20260111
DTSTAMP:20260421T194900
CREATED:20251222T195649Z
LAST-MODIFIED:20251222T195649Z
UID:10003825-1768003200-1768089599@www.legionmemoriallibrary.org
SUMMARY:Houseplant Appreciation Day 
DESCRIPTION:Houseplant Appreciation Day \n“A houseplant is a silent friend that offers companionship without demand.”
URL:https://www.legionmemoriallibrary.org/event/houseplant-appreciation-day/
LOCATION:Legion Memorial Library\, 106 Iron Street\, Mellen\, WI\, 54546\, United States
GEO:46.32721;-90.658573
X-APPLE-STRUCTURED-LOCATION;VALUE=URI;X-ADDRESS=Legion Memorial Library 106 Iron Street Mellen WI 54546 United States;X-APPLE-RADIUS=500;X-TITLE=106 Iron Street:geo:-90.658573,46.32721
END:VEVENT
BEGIN:VEVENT
DTSTART;VALUE=DATE:20260109
DTEND;VALUE=DATE:20260110
DTSTAMP:20260421T194900
CREATED:20251222T195602Z
LAST-MODIFIED:20251222T195602Z
UID:10003824-1767916800-1768003199@www.legionmemoriallibrary.org
SUMMARY:Law Enforcement Appreciation Day
DESCRIPTION:National Law Enforcement Appreciation Day \n“You may never need them\, but if you do\, they’ll be there.  It’s that bedrock promise of protection that makes our public safety officials the unsung heroes that they are.”  Ajit Pai
URL:https://www.legionmemoriallibrary.org/event/law-enforcement-appreciation-day/
LOCATION:Legion Memorial Library\, 106 Iron Street\, Mellen\, WI\, 54546\, United States
GEO:46.32721;-90.658573
X-APPLE-STRUCTURED-LOCATION;VALUE=URI;X-ADDRESS=Legion Memorial Library 106 Iron Street Mellen WI 54546 United States;X-APPLE-RADIUS=500;X-TITLE=106 Iron Street:geo:-90.658573,46.32721
END:VEVENT
BEGIN:VEVENT
DTSTART;TZID=America/Chicago:20260108T170000
DTEND;TZID=America/Chicago:20260108T170000
DTSTAMP:20260421T194900
CREATED:20251222T202022Z
LAST-MODIFIED:20251222T202022Z
UID:10003847-1767891600-1767891600@www.legionmemoriallibrary.org
SUMMARY:Friends of the Library Meeting
DESCRIPTION:
URL:https://www.legionmemoriallibrary.org/event/friends-of-the-library-meeting-18/
LOCATION:Legion Memorial Library\, 106 Iron Street\, Mellen\, WI\, 54546\, United States
GEO:46.32721;-90.658573
X-APPLE-STRUCTURED-LOCATION;VALUE=URI;X-ADDRESS=Legion Memorial Library 106 Iron Street Mellen WI 54546 United States;X-APPLE-RADIUS=500;X-TITLE=106 Iron Street:geo:-90.658573,46.32721
END:VEVENT
BEGIN:VEVENT
DTSTART;VALUE=DATE:20260108
DTEND;VALUE=DATE:20260109
DTSTAMP:20260421T194900
CREATED:20251222T195513Z
LAST-MODIFIED:20251222T195513Z
UID:10003823-1767830400-1767916799@www.legionmemoriallibrary.org
SUMMARY:Argyle Day
DESCRIPTION:National Argyle Day \nThe tartan of the Clan of Campbell of Argyll in Scotland is where the argyle pattern originated.  The design was used on the kilts worn by the Scottish Highlanders.
URL:https://www.legionmemoriallibrary.org/event/argyle-day/
LOCATION:Legion Memorial Library\, 106 Iron Street\, Mellen\, WI\, 54546\, United States
GEO:46.32721;-90.658573
X-APPLE-STRUCTURED-LOCATION;VALUE=URI;X-ADDRESS=Legion Memorial Library 106 Iron Street Mellen WI 54546 United States;X-APPLE-RADIUS=500;X-TITLE=106 Iron Street:geo:-90.658573,46.32721
END:VEVENT
BEGIN:VEVENT
DTSTART;TZID=America/Chicago:20260107T160000
DTEND;TZID=America/Chicago:20260107T170000
DTSTAMP:20260421T194900
CREATED:20251222T202537Z
LAST-MODIFIED:20251222T202537Z
UID:10003853-1767801600-1767805200@www.legionmemoriallibrary.org
SUMMARY:Asahi Nordic Exercise
DESCRIPTION:
URL:https://www.legionmemoriallibrary.org/event/asahi-nordic-exercise-51/
LOCATION:Legion Memorial Library\, 106 Iron Street\, Mellen\, WI\, 54546\, United States
GEO:46.32721;-90.658573
X-APPLE-STRUCTURED-LOCATION;VALUE=URI;X-ADDRESS=Legion Memorial Library 106 Iron Street Mellen WI 54546 United States;X-APPLE-RADIUS=500;X-TITLE=106 Iron Street:geo:-90.658573,46.32721
END:VEVENT
BEGIN:VEVENT
DTSTART;VALUE=DATE:20260107
DTEND;VALUE=DATE:20260108
DTSTAMP:20260421T194900
CREATED:20251222T195419Z
LAST-MODIFIED:20251222T195419Z
UID:10003822-1767744000-1767830399@www.legionmemoriallibrary.org
SUMMARY:National Bobblehead Day
DESCRIPTION:National Bobblehead Day  The National Bobblehead Hall of Fame and Museum is located in Milwaukee\, Wisconsin.
URL:https://www.legionmemoriallibrary.org/event/national-bobblehead-day-2/
LOCATION:Legion Memorial Library\, 106 Iron Street\, Mellen\, WI\, 54546\, United States
GEO:46.32721;-90.658573
X-APPLE-STRUCTURED-LOCATION;VALUE=URI;X-ADDRESS=Legion Memorial Library 106 Iron Street Mellen WI 54546 United States;X-APPLE-RADIUS=500;X-TITLE=106 Iron Street:geo:-90.658573,46.32721
END:VEVENT
BEGIN:VEVENT
DTSTART;VALUE=DATE:20260106
DTEND;VALUE=DATE:20260107
DTSTAMP:20260421T194900
CREATED:20251222T195326Z
LAST-MODIFIED:20251222T195326Z
UID:10003821-1767657600-1767743999@www.legionmemoriallibrary.org
SUMMARY:Cuddle Up Day
DESCRIPTION:Cuddle Up Day  “Petting and scratching and cuddling a dog could be as soothing to the mind and heart ad deep meditation and almost as good for the soul as prayer.”  Dean Koontz
URL:https://www.legionmemoriallibrary.org/event/cuddle-up-day/
LOCATION:Legion Memorial Library\, 106 Iron Street\, Mellen\, WI\, 54546\, United States
GEO:46.32721;-90.658573
X-APPLE-STRUCTURED-LOCATION;VALUE=URI;X-ADDRESS=Legion Memorial Library 106 Iron Street Mellen WI 54546 United States;X-APPLE-RADIUS=500;X-TITLE=106 Iron Street:geo:-90.658573,46.32721
END:VEVENT
BEGIN:VEVENT
DTSTART;VALUE=DATE:20260105
DTEND;VALUE=DATE:20260106
DTSTAMP:20260421T194900
CREATED:20251222T195249Z
LAST-MODIFIED:20251222T195249Z
UID:10003820-1767571200-1767657599@www.legionmemoriallibrary.org
SUMMARY:Bird Day
DESCRIPTION:National Bird Day  “Pan\, who and what art thou?” he cried huskily.  “I’m youth\, I’m joy\,” Peter answered at a venture\, “I’m a little bird that has broken out of the egg.”  J.M. Berrie\, Peter Pan
URL:https://www.legionmemoriallibrary.org/event/bird-day/
LOCATION:Legion Memorial Library\, 106 Iron Street\, Mellen\, WI\, 54546\, United States
GEO:46.32721;-90.658573
X-APPLE-STRUCTURED-LOCATION;VALUE=URI;X-ADDRESS=Legion Memorial Library 106 Iron Street Mellen WI 54546 United States;X-APPLE-RADIUS=500;X-TITLE=106 Iron Street:geo:-90.658573,46.32721
END:VEVENT
BEGIN:VEVENT
DTSTART;VALUE=DATE:20260104
DTEND;VALUE=DATE:20260105
DTSTAMP:20260421T194900
CREATED:20251222T195155Z
LAST-MODIFIED:20251222T195155Z
UID:10003819-1767484800-1767571199@www.legionmemoriallibrary.org
SUMMARY:World Braille Day
DESCRIPTION:World Braille Day  “There is a wonder in reading in Braille that the sighted will never know: to touch words and have them touch you back.” Jim Fiebig
URL:https://www.legionmemoriallibrary.org/event/world-braille-day/
LOCATION:Legion Memorial Library\, 106 Iron Street\, Mellen\, WI\, 54546\, United States
GEO:46.32721;-90.658573
X-APPLE-STRUCTURED-LOCATION;VALUE=URI;X-ADDRESS=Legion Memorial Library 106 Iron Street Mellen WI 54546 United States;X-APPLE-RADIUS=500;X-TITLE=106 Iron Street:geo:-90.658573,46.32721
END:VEVENT
BEGIN:VEVENT
DTSTART;VALUE=DATE:20260103
DTEND;VALUE=DATE:20260104
DTSTAMP:20260421T194900
CREATED:20251222T195117Z
LAST-MODIFIED:20251222T195117Z
UID:10003818-1767398400-1767484799@www.legionmemoriallibrary.org
SUMMARY:J.R.R.Tolkien Day
DESCRIPTION:J.R.R.Tolkien Day  “If more of us valued food and cheer and song above hoarded gold\, it would be a merrier world.”  J.R.R. Tolkien
URL:https://www.legionmemoriallibrary.org/event/j-r-r-tolkien-day/
LOCATION:Legion Memorial Library\, 106 Iron Street\, Mellen\, WI\, 54546\, United States
GEO:46.32721;-90.658573
X-APPLE-STRUCTURED-LOCATION;VALUE=URI;X-ADDRESS=Legion Memorial Library 106 Iron Street Mellen WI 54546 United States;X-APPLE-RADIUS=500;X-TITLE=106 Iron Street:geo:-90.658573,46.32721
END:VEVENT
BEGIN:VEVENT
DTSTART;VALUE=DATE:20260102
DTEND;VALUE=DATE:20260103
DTSTAMP:20260421T194900
CREATED:20251222T195012Z
LAST-MODIFIED:20251222T195012Z
UID:10003817-1767312000-1767398399@www.legionmemoriallibrary.org
SUMMARY:Science Fiction Day
DESCRIPTION:National Science Fiction Day  “Isn’t that what it means to be a scientist?  To push the boundaries of the unknown?  To bravely\, actively explore the enormity of our universe?”  Robyn Mundell\, Brainwalker
URL:https://www.legionmemoriallibrary.org/event/science-fiction-day/
LOCATION:Legion Memorial Library\, 106 Iron Street\, Mellen\, WI\, 54546\, United States
GEO:46.32721;-90.658573
X-APPLE-STRUCTURED-LOCATION;VALUE=URI;X-ADDRESS=Legion Memorial Library 106 Iron Street Mellen WI 54546 United States;X-APPLE-RADIUS=500;X-TITLE=106 Iron Street:geo:-90.658573,46.32721
END:VEVENT
BEGIN:VEVENT
DTSTART;VALUE=DATE:20260101
DTEND;VALUE=DATE:20260102
DTSTAMP:20260421T194900
CREATED:20251222T194934Z
LAST-MODIFIED:20251222T194934Z
UID:10003816-1767225600-1767311999@www.legionmemoriallibrary.org
SUMMARY:World Day of Peace
DESCRIPTION:World Day of Peace \nWorld Peace Day is envisioned to become of moment of global unity – it is up to each and everyone of us to make this a reality”  Jeremy Gilley
URL:https://www.legionmemoriallibrary.org/event/world-day-of-peace/
LOCATION:Legion Memorial Library\, 106 Iron Street\, Mellen\, WI\, 54546\, United States
GEO:46.32721;-90.658573
X-APPLE-STRUCTURED-LOCATION;VALUE=URI;X-ADDRESS=Legion Memorial Library 106 Iron Street Mellen WI 54546 United States;X-APPLE-RADIUS=500;X-TITLE=106 Iron Street:geo:-90.658573,46.32721
END:VEVENT
BEGIN:VEVENT
DTSTART;VALUE=DATE:20260101
DTEND;VALUE=DATE:20260102
DTSTAMP:20260421T194900
CREATED:20251201T161446Z
LAST-MODIFIED:20251201T161446Z
UID:10003783-1767225600-1767311999@www.legionmemoriallibrary.org
SUMMARY:New Year's Day-Library Closed
DESCRIPTION:
URL:https://www.legionmemoriallibrary.org/event/new-years-day-library-closed/
LOCATION:Legion Memorial Library\, 106 Iron Street\, Mellen\, WI\, 54546\, United States
GEO:46.32721;-90.658573
X-APPLE-STRUCTURED-LOCATION;VALUE=URI;X-ADDRESS=Legion Memorial Library 106 Iron Street Mellen WI 54546 United States;X-APPLE-RADIUS=500;X-TITLE=106 Iron Street:geo:-90.658573,46.32721
END:VEVENT
BEGIN:VEVENT
DTSTART;VALUE=DATE:20251231
DTEND;VALUE=DATE:20260101
DTSTAMP:20260421T194900
CREATED:20251201T163955Z
LAST-MODIFIED:20251201T163955Z
UID:10003813-1767139200-1767225599@www.legionmemoriallibrary.org
SUMMARY:Make Up Your Mind Day
DESCRIPTION:
URL:https://www.legionmemoriallibrary.org/event/make-up-your-mind-day/
LOCATION:Legion Memorial Library\, 106 Iron Street\, Mellen\, WI\, 54546\, United States
GEO:46.32721;-90.658573
X-APPLE-STRUCTURED-LOCATION;VALUE=URI;X-ADDRESS=Legion Memorial Library 106 Iron Street Mellen WI 54546 United States;X-APPLE-RADIUS=500;X-TITLE=106 Iron Street:geo:-90.658573,46.32721
END:VEVENT
BEGIN:VEVENT
DTSTART;VALUE=DATE:20251231
DTEND;VALUE=DATE:20260101
DTSTAMP:20260421T194900
CREATED:20251201T161404Z
LAST-MODIFIED:20251201T161404Z
UID:10003782-1767139200-1767225599@www.legionmemoriallibrary.org
SUMMARY:New Year's Eve-Library Closed
DESCRIPTION:
URL:https://www.legionmemoriallibrary.org/event/new-years-eve-library-closed/
LOCATION:Legion Memorial Library\, 106 Iron Street\, Mellen\, WI\, 54546\, United States
GEO:46.32721;-90.658573
X-APPLE-STRUCTURED-LOCATION;VALUE=URI;X-ADDRESS=Legion Memorial Library 106 Iron Street Mellen WI 54546 United States;X-APPLE-RADIUS=500;X-TITLE=106 Iron Street:geo:-90.658573,46.32721
END:VEVENT
END:VCALENDAR