BEGIN:VCALENDAR
VERSION:2.0
PRODID:-//Legion Memorial Library - ECPv6.15.20//NONSGML v1.0//EN
CALSCALE:GREGORIAN
METHOD:PUBLISH
X-ORIGINAL-URL:https://www.legionmemoriallibrary.org
X-WR-CALDESC:Events for Legion Memorial Library
REFRESH-INTERVAL;VALUE=DURATION:PT1H
X-Robots-Tag:noindex
X-PUBLISHED-TTL:PT1H
BEGIN:VTIMEZONE
TZID:America/Chicago
BEGIN:DAYLIGHT
TZOFFSETFROM:-0600
TZOFFSETTO:-0500
TZNAME:CDT
DTSTART:20240310T080000
END:DAYLIGHT
BEGIN:STANDARD
TZOFFSETFROM:-0500
TZOFFSETTO:-0600
TZNAME:CST
DTSTART:20241103T070000
END:STANDARD
BEGIN:DAYLIGHT
TZOFFSETFROM:-0600
TZOFFSETTO:-0500
TZNAME:CDT
DTSTART:20250309T080000
END:DAYLIGHT
BEGIN:STANDARD
TZOFFSETFROM:-0500
TZOFFSETTO:-0600
TZNAME:CST
DTSTART:20251102T070000
END:STANDARD
BEGIN:DAYLIGHT
TZOFFSETFROM:-0600
TZOFFSETTO:-0500
TZNAME:CDT
DTSTART:20260308T080000
END:DAYLIGHT
BEGIN:STANDARD
TZOFFSETFROM:-0500
TZOFFSETTO:-0600
TZNAME:CST
DTSTART:20261101T070000
END:STANDARD
END:VTIMEZONE
BEGIN:VEVENT
DTSTART;VALUE=DATE:20250602
DTEND;VALUE=DATE:20250603
DTSTAMP:20260423T174308
CREATED:20250522T174829Z
LAST-MODIFIED:20250522T174829Z
UID:10003343-1748822400-1748908799@www.legionmemoriallibrary.org
SUMMARY:Summer Reading Begings
DESCRIPTION:The Summer Reading theme is “Color Our World”.  Start recording reading points for patches & medals on Monday\, June 2nd through August 30th.  For each 25 points you may pick a patch and when you earn 50 points you’ll receive your 2025 Summer Reading Medal. Pick up a Summer Reading Brochure with a list of additional events and activities.  In person programming will take place for six weeks for the Middles (Grades 1-5) and the Littles (3-5 years old).  The dates for the Middles are Tuesday mornings at 10:30 am: June 17 & 24\, July 1\, 8\, 15\, and 22.  The dates for the Littles are Thursday mornings at 9am: June 19 & 26\, July 3\, 10\, 17\, and 24.  There are contests and paint opportunities for our Teens in addition to reading points for patches & a medal.  Adult programming includes a monthly paint night\, book club discussion\, and movie night.  During these six weeks\, June 16-July 26\, visit the library and participate in a weekly drawing for a movie gift certificate.  Stop by the library and pick up a paint palette sheet or bookmark according to your age grouping.  There are library & reading related challenges listed.  Complete the challenges and return the sheet or bookmark to the library to be entered into the drawing for a gift certificate to the Ashland Bay Cinema.  Drawing entries will start fresh each week.
URL:https://www.legionmemoriallibrary.org/event/summer-reading-begings/
LOCATION:Legion Memorial Library\, 106 Iron Street\, Mellen\, WI\, 54546\, United States
GEO:46.32721;-90.658573
X-APPLE-STRUCTURED-LOCATION;VALUE=URI;X-ADDRESS=Legion Memorial Library 106 Iron Street Mellen WI 54546 United States;X-APPLE-RADIUS=500;X-TITLE=106 Iron Street:geo:-90.658573,46.32721
END:VEVENT
BEGIN:VEVENT
DTSTART;VALUE=DATE:20250602
DTEND;VALUE=DATE:20250603
DTSTAMP:20260423T174308
CREATED:20250522T155452Z
LAST-MODIFIED:20250522T155452Z
UID:10003315-1748822400-1748908799@www.legionmemoriallibrary.org
SUMMARY:Rotisserie Chicken Day
DESCRIPTION:National Rotisserie Chicken Day \n“Classics can be phenomenal when done right. A simple roast chicken dish could be the best thing you ever eat.” —Joe Bastianich
URL:https://www.legionmemoriallibrary.org/event/rotisserie-chicken-day/
LOCATION:Legion Memorial Library\, 106 Iron Street\, Mellen\, WI\, 54546\, United States
GEO:46.32721;-90.658573
X-APPLE-STRUCTURED-LOCATION;VALUE=URI;X-ADDRESS=Legion Memorial Library 106 Iron Street Mellen WI 54546 United States;X-APPLE-RADIUS=500;X-TITLE=106 Iron Street:geo:-90.658573,46.32721
END:VEVENT
BEGIN:VEVENT
DTSTART;VALUE=DATE:20250601
DTEND;VALUE=DATE:20250602
DTSTAMP:20260423T174308
CREATED:20250522T154810Z
LAST-MODIFIED:20250522T154810Z
UID:10003314-1748736000-1748822399@www.legionmemoriallibrary.org
SUMMARY:Go Barefoot Day
DESCRIPTION:Go Barefoot Day \n“If I can be somewhere with sunshine and have bare feet and a book\, I’m happy.” KT Tunstall
URL:https://www.legionmemoriallibrary.org/event/go-barefoot-day/
LOCATION:Legion Memorial Library\, 106 Iron Street\, Mellen\, WI\, 54546\, United States
GEO:46.32721;-90.658573
X-APPLE-STRUCTURED-LOCATION;VALUE=URI;X-ADDRESS=Legion Memorial Library 106 Iron Street Mellen WI 54546 United States;X-APPLE-RADIUS=500;X-TITLE=106 Iron Street:geo:-90.658573,46.32721
END:VEVENT
BEGIN:VEVENT
DTSTART;VALUE=DATE:20250531
DTEND;VALUE=DATE:20250601
DTSTAMP:20260423T174308
CREATED:20250416T152030Z
LAST-MODIFIED:20250416T152030Z
UID:10003232-1748649600-1748735999@www.legionmemoriallibrary.org
SUMMARY:Macaroon Day
DESCRIPTION:National Macaroon Day \n“I make a mean Coconut Macaroon.” —Melissa McCarthy
URL:https://www.legionmemoriallibrary.org/event/macaroon-day-2/
LOCATION:Legion Memorial Library\, 106 Iron Street\, Mellen\, WI\, 54546\, United States
GEO:46.32721;-90.658573
X-APPLE-STRUCTURED-LOCATION;VALUE=URI;X-ADDRESS=Legion Memorial Library 106 Iron Street Mellen WI 54546 United States;X-APPLE-RADIUS=500;X-TITLE=106 Iron Street:geo:-90.658573,46.32721
END:VEVENT
BEGIN:VEVENT
DTSTART;TZID=America/Chicago:20250530T180000
DTEND;TZID=America/Chicago:20250530T210000
DTSTAMP:20260423T174308
CREATED:20250416T154410Z
LAST-MODIFIED:20250416T154410Z
UID:10003241-1748628000-1748638800@www.legionmemoriallibrary.org
SUMMARY:Paint Night
DESCRIPTION:We will paint along with The Art Sherpa to create “Little Boy Fishing on Pier”.  Call or stop by the library to register and receive the supply list.
URL:https://www.legionmemoriallibrary.org/event/paint-night-7/
LOCATION:Legion Memorial Library\, 106 Iron Street\, Mellen\, WI\, 54546\, United States
GEO:46.32721;-90.658573
X-APPLE-STRUCTURED-LOCATION;VALUE=URI;X-ADDRESS=Legion Memorial Library 106 Iron Street Mellen WI 54546 United States;X-APPLE-RADIUS=500;X-TITLE=106 Iron Street:geo:-90.658573,46.32721
END:VEVENT
BEGIN:VEVENT
DTSTART;VALUE=DATE:20250530
DTEND;VALUE=DATE:20250531
DTSTAMP:20260423T174308
CREATED:20250416T151948Z
LAST-MODIFIED:20250416T151948Z
UID:10003231-1748563200-1748649599@www.legionmemoriallibrary.org
SUMMARY:Mint Julep Day
DESCRIPTION:National Mint Julep Day \n“and I’ll make you a Mint Julep. Then you won’t seem so stupid to yourself…” —F. Scott Fitzgerald (The Great Gatsby)
URL:https://www.legionmemoriallibrary.org/event/mint-julep-day-2/
LOCATION:Legion Memorial Library\, 106 Iron Street\, Mellen\, WI\, 54546\, United States
GEO:46.32721;-90.658573
X-APPLE-STRUCTURED-LOCATION;VALUE=URI;X-ADDRESS=Legion Memorial Library 106 Iron Street Mellen WI 54546 United States;X-APPLE-RADIUS=500;X-TITLE=106 Iron Street:geo:-90.658573,46.32721
END:VEVENT
BEGIN:VEVENT
DTSTART;VALUE=DATE:20250529
DTEND;VALUE=DATE:20250530
DTSTAMP:20260423T174308
CREATED:20250416T151903Z
LAST-MODIFIED:20250416T151903Z
UID:10003230-1748476800-1748563199@www.legionmemoriallibrary.org
SUMMARY:Biscuit Day
DESCRIPTION:National Biscuit Day \n“Biscuits are sweet things in Britain\, and apparently in America a biscuit is something like a scone\, something savory that you’d have with soup.” —Mini Grey
URL:https://www.legionmemoriallibrary.org/event/biscuit-day-3/
LOCATION:Legion Memorial Library\, 106 Iron Street\, Mellen\, WI\, 54546\, United States
GEO:46.32721;-90.658573
X-APPLE-STRUCTURED-LOCATION;VALUE=URI;X-ADDRESS=Legion Memorial Library 106 Iron Street Mellen WI 54546 United States;X-APPLE-RADIUS=500;X-TITLE=106 Iron Street:geo:-90.658573,46.32721
END:VEVENT
BEGIN:VEVENT
DTSTART;TZID=America/Chicago:20250528T160000
DTEND;TZID=America/Chicago:20250528T170000
DTSTAMP:20260423T174308
CREATED:20250416T153804Z
LAST-MODIFIED:20250416T153804Z
UID:10003237-1748448000-1748451600@www.legionmemoriallibrary.org
SUMMARY:Asahi Nordic Exercise
DESCRIPTION:Asahi Nordic Exercise meets weekly on Wednesdays at 4pm here at the Mellen Library.  Join us for this “A Simple And Healthy Idea” gathering.  No special equipment needed.  The focus is on movement\, breathing\, and balance.  We have been doing the exercises while standing.  You may choose to do exercises from a chair.  There is no need for a mat or getting up and down from the floor.  Come and see if this is something that would be a good fit for you.
URL:https://www.legionmemoriallibrary.org/event/asahi-nordic-exercise-41/
LOCATION:Legion Memorial Library\, 106 Iron Street\, Mellen\, WI\, 54546\, United States
GEO:46.32721;-90.658573
X-APPLE-STRUCTURED-LOCATION;VALUE=URI;X-ADDRESS=Legion Memorial Library 106 Iron Street Mellen WI 54546 United States;X-APPLE-RADIUS=500;X-TITLE=106 Iron Street:geo:-90.658573,46.32721
END:VEVENT
BEGIN:VEVENT
DTSTART;VALUE=DATE:20250528
DTEND;VALUE=DATE:20250529
DTSTAMP:20260423T174308
CREATED:20250416T151827Z
LAST-MODIFIED:20250416T151827Z
UID:10003229-1748390400-1748476799@www.legionmemoriallibrary.org
SUMMARY:Brisket Day
DESCRIPTION:National Brisket Day \n“Brisket will improve your life.” —Stephanie Pierson
URL:https://www.legionmemoriallibrary.org/event/brisket-day-2/
LOCATION:Legion Memorial Library\, 106 Iron Street\, Mellen\, WI\, 54546\, United States
GEO:46.32721;-90.658573
X-APPLE-STRUCTURED-LOCATION;VALUE=URI;X-ADDRESS=Legion Memorial Library 106 Iron Street Mellen WI 54546 United States;X-APPLE-RADIUS=500;X-TITLE=106 Iron Street:geo:-90.658573,46.32721
END:VEVENT
BEGIN:VEVENT
DTSTART;TZID=America/Chicago:20250527T170000
DTEND;TZID=America/Chicago:20250527T180000
DTSTAMP:20260423T174308
CREATED:20250520T152937Z
LAST-MODIFIED:20250520T152937Z
UID:10003313-1748365200-1748368800@www.legionmemoriallibrary.org
SUMMARY:Library Board Meeting
DESCRIPTION:
URL:https://www.legionmemoriallibrary.org/event/library-board-meeting-19/
LOCATION:Legion Memorial Library\, 106 Iron Street\, Mellen\, WI\, 54546\, United States
GEO:46.32721;-90.658573
X-APPLE-STRUCTURED-LOCATION;VALUE=URI;X-ADDRESS=Legion Memorial Library 106 Iron Street Mellen WI 54546 United States;X-APPLE-RADIUS=500;X-TITLE=106 Iron Street:geo:-90.658573,46.32721
END:VEVENT
BEGIN:VEVENT
DTSTART;TZID=America/Chicago:20250527T170000
DTEND;TZID=America/Chicago:20250527T170000
DTSTAMP:20260423T174308
CREATED:20250520T152755Z
LAST-MODIFIED:20250520T152905Z
UID:10003312-1748365200-1748365200@www.legionmemoriallibrary.org
SUMMARY:Food Fun Drawing
DESCRIPTION:Food Fun Drawing will take place on May 27th at 5pm.  Check out the Library calendar on our website or Facebook page and bring in a food item from one of the National Food Celebration Days from May.  That item gets you a drawing ticket entry.  Non-perishable items only please.  Creativity is encouraged.  The winner of the drawing gets all the items collected that month to enjoy.  
URL:https://www.legionmemoriallibrary.org/event/food-fun-drawing/
LOCATION:Legion Memorial Library\, 106 Iron Street\, Mellen\, WI\, 54546\, United States
GEO:46.32721;-90.658573
X-APPLE-STRUCTURED-LOCATION;VALUE=URI;X-ADDRESS=Legion Memorial Library 106 Iron Street Mellen WI 54546 United States;X-APPLE-RADIUS=500;X-TITLE=106 Iron Street:geo:-90.658573,46.32721
END:VEVENT
BEGIN:VEVENT
DTSTART;VALUE=DATE:20250527
DTEND;VALUE=DATE:20250528
DTSTAMP:20260423T174308
CREATED:20250416T151750Z
LAST-MODIFIED:20250416T151750Z
UID:10003228-1748304000-1748390399@www.legionmemoriallibrary.org
SUMMARY:Grape Popsicle Day
DESCRIPTION:National Grape Popsicle Day \n“People can do great things. However\, there are some things they can’t do. I\, of instance\, have not been able to transform myself into a Popsicle\, despite years of effort.” —Brandon Sanderson
URL:https://www.legionmemoriallibrary.org/event/grape-popsicle-day-3/
LOCATION:Legion Memorial Library\, 106 Iron Street\, Mellen\, WI\, 54546\, United States
GEO:46.32721;-90.658573
X-APPLE-STRUCTURED-LOCATION;VALUE=URI;X-ADDRESS=Legion Memorial Library 106 Iron Street Mellen WI 54546 United States;X-APPLE-RADIUS=500;X-TITLE=106 Iron Street:geo:-90.658573,46.32721
END:VEVENT
BEGIN:VEVENT
DTSTART;VALUE=DATE:20250526
DTEND;VALUE=DATE:20250527
DTSTAMP:20260423T174308
CREATED:20250416T154037Z
LAST-MODIFIED:20250416T154037Z
UID:10003240-1748217600-1748303999@www.legionmemoriallibrary.org
SUMMARY:Library Closed
DESCRIPTION:
URL:https://www.legionmemoriallibrary.org/event/library-closed-46/
LOCATION:Legion Memorial Library\, 106 Iron Street\, Mellen\, WI\, 54546\, United States
GEO:46.32721;-90.658573
X-APPLE-STRUCTURED-LOCATION;VALUE=URI;X-ADDRESS=Legion Memorial Library 106 Iron Street Mellen WI 54546 United States;X-APPLE-RADIUS=500;X-TITLE=106 Iron Street:geo:-90.658573,46.32721
END:VEVENT
BEGIN:VEVENT
DTSTART;VALUE=DATE:20250526
DTEND;VALUE=DATE:20250527
DTSTAMP:20260423T174308
CREATED:20250416T154020Z
LAST-MODIFIED:20250416T154020Z
UID:10003239-1748217600-1748303999@www.legionmemoriallibrary.org
SUMMARY:Memorial Day
DESCRIPTION:
URL:https://www.legionmemoriallibrary.org/event/memorial-day-2/
LOCATION:Legion Memorial Library\, 106 Iron Street\, Mellen\, WI\, 54546\, United States
GEO:46.32721;-90.658573
X-APPLE-STRUCTURED-LOCATION;VALUE=URI;X-ADDRESS=Legion Memorial Library 106 Iron Street Mellen WI 54546 United States;X-APPLE-RADIUS=500;X-TITLE=106 Iron Street:geo:-90.658573,46.32721
END:VEVENT
BEGIN:VEVENT
DTSTART;VALUE=DATE:20250526
DTEND;VALUE=DATE:20250527
DTSTAMP:20260423T174308
CREATED:20250416T151703Z
LAST-MODIFIED:20250416T151703Z
UID:10003227-1748217600-1748303999@www.legionmemoriallibrary.org
SUMMARY:Cherry Dessert Day
DESCRIPTION:National Cherry Dessert Day \n“Cherry cobbler is shortcake with a soul.” —Edna Ferber
URL:https://www.legionmemoriallibrary.org/event/cherry-dessert-day/
LOCATION:Legion Memorial Library\, 106 Iron Street\, Mellen\, WI\, 54546\, United States
GEO:46.32721;-90.658573
X-APPLE-STRUCTURED-LOCATION;VALUE=URI;X-ADDRESS=Legion Memorial Library 106 Iron Street Mellen WI 54546 United States;X-APPLE-RADIUS=500;X-TITLE=106 Iron Street:geo:-90.658573,46.32721
END:VEVENT
BEGIN:VEVENT
DTSTART;VALUE=DATE:20250525
DTEND;VALUE=DATE:20250526
DTSTAMP:20260423T174308
CREATED:20250416T151613Z
LAST-MODIFIED:20250416T151613Z
UID:10003226-1748131200-1748217599@www.legionmemoriallibrary.org
SUMMARY:Iced Coffee Day
DESCRIPTION:National Iced Coffee Day \n“I like my coffee with cream and my literature with optimism.” —Abigail Reynolds
URL:https://www.legionmemoriallibrary.org/event/iced-coffee-day/
LOCATION:Legion Memorial Library\, 106 Iron Street\, Mellen\, WI\, 54546\, United States
GEO:46.32721;-90.658573
X-APPLE-STRUCTURED-LOCATION;VALUE=URI;X-ADDRESS=Legion Memorial Library 106 Iron Street Mellen WI 54546 United States;X-APPLE-RADIUS=500;X-TITLE=106 Iron Street:geo:-90.658573,46.32721
END:VEVENT
BEGIN:VEVENT
DTSTART;VALUE=DATE:20250524
DTEND;VALUE=DATE:20250525
DTSTAMP:20260423T174308
CREATED:20250416T151348Z
LAST-MODIFIED:20250416T151348Z
UID:10003225-1748044800-1748131199@www.legionmemoriallibrary.org
SUMMARY:Asparagus Day
DESCRIPTION:National Asparagus Day \n“Asparagus inspires gentle thoughts.” —Charles Lamb
URL:https://www.legionmemoriallibrary.org/event/asparagus-day/
LOCATION:Legion Memorial Library\, 106 Iron Street\, Mellen\, WI\, 54546\, United States
GEO:46.32721;-90.658573
X-APPLE-STRUCTURED-LOCATION;VALUE=URI;X-ADDRESS=Legion Memorial Library 106 Iron Street Mellen WI 54546 United States;X-APPLE-RADIUS=500;X-TITLE=106 Iron Street:geo:-90.658573,46.32721
END:VEVENT
BEGIN:VEVENT
DTSTART;VALUE=DATE:20250523
DTEND;VALUE=DATE:20250524
DTSTAMP:20260423T174308
CREATED:20250416T151302Z
LAST-MODIFIED:20250416T151303Z
UID:10003224-1747958400-1748044799@www.legionmemoriallibrary.org
SUMMARY:Taffy Day
DESCRIPTION:National Taffy Day \n“Be like a taffy-sweet\, long-lasting\, tough\, flexible\, and colorful.” —Kailin Gow
URL:https://www.legionmemoriallibrary.org/event/taffy-day-2/
LOCATION:Legion Memorial Library\, 106 Iron Street\, Mellen\, WI\, 54546\, United States
GEO:46.32721;-90.658573
X-APPLE-STRUCTURED-LOCATION;VALUE=URI;X-ADDRESS=Legion Memorial Library 106 Iron Street Mellen WI 54546 United States;X-APPLE-RADIUS=500;X-TITLE=106 Iron Street:geo:-90.658573,46.32721
END:VEVENT
BEGIN:VEVENT
DTSTART;TZID=America/Chicago:20250522T090000
DTEND;TZID=America/Chicago:20250522T100000
DTSTAMP:20260423T174308
CREATED:20250522T192653Z
LAST-MODIFIED:20250522T192653Z
UID:10003414-1747904400-1747908000@www.legionmemoriallibrary.org
SUMMARY:Summer Reading Storytime for 3-5 yr. olds
DESCRIPTION:Programs are planned for 3-5 yr. olds.  Those a bit older & younger are welcome\, but not all activities will be suitable for the littlest of our littles.  Programs will last about an hour. \nJune 26th\, Thursday at 9am\nCelebrating the Color Green\n& Making Frogs on a Log
URL:https://www.legionmemoriallibrary.org/event/summer-reading-storytime-for-3-5-yr-olds-2/
LOCATION:Legion Memorial Library\, 106 Iron Street\, Mellen\, WI\, 54546\, United States
GEO:46.32721;-90.658573
X-APPLE-STRUCTURED-LOCATION;VALUE=URI;X-ADDRESS=Legion Memorial Library 106 Iron Street Mellen WI 54546 United States;X-APPLE-RADIUS=500;X-TITLE=106 Iron Street:geo:-90.658573,46.32721
END:VEVENT
BEGIN:VEVENT
DTSTART;VALUE=DATE:20250522
DTEND;VALUE=DATE:20250523
DTSTAMP:20260423T174308
CREATED:20250416T151224Z
LAST-MODIFIED:20250416T151224Z
UID:10003223-1747872000-1747958399@www.legionmemoriallibrary.org
SUMMARY:Vanilla Pudding Day
DESCRIPTION:National Vanilla Pudding Day \n“The man who invented instant pudding was moved to action by an inability to wait for pudding.” —Dana Gould
URL:https://www.legionmemoriallibrary.org/event/vanilla-pudding-day-3/
LOCATION:Legion Memorial Library\, 106 Iron Street\, Mellen\, WI\, 54546\, United States
GEO:46.32721;-90.658573
X-APPLE-STRUCTURED-LOCATION;VALUE=URI;X-ADDRESS=Legion Memorial Library 106 Iron Street Mellen WI 54546 United States;X-APPLE-RADIUS=500;X-TITLE=106 Iron Street:geo:-90.658573,46.32721
END:VEVENT
BEGIN:VEVENT
DTSTART;TZID=America/Chicago:20250521T160000
DTEND;TZID=America/Chicago:20250521T170000
DTSTAMP:20260423T174308
CREATED:20250416T153733Z
LAST-MODIFIED:20250416T153733Z
UID:10003236-1747843200-1747846800@www.legionmemoriallibrary.org
SUMMARY:Asahi Nordic Exercise
DESCRIPTION:Asahi Nordic Exercise meets weekly on Wednesdays at 4pm here at the Mellen Library.  Join us for this “A Simple And Healthy Idea” gathering.  No special equipment needed.  The focus is on movement\, breathing\, and balance.  We have been doing the exercises while standing.  You may choose to do exercises from a chair.  There is no need for a mat or getting up and down from the floor.  Come and see if this is something that would be a good fit for you.
URL:https://www.legionmemoriallibrary.org/event/asahi-nordic-exercise-40/
LOCATION:Legion Memorial Library\, 106 Iron Street\, Mellen\, WI\, 54546\, United States
GEO:46.32721;-90.658573
X-APPLE-STRUCTURED-LOCATION;VALUE=URI;X-ADDRESS=Legion Memorial Library 106 Iron Street Mellen WI 54546 United States;X-APPLE-RADIUS=500;X-TITLE=106 Iron Street:geo:-90.658573,46.32721
END:VEVENT
BEGIN:VEVENT
DTSTART;TZID=America/Chicago:20250521T090000
DTEND;TZID=America/Chicago:20250521T100000
DTSTAMP:20260423T174308
CREATED:20241009T165427Z
LAST-MODIFIED:20241009T165427Z
UID:10002955-1747818000-1747821600@www.legionmemoriallibrary.org
SUMMARY:Morning Book Club
DESCRIPTION:Lessons in Chemistry by Bonnie Garmus is our discussion book for May \nThe morning book club meets the third Wednesday of the month at the library at 9am.  A book list for the 2024-25 season may be found on this website.  Or you may pick-up a book mark with all the dates and titles on it at the library.  There is no need to purchase books.  They are ordered through interlibrary loan and available at the library.  You do need to register for the book club by contacting the library by phone\, 715-274-8331 or stopping by.  The library staff will then order copies for book club members.
URL:https://www.legionmemoriallibrary.org/event/morning-book-club-17/
LOCATION:Legion Memorial Library\, 106 Iron Street\, Mellen\, WI\, 54546\, United States
GEO:46.32721;-90.658573
X-APPLE-STRUCTURED-LOCATION;VALUE=URI;X-ADDRESS=Legion Memorial Library 106 Iron Street Mellen WI 54546 United States;X-APPLE-RADIUS=500;X-TITLE=106 Iron Street:geo:-90.658573,46.32721
END:VEVENT
BEGIN:VEVENT
DTSTART;VALUE=DATE:20250521
DTEND;VALUE=DATE:20250522
DTSTAMP:20260423T174308
CREATED:20250416T151128Z
LAST-MODIFIED:20250416T151128Z
UID:10003222-1747785600-1747871999@www.legionmemoriallibrary.org
SUMMARY:Strawberries and Cream Day
DESCRIPTION:National Strawberries and Cream Day \n“Personally\, I am very fond of strawberries and cream\, but I have found that for some strange reason\, fish prefer worms. I thought about what they wanted. I didn’t bait the hook with strawberries and cream.” —Dale Carnegie
URL:https://www.legionmemoriallibrary.org/event/strawberries-and-cream-day-2/
LOCATION:Legion Memorial Library\, 106 Iron Street\, Mellen\, WI\, 54546\, United States
GEO:46.32721;-90.658573
X-APPLE-STRUCTURED-LOCATION;VALUE=URI;X-ADDRESS=Legion Memorial Library 106 Iron Street Mellen WI 54546 United States;X-APPLE-RADIUS=500;X-TITLE=106 Iron Street:geo:-90.658573,46.32721
END:VEVENT
BEGIN:VEVENT
DTSTART;VALUE=DATE:20250520
DTEND;VALUE=DATE:20250521
DTSTAMP:20260423T174308
CREATED:20250416T151032Z
LAST-MODIFIED:20250416T151032Z
UID:10003221-1747699200-1747785599@www.legionmemoriallibrary.org
SUMMARY:Quiche Lorraine Day
DESCRIPTION:National Quiche Lorraine Day \n“I am convinced that I am the one who introduced quiche to America.” —James Beard
URL:https://www.legionmemoriallibrary.org/event/quiche-lorraine-day-2/
LOCATION:Legion Memorial Library\, 106 Iron Street\, Mellen\, WI\, 54546\, United States
GEO:46.32721;-90.658573
X-APPLE-STRUCTURED-LOCATION;VALUE=URI;X-ADDRESS=Legion Memorial Library 106 Iron Street Mellen WI 54546 United States;X-APPLE-RADIUS=500;X-TITLE=106 Iron Street:geo:-90.658573,46.32721
END:VEVENT
BEGIN:VEVENT
DTSTART;VALUE=DATE:20250519
DTEND;VALUE=DATE:20250520
DTSTAMP:20260423T174308
CREATED:20250416T143758Z
LAST-MODIFIED:20250416T143758Z
UID:10003220-1747612800-1747699199@www.legionmemoriallibrary.org
SUMMARY:Devil’s Food Cake Day
DESCRIPTION:National Devil’s Food Cake Day \n“I bake a chocolate cake from scratch every week.” —Victoria Osteen
URL:https://www.legionmemoriallibrary.org/event/devils-food-cake-day-3/
LOCATION:Legion Memorial Library\, 106 Iron Street\, Mellen\, WI\, 54546\, United States
GEO:46.32721;-90.658573
X-APPLE-STRUCTURED-LOCATION;VALUE=URI;X-ADDRESS=Legion Memorial Library 106 Iron Street Mellen WI 54546 United States;X-APPLE-RADIUS=500;X-TITLE=106 Iron Street:geo:-90.658573,46.32721
END:VEVENT
BEGIN:VEVENT
DTSTART;VALUE=DATE:20250518
DTEND;VALUE=DATE:20250519
DTSTAMP:20260423T174308
CREATED:20250416T143715Z
LAST-MODIFIED:20250416T143715Z
UID:10003219-1747526400-1747612799@www.legionmemoriallibrary.org
SUMMARY:Cheese Souffle Day
DESCRIPTION:National Cheese Souffle Day \n“Aspiring to a souffle\, he achieves a pancake at which the reader saws without much appetite.” —John Leonard
URL:https://www.legionmemoriallibrary.org/event/cheese-souffle-day-3/
LOCATION:Legion Memorial Library\, 106 Iron Street\, Mellen\, WI\, 54546\, United States
GEO:46.32721;-90.658573
X-APPLE-STRUCTURED-LOCATION;VALUE=URI;X-ADDRESS=Legion Memorial Library 106 Iron Street Mellen WI 54546 United States;X-APPLE-RADIUS=500;X-TITLE=106 Iron Street:geo:-90.658573,46.32721
END:VEVENT
BEGIN:VEVENT
DTSTART;VALUE=DATE:20250517
DTEND;VALUE=DATE:20250518
DTSTAMP:20260423T174308
CREATED:20250416T143624Z
LAST-MODIFIED:20250416T143624Z
UID:10003218-1747440000-1747526399@www.legionmemoriallibrary.org
SUMMARY:Walnut Day
DESCRIPTION:National Walnut Day \n“They say that there are moments that open up your life like a walnut cracked\, that change your point of view so that you never look at things the same way again.” —Jodi Picoult
URL:https://www.legionmemoriallibrary.org/event/walnut-day/
LOCATION:Legion Memorial Library\, 106 Iron Street\, Mellen\, WI\, 54546\, United States
GEO:46.32721;-90.658573
X-APPLE-STRUCTURED-LOCATION;VALUE=URI;X-ADDRESS=Legion Memorial Library 106 Iron Street Mellen WI 54546 United States;X-APPLE-RADIUS=500;X-TITLE=106 Iron Street:geo:-90.658573,46.32721
END:VEVENT
BEGIN:VEVENT
DTSTART;TZID=America/Chicago:20250516T100000
DTEND;TZID=America/Chicago:20250516T230000
DTSTAMP:20260423T174308
CREATED:20250416T153951Z
LAST-MODIFIED:20250416T153951Z
UID:10003238-1747389600-1747436400@www.legionmemoriallibrary.org
SUMMARY:Wills & Trusts with Ryan Long
DESCRIPTION:
URL:https://www.legionmemoriallibrary.org/event/wills-trusts-with-ryan-long/
LOCATION:Legion Memorial Library\, 106 Iron Street\, Mellen\, WI\, 54546\, United States
GEO:46.32721;-90.658573
X-APPLE-STRUCTURED-LOCATION;VALUE=URI;X-ADDRESS=Legion Memorial Library 106 Iron Street Mellen WI 54546 United States;X-APPLE-RADIUS=500;X-TITLE=106 Iron Street:geo:-90.658573,46.32721
END:VEVENT
BEGIN:VEVENT
DTSTART;VALUE=DATE:20250516
DTEND;VALUE=DATE:20250517
DTSTAMP:20260423T174308
CREATED:20250416T143543Z
LAST-MODIFIED:20250416T143543Z
UID:10003217-1747353600-1747439999@www.legionmemoriallibrary.org
SUMMARY:Mimosa Day
DESCRIPTION:National Mimosa Day \n“Champagne and orange juice is a great drink. The orange improves the champagne. The Champagne definitely improves the orange.” —Philip the Apostle
URL:https://www.legionmemoriallibrary.org/event/mimosa-day/
LOCATION:Legion Memorial Library\, 106 Iron Street\, Mellen\, WI\, 54546\, United States
GEO:46.32721;-90.658573
X-APPLE-STRUCTURED-LOCATION;VALUE=URI;X-ADDRESS=Legion Memorial Library 106 Iron Street Mellen WI 54546 United States;X-APPLE-RADIUS=500;X-TITLE=106 Iron Street:geo:-90.658573,46.32721
END:VEVENT
BEGIN:VEVENT
DTSTART;VALUE=DATE:20250515
DTEND;VALUE=DATE:20250516
DTSTAMP:20260423T174308
CREATED:20250416T143446Z
LAST-MODIFIED:20250416T143446Z
UID:10003216-1747267200-1747353599@www.legionmemoriallibrary.org
SUMMARY:Bread Pudding Day
DESCRIPTION:National Bread Pudding Day \n“You feel sorry for ME? I am not the one who has never tasted bread pudding.” —Stephanie Perkins
URL:https://www.legionmemoriallibrary.org/event/bread-pudding-day-2/
LOCATION:Legion Memorial Library\, 106 Iron Street\, Mellen\, WI\, 54546\, United States
GEO:46.32721;-90.658573
X-APPLE-STRUCTURED-LOCATION;VALUE=URI;X-ADDRESS=Legion Memorial Library 106 Iron Street Mellen WI 54546 United States;X-APPLE-RADIUS=500;X-TITLE=106 Iron Street:geo:-90.658573,46.32721
END:VEVENT
END:VCALENDAR