BEGIN:VCALENDAR
VERSION:2.0
PRODID:-//Legion Memorial Library - ECPv6.15.20//NONSGML v1.0//EN
CALSCALE:GREGORIAN
METHOD:PUBLISH
X-WR-CALNAME:Legion Memorial Library
X-ORIGINAL-URL:https://www.legionmemoriallibrary.org
X-WR-CALDESC:Events for Legion Memorial Library
REFRESH-INTERVAL;VALUE=DURATION:PT1H
X-Robots-Tag:noindex
X-PUBLISHED-TTL:PT1H
BEGIN:VTIMEZONE
TZID:America/Chicago
BEGIN:DAYLIGHT
TZOFFSETFROM:-0600
TZOFFSETTO:-0500
TZNAME:CDT
DTSTART:20240310T080000
END:DAYLIGHT
BEGIN:STANDARD
TZOFFSETFROM:-0500
TZOFFSETTO:-0600
TZNAME:CST
DTSTART:20241103T070000
END:STANDARD
BEGIN:DAYLIGHT
TZOFFSETFROM:-0600
TZOFFSETTO:-0500
TZNAME:CDT
DTSTART:20250309T080000
END:DAYLIGHT
BEGIN:STANDARD
TZOFFSETFROM:-0500
TZOFFSETTO:-0600
TZNAME:CST
DTSTART:20251102T070000
END:STANDARD
BEGIN:DAYLIGHT
TZOFFSETFROM:-0600
TZOFFSETTO:-0500
TZNAME:CDT
DTSTART:20260308T080000
END:DAYLIGHT
BEGIN:STANDARD
TZOFFSETFROM:-0500
TZOFFSETTO:-0600
TZNAME:CST
DTSTART:20261101T070000
END:STANDARD
END:VTIMEZONE
BEGIN:VEVENT
DTSTART;VALUE=DATE:20250903
DTEND;VALUE=DATE:20250904
DTSTAMP:20260423T003425
CREATED:20250829T160016Z
LAST-MODIFIED:20250829T160016Z
UID:10003635-1756857600-1756943999@www.legionmemoriallibrary.org
SUMMARY:Baby Back Ribs
DESCRIPTION:National Baby Back Ribs \n“Barbecue is a dance of flavors\, a symphony of smoke and spice.” –Johnny Trigg
URL:https://www.legionmemoriallibrary.org/event/baby-back-ribs/
LOCATION:Legion Memorial Library\, 106 Iron Street\, Mellen\, WI\, 54546\, United States
GEO:46.32721;-90.658573
X-APPLE-STRUCTURED-LOCATION;VALUE=URI;X-ADDRESS=Legion Memorial Library 106 Iron Street Mellen WI 54546 United States;X-APPLE-RADIUS=500;X-TITLE=106 Iron Street:geo:-90.658573,46.32721
END:VEVENT
BEGIN:VEVENT
DTSTART;VALUE=DATE:20250902
DTEND;VALUE=DATE:20250903
DTSTAMP:20260423T003425
CREATED:20250829T155851Z
LAST-MODIFIED:20250829T160100Z
UID:10003634-1756771200-1756857599@www.legionmemoriallibrary.org
SUMMARY:Grits for Breakfast Day
DESCRIPTION:National Grits for Breakfast Day \n“That’s all a grit is a vehicle. For whatever it is you rather be eating.” \n—Kathryn Stockett\, The Help
URL:https://www.legionmemoriallibrary.org/event/grits-for-breakfast-day-2/
LOCATION:Legion Memorial Library\, 106 Iron Street\, Mellen\, WI\, 54546\, United States
GEO:46.32721;-90.658573
X-APPLE-STRUCTURED-LOCATION;VALUE=URI;X-ADDRESS=Legion Memorial Library 106 Iron Street Mellen WI 54546 United States;X-APPLE-RADIUS=500;X-TITLE=106 Iron Street:geo:-90.658573,46.32721
END:VEVENT
BEGIN:VEVENT
DTSTART;VALUE=DATE:20250901
DTEND;VALUE=DATE:20250902
DTSTAMP:20260423T003425
CREATED:20250829T155811Z
LAST-MODIFIED:20250829T155811Z
UID:10003633-1756684800-1756771199@www.legionmemoriallibrary.org
SUMMARY:Tofu Day
DESCRIPTION:National Tofu Day \n“The mind is like tofu. It tastes like whatever you marinate it in.” —Sylvia Boorstein
URL:https://www.legionmemoriallibrary.org/event/tofu-day-2/
LOCATION:Legion Memorial Library\, 106 Iron Street\, Mellen\, WI\, 54546\, United States
GEO:46.32721;-90.658573
X-APPLE-STRUCTURED-LOCATION;VALUE=URI;X-ADDRESS=Legion Memorial Library 106 Iron Street Mellen WI 54546 United States;X-APPLE-RADIUS=500;X-TITLE=106 Iron Street:geo:-90.658573,46.32721
END:VEVENT
BEGIN:VEVENT
DTSTART;VALUE=DATE:20250901
DTEND;VALUE=DATE:20250902
DTSTAMP:20260423T003425
CREATED:20250829T155704Z
LAST-MODIFIED:20250829T155704Z
UID:10003632-1756684800-1756771199@www.legionmemoriallibrary.org
SUMMARY:Labor Day - Library Closed
DESCRIPTION:
URL:https://www.legionmemoriallibrary.org/event/labor-day-library-closed-2/
LOCATION:Legion Memorial Library\, 106 Iron Street\, Mellen\, WI\, 54546\, United States
GEO:46.32721;-90.658573
X-APPLE-STRUCTURED-LOCATION;VALUE=URI;X-ADDRESS=Legion Memorial Library 106 Iron Street Mellen WI 54546 United States;X-APPLE-RADIUS=500;X-TITLE=106 Iron Street:geo:-90.658573,46.32721
END:VEVENT
BEGIN:VEVENT
DTSTART;VALUE=DATE:20250831
DTEND;VALUE=DATE:20250901
DTSTAMP:20260423T003425
CREATED:20250715T142801Z
LAST-MODIFIED:20250715T142801Z
UID:10003631-1756598400-1756684799@www.legionmemoriallibrary.org
SUMMARY:Eat Outside Day
DESCRIPTION:National Eat Outside Day \n“Cooking and eating food outdoors makes it taste infinitely better than the same meal prepared and consumed indoors.” —Fennel Hudson
URL:https://www.legionmemoriallibrary.org/event/eat-outside-day/
LOCATION:Legion Memorial Library\, 106 Iron Street\, Mellen\, WI\, 54546\, United States
GEO:46.32721;-90.658573
X-APPLE-STRUCTURED-LOCATION;VALUE=URI;X-ADDRESS=Legion Memorial Library 106 Iron Street Mellen WI 54546 United States;X-APPLE-RADIUS=500;X-TITLE=106 Iron Street:geo:-90.658573,46.32721
END:VEVENT
BEGIN:VEVENT
DTSTART;VALUE=DATE:20250830
DTEND;VALUE=DATE:20250831
DTSTAMP:20260423T003425
CREATED:20250715T142726Z
LAST-MODIFIED:20250715T142726Z
UID:10003630-1756512000-1756598399@www.legionmemoriallibrary.org
SUMMARY:Toasted Marshmallow Day
DESCRIPTION:National Toasted Marshmallow Day \n“Having a campfire and roasted marshmallows\, to me that sounds like Heaven.” —Randy Orton
URL:https://www.legionmemoriallibrary.org/event/toasted-marshmallow-day-2/
LOCATION:Legion Memorial Library\, 106 Iron Street\, Mellen\, WI\, 54546\, United States
GEO:46.32721;-90.658573
X-APPLE-STRUCTURED-LOCATION;VALUE=URI;X-ADDRESS=Legion Memorial Library 106 Iron Street Mellen WI 54546 United States;X-APPLE-RADIUS=500;X-TITLE=106 Iron Street:geo:-90.658573,46.32721
END:VEVENT
BEGIN:VEVENT
DTSTART;VALUE=DATE:20250829
DTEND;VALUE=DATE:20250830
DTSTAMP:20260423T003425
CREATED:20250715T142650Z
LAST-MODIFIED:20250715T142650Z
UID:10003629-1756425600-1756511999@www.legionmemoriallibrary.org
SUMMARY:Lemon Juice Day
DESCRIPTION:National Lemon Juice Day \n“It’s not what happens to you\, but how you handle it. If Life gives you lemons\, make lemonade. If the lemons are rotten\, take out the seeds and plant them in order to grow new lemons.” —Louise Hay
URL:https://www.legionmemoriallibrary.org/event/lemon-juice-day-2/
LOCATION:Legion Memorial Library\, 106 Iron Street\, Mellen\, WI\, 54546\, United States
GEO:46.32721;-90.658573
X-APPLE-STRUCTURED-LOCATION;VALUE=URI;X-ADDRESS=Legion Memorial Library 106 Iron Street Mellen WI 54546 United States;X-APPLE-RADIUS=500;X-TITLE=106 Iron Street:geo:-90.658573,46.32721
END:VEVENT
BEGIN:VEVENT
DTSTART;VALUE=DATE:20250828
DTEND;VALUE=DATE:20250829
DTSTAMP:20260423T003425
CREATED:20250715T142534Z
LAST-MODIFIED:20250715T142558Z
UID:10003628-1756339200-1756425599@www.legionmemoriallibrary.org
SUMMARY:Cherry Turnover Day
DESCRIPTION:National Cherry Turnover Day \n“A cherry pie isn’t a failure just because you eat it all. It’s perfect for what it is\, and then it’s gone.” —Emery Lord
URL:https://www.legionmemoriallibrary.org/event/cherry-turnover-day-2/
LOCATION:Legion Memorial Library\, 106 Iron Street\, Mellen\, WI\, 54546\, United States
GEO:46.32721;-90.658573
X-APPLE-STRUCTURED-LOCATION;VALUE=URI;X-ADDRESS=Legion Memorial Library 106 Iron Street Mellen WI 54546 United States;X-APPLE-RADIUS=500;X-TITLE=106 Iron Street:geo:-90.658573,46.32721
END:VEVENT
BEGIN:VEVENT
DTSTART;VALUE=DATE:20250827
DTEND;VALUE=DATE:20250828
DTSTAMP:20260423T003425
CREATED:20250715T142458Z
LAST-MODIFIED:20250715T142458Z
UID:10003627-1756252800-1756339199@www.legionmemoriallibrary.org
SUMMARY:Banana Lovers Day
DESCRIPTION:National Banana Lovers Day \n“Life is full of banana skins. You slip\, you carry on.” —Daphne Guinness
URL:https://www.legionmemoriallibrary.org/event/banana-lovers-day-2/
LOCATION:Legion Memorial Library\, 106 Iron Street\, Mellen\, WI\, 54546\, United States
GEO:46.32721;-90.658573
X-APPLE-STRUCTURED-LOCATION;VALUE=URI;X-ADDRESS=Legion Memorial Library 106 Iron Street Mellen WI 54546 United States;X-APPLE-RADIUS=500;X-TITLE=106 Iron Street:geo:-90.658573,46.32721
END:VEVENT
BEGIN:VEVENT
DTSTART;VALUE=DATE:20250826
DTEND;VALUE=DATE:20250827
DTSTAMP:20260423T003425
CREATED:20250715T142422Z
LAST-MODIFIED:20250715T142422Z
UID:10003626-1756166400-1756252799@www.legionmemoriallibrary.org
SUMMARY:Cherry Popsicle Day
DESCRIPTION:National Cherry Popsicle Day \n“I like freedom. I wake up in the morning and say\, ‘I don’t know\, should I have a popsicle or a donut?’ You know\, who knows?” —Oscar Nunez
URL:https://www.legionmemoriallibrary.org/event/cherry-popsicle-day-3/
LOCATION:Legion Memorial Library\, 106 Iron Street\, Mellen\, WI\, 54546\, United States
GEO:46.32721;-90.658573
X-APPLE-STRUCTURED-LOCATION;VALUE=URI;X-ADDRESS=Legion Memorial Library 106 Iron Street Mellen WI 54546 United States;X-APPLE-RADIUS=500;X-TITLE=106 Iron Street:geo:-90.658573,46.32721
END:VEVENT
BEGIN:VEVENT
DTSTART;VALUE=DATE:20250825
DTEND;VALUE=DATE:20250826
DTSTAMP:20260423T003425
CREATED:20250715T142338Z
LAST-MODIFIED:20250715T142338Z
UID:10003625-1756080000-1756166399@www.legionmemoriallibrary.org
SUMMARY:Green Goddess Day
DESCRIPTION:National Green Goddess Day \n“From salad dressing all blessings flow.” —Paul Newman
URL:https://www.legionmemoriallibrary.org/event/green-goddess-day/
LOCATION:Legion Memorial Library\, 106 Iron Street\, Mellen\, WI\, 54546\, United States
GEO:46.32721;-90.658573
X-APPLE-STRUCTURED-LOCATION;VALUE=URI;X-ADDRESS=Legion Memorial Library 106 Iron Street Mellen WI 54546 United States;X-APPLE-RADIUS=500;X-TITLE=106 Iron Street:geo:-90.658573,46.32721
END:VEVENT
BEGIN:VEVENT
DTSTART;VALUE=DATE:20250824
DTEND;VALUE=DATE:20250825
DTSTAMP:20260423T003425
CREATED:20250715T142300Z
LAST-MODIFIED:20250715T142300Z
UID:10003624-1755993600-1756079999@www.legionmemoriallibrary.org
SUMMARY:Waffle Day
DESCRIPTION:National Waffle Day \n“You should eat a waffle! You can’t b sad if you eat a waffle!” —Lauren Myracle
URL:https://www.legionmemoriallibrary.org/event/waffle-day-2/
LOCATION:Legion Memorial Library\, 106 Iron Street\, Mellen\, WI\, 54546\, United States
GEO:46.32721;-90.658573
X-APPLE-STRUCTURED-LOCATION;VALUE=URI;X-ADDRESS=Legion Memorial Library 106 Iron Street Mellen WI 54546 United States;X-APPLE-RADIUS=500;X-TITLE=106 Iron Street:geo:-90.658573,46.32721
END:VEVENT
BEGIN:VEVENT
DTSTART;VALUE=DATE:20250823
DTEND;VALUE=DATE:20250824
DTSTAMP:20260423T003425
CREATED:20250715T142224Z
LAST-MODIFIED:20250715T142224Z
UID:10003623-1755907200-1755993599@www.legionmemoriallibrary.org
SUMMARY:Sponge Cake Day
DESCRIPTION:National Sponge Cake Day \n“You know how interesting the purchase of a sponge cake is to me.” —Jane Austen
URL:https://www.legionmemoriallibrary.org/event/sponge-cake-day-2/
LOCATION:Legion Memorial Library\, 106 Iron Street\, Mellen\, WI\, 54546\, United States
GEO:46.32721;-90.658573
X-APPLE-STRUCTURED-LOCATION;VALUE=URI;X-ADDRESS=Legion Memorial Library 106 Iron Street Mellen WI 54546 United States;X-APPLE-RADIUS=500;X-TITLE=106 Iron Street:geo:-90.658573,46.32721
END:VEVENT
BEGIN:VEVENT
DTSTART;VALUE=DATE:20250822
DTEND;VALUE=DATE:20250823
DTSTAMP:20260423T003425
CREATED:20250715T142121Z
LAST-MODIFIED:20250715T142121Z
UID:10003622-1755820800-1755907199@www.legionmemoriallibrary.org
SUMMARY:Eat a Peach Day
DESCRIPTION:National Eat a Peach Day \n“An apple is an excellent thing—until you have tried a peach.” —George du Maurier
URL:https://www.legionmemoriallibrary.org/event/eat-a-peach-day-3/
LOCATION:Legion Memorial Library\, 106 Iron Street\, Mellen\, WI\, 54546\, United States
GEO:46.32721;-90.658573
X-APPLE-STRUCTURED-LOCATION;VALUE=URI;X-ADDRESS=Legion Memorial Library 106 Iron Street Mellen WI 54546 United States;X-APPLE-RADIUS=500;X-TITLE=106 Iron Street:geo:-90.658573,46.32721
END:VEVENT
BEGIN:VEVENT
DTSTART;VALUE=DATE:20250821
DTEND;VALUE=DATE:20250822
DTSTAMP:20260423T003425
CREATED:20250715T141918Z
LAST-MODIFIED:20250715T141918Z
UID:10003621-1755734400-1755820799@www.legionmemoriallibrary.org
SUMMARY:Sweet Tea Day
DESCRIPTION:National Sweet Tea Day \n“Love and scandal are the best sweeteners of tea.” —Henry Fielding
URL:https://www.legionmemoriallibrary.org/event/sweet-tea-day-4/
LOCATION:Legion Memorial Library\, 106 Iron Street\, Mellen\, WI\, 54546\, United States
GEO:46.32721;-90.658573
X-APPLE-STRUCTURED-LOCATION;VALUE=URI;X-ADDRESS=Legion Memorial Library 106 Iron Street Mellen WI 54546 United States;X-APPLE-RADIUS=500;X-TITLE=106 Iron Street:geo:-90.658573,46.32721
END:VEVENT
BEGIN:VEVENT
DTSTART;VALUE=DATE:20250820
DTEND;VALUE=DATE:20250821
DTSTAMP:20260423T003425
CREATED:20250715T141720Z
LAST-MODIFIED:20250715T141720Z
UID:10003620-1755648000-1755734399@www.legionmemoriallibrary.org
SUMMARY:Bacon Lovers Day
DESCRIPTION:National Bacon Lovers Day \n“I love super crispy\, almost burned\, snapping-crispy bacon.” —David Lynch
URL:https://www.legionmemoriallibrary.org/event/bacon-lovers-day-3/
LOCATION:Legion Memorial Library\, 106 Iron Street\, Mellen\, WI\, 54546\, United States
GEO:46.32721;-90.658573
X-APPLE-STRUCTURED-LOCATION;VALUE=URI;X-ADDRESS=Legion Memorial Library 106 Iron Street Mellen WI 54546 United States;X-APPLE-RADIUS=500;X-TITLE=106 Iron Street:geo:-90.658573,46.32721
END:VEVENT
BEGIN:VEVENT
DTSTART;VALUE=DATE:20250819
DTEND;VALUE=DATE:20250820
DTSTAMP:20260423T003425
CREATED:20250715T141637Z
LAST-MODIFIED:20250715T141637Z
UID:10003619-1755561600-1755647999@www.legionmemoriallibrary.org
SUMMARY:Potato Day
DESCRIPTION:National Potato Day \n“I do not believe that you have to spend a lot of money to eat well: It is hard to beat a plain old baked potato.” —Laurie Colwin
URL:https://www.legionmemoriallibrary.org/event/potato-day-4/
LOCATION:Legion Memorial Library\, 106 Iron Street\, Mellen\, WI\, 54546\, United States
GEO:46.32721;-90.658573
X-APPLE-STRUCTURED-LOCATION;VALUE=URI;X-ADDRESS=Legion Memorial Library 106 Iron Street Mellen WI 54546 United States;X-APPLE-RADIUS=500;X-TITLE=106 Iron Street:geo:-90.658573,46.32721
END:VEVENT
BEGIN:VEVENT
DTSTART;VALUE=DATE:20250818
DTEND;VALUE=DATE:20250819
DTSTAMP:20260423T003425
CREATED:20250715T141528Z
LAST-MODIFIED:20250715T141528Z
UID:10003618-1755475200-1755561599@www.legionmemoriallibrary.org
SUMMARY:Ice Cream Pie Day
DESCRIPTION:National Ice Cream Pie Day \n“I should probably confess that ice cream is my favorite food\, and I eat it every night. When I go grocery shopping\, I try to buy a new flavor\, rather than reverting back to a favorite flavor. I’m on a mission to taste every flavor of ice cream out there!” —Becca Fitzpatrick
URL:https://www.legionmemoriallibrary.org/event/ice-cream-pie-day-2/
LOCATION:Legion Memorial Library\, 106 Iron Street\, Mellen\, WI\, 54546\, United States
GEO:46.32721;-90.658573
X-APPLE-STRUCTURED-LOCATION;VALUE=URI;X-ADDRESS=Legion Memorial Library 106 Iron Street Mellen WI 54546 United States;X-APPLE-RADIUS=500;X-TITLE=106 Iron Street:geo:-90.658573,46.32721
END:VEVENT
BEGIN:VEVENT
DTSTART;VALUE=DATE:20250817
DTEND;VALUE=DATE:20250818
DTSTAMP:20260423T003425
CREATED:20250715T141433Z
LAST-MODIFIED:20250715T141433Z
UID:10003617-1755388800-1755475199@www.legionmemoriallibrary.org
SUMMARY:Eggplant Day
DESCRIPTION:National Eggplant Day \n“Very well\, I will marry you if you promise not to make me eat eggplant.” —Gabriel Garcia Marquez
URL:https://www.legionmemoriallibrary.org/event/eggplant-day-2/
LOCATION:Legion Memorial Library\, 106 Iron Street\, Mellen\, WI\, 54546\, United States
GEO:46.32721;-90.658573
X-APPLE-STRUCTURED-LOCATION;VALUE=URI;X-ADDRESS=Legion Memorial Library 106 Iron Street Mellen WI 54546 United States;X-APPLE-RADIUS=500;X-TITLE=106 Iron Street:geo:-90.658573,46.32721
END:VEVENT
BEGIN:VEVENT
DTSTART;VALUE=DATE:20250816
DTEND;VALUE=DATE:20250817
DTSTAMP:20260423T003425
CREATED:20250715T141335Z
LAST-MODIFIED:20250715T141335Z
UID:10003616-1755302400-1755388799@www.legionmemoriallibrary.org
SUMMARY:Bratwurst Day
DESCRIPTION:National Bratwurst Day \n“A novel is like a sausage. You might like the final taste\, but you don’t want to see how it was made.” —Harlan Coben
URL:https://www.legionmemoriallibrary.org/event/bratwurst-day-3/
LOCATION:Legion Memorial Library\, 106 Iron Street\, Mellen\, WI\, 54546\, United States
GEO:46.32721;-90.658573
X-APPLE-STRUCTURED-LOCATION;VALUE=URI;X-ADDRESS=Legion Memorial Library 106 Iron Street Mellen WI 54546 United States;X-APPLE-RADIUS=500;X-TITLE=106 Iron Street:geo:-90.658573,46.32721
END:VEVENT
BEGIN:VEVENT
DTSTART;VALUE=DATE:20250815
DTEND;VALUE=DATE:20250816
DTSTAMP:20260423T003425
CREATED:20250715T141209Z
LAST-MODIFIED:20250715T141209Z
UID:10003615-1755216000-1755302399@www.legionmemoriallibrary.org
SUMMARY:Lemon Meringue Pie Day
DESCRIPTION:National Lemon Meringue Pie Day \n“She savors each bite: the meringue is perfect crispy brown on top\, melts in the mouth; the lemon tart\, custardy; the crust breaks away.” —A.M. Homes
URL:https://www.legionmemoriallibrary.org/event/lemon-meringue-pie-day-3/
LOCATION:Legion Memorial Library\, 106 Iron Street\, Mellen\, WI\, 54546\, United States
GEO:46.32721;-90.658573
X-APPLE-STRUCTURED-LOCATION;VALUE=URI;X-ADDRESS=Legion Memorial Library 106 Iron Street Mellen WI 54546 United States;X-APPLE-RADIUS=500;X-TITLE=106 Iron Street:geo:-90.658573,46.32721
END:VEVENT
BEGIN:VEVENT
DTSTART;VALUE=DATE:20250814
DTEND;VALUE=DATE:20250815
DTSTAMP:20260423T003425
CREATED:20250715T141111Z
LAST-MODIFIED:20250715T141111Z
UID:10003614-1755129600-1755215999@www.legionmemoriallibrary.org
SUMMARY:Pineapple Juice Day
DESCRIPTION:National Pineapple Juice Day \n“Somebody’s been putting pineapple juice in my pineapple juice!” —W. C. Field
URL:https://www.legionmemoriallibrary.org/event/pineapple-juice-day-2/
LOCATION:Legion Memorial Library\, 106 Iron Street\, Mellen\, WI\, 54546\, United States
GEO:46.32721;-90.658573
X-APPLE-STRUCTURED-LOCATION;VALUE=URI;X-ADDRESS=Legion Memorial Library 106 Iron Street Mellen WI 54546 United States;X-APPLE-RADIUS=500;X-TITLE=106 Iron Street:geo:-90.658573,46.32721
END:VEVENT
BEGIN:VEVENT
DTSTART;VALUE=DATE:20250813
DTEND;VALUE=DATE:20250814
DTSTAMP:20260423T003425
CREATED:20250715T141025Z
LAST-MODIFIED:20250715T141025Z
UID:10003613-1755043200-1755129599@www.legionmemoriallibrary.org
SUMMARY:Filet Mignon
DESCRIPTION:National Filet Mignon \n“If wishes were filet mignon\, we’d always eat well at dinner.” —Dean Koontz
URL:https://www.legionmemoriallibrary.org/event/filet-mignon/
LOCATION:Legion Memorial Library\, 106 Iron Street\, Mellen\, WI\, 54546\, United States
GEO:46.32721;-90.658573
X-APPLE-STRUCTURED-LOCATION;VALUE=URI;X-ADDRESS=Legion Memorial Library 106 Iron Street Mellen WI 54546 United States;X-APPLE-RADIUS=500;X-TITLE=106 Iron Street:geo:-90.658573,46.32721
END:VEVENT
BEGIN:VEVENT
DTSTART;VALUE=DATE:20250812
DTEND;VALUE=DATE:20250813
DTSTAMP:20260423T003425
CREATED:20250715T140930Z
LAST-MODIFIED:20250715T140930Z
UID:10003612-1754956800-1755043199@www.legionmemoriallibrary.org
SUMMARY:Julienne Fries Day
DESCRIPTION:National Julienne Fries Day \n“French fries. I love them. Some people are chocolate and sweets people. I love French Fries. That and caviar.” —Cameron Diaz
URL:https://www.legionmemoriallibrary.org/event/julienne-fries-day-2/
LOCATION:Legion Memorial Library\, 106 Iron Street\, Mellen\, WI\, 54546\, United States
GEO:46.32721;-90.658573
X-APPLE-STRUCTURED-LOCATION;VALUE=URI;X-ADDRESS=Legion Memorial Library 106 Iron Street Mellen WI 54546 United States;X-APPLE-RADIUS=500;X-TITLE=106 Iron Street:geo:-90.658573,46.32721
END:VEVENT
BEGIN:VEVENT
DTSTART;VALUE=DATE:20250811
DTEND;VALUE=DATE:20250812
DTSTAMP:20260423T003425
CREATED:20250715T140819Z
LAST-MODIFIED:20250715T140819Z
UID:10003611-1754870400-1754956799@www.legionmemoriallibrary.org
SUMMARY:Panini Day
DESCRIPTION:National Panini Day \n“I love a sandwich that you can barely fit in your mouth because there’s so much stuff on it. The bread should not be the main thing on a sandwich.” —Adrianne Palicki
URL:https://www.legionmemoriallibrary.org/event/panini-day-2/
LOCATION:Legion Memorial Library\, 106 Iron Street\, Mellen\, WI\, 54546\, United States
GEO:46.32721;-90.658573
X-APPLE-STRUCTURED-LOCATION;VALUE=URI;X-ADDRESS=Legion Memorial Library 106 Iron Street Mellen WI 54546 United States;X-APPLE-RADIUS=500;X-TITLE=106 Iron Street:geo:-90.658573,46.32721
END:VEVENT
BEGIN:VEVENT
DTSTART;VALUE=DATE:20250810
DTEND;VALUE=DATE:20250811
DTSTAMP:20260423T003426
CREATED:20250715T140643Z
LAST-MODIFIED:20250715T140643Z
UID:10003610-1754784000-1754870399@www.legionmemoriallibrary.org
SUMMARY:S’mores Day
DESCRIPTION:National S’mores Day \n“You’re a marshmallow. Soft and sweet and when you get heated up you go all gooey and delicious.” —Janet Evanovich
URL:https://www.legionmemoriallibrary.org/event/smores-day-4/
LOCATION:Legion Memorial Library\, 106 Iron Street\, Mellen\, WI\, 54546\, United States
GEO:46.32721;-90.658573
X-APPLE-STRUCTURED-LOCATION;VALUE=URI;X-ADDRESS=Legion Memorial Library 106 Iron Street Mellen WI 54546 United States;X-APPLE-RADIUS=500;X-TITLE=106 Iron Street:geo:-90.658573,46.32721
END:VEVENT
BEGIN:VEVENT
DTSTART;VALUE=DATE:20250809
DTEND;VALUE=DATE:20250810
DTSTAMP:20260423T003426
CREATED:20250715T140345Z
LAST-MODIFIED:20250715T140345Z
UID:10003609-1754697600-1754783999@www.legionmemoriallibrary.org
SUMMARY:Book Lovers Day
DESCRIPTION:National Book Lovers Day \n“Once you learn to read you will be forever free.” —Frederick Douglass
URL:https://www.legionmemoriallibrary.org/event/book-lovers-day-3/
LOCATION:Legion Memorial Library\, 106 Iron Street\, Mellen\, WI\, 54546\, United States
GEO:46.32721;-90.658573
X-APPLE-STRUCTURED-LOCATION;VALUE=URI;X-ADDRESS=Legion Memorial Library 106 Iron Street Mellen WI 54546 United States;X-APPLE-RADIUS=500;X-TITLE=106 Iron Street:geo:-90.658573,46.32721
END:VEVENT
BEGIN:VEVENT
DTSTART;VALUE=DATE:20250808
DTEND;VALUE=DATE:20250809
DTSTAMP:20260423T003426
CREATED:20250715T140248Z
LAST-MODIFIED:20250715T140248Z
UID:10003608-1754611200-1754697599@www.legionmemoriallibrary.org
SUMMARY:Frozen Custard Day
DESCRIPTION:National Frozen Custard Day \n“You eat\, in dreams\, the custard of the day.” —Alexander Pope
URL:https://www.legionmemoriallibrary.org/event/frozen-custard-day-2/
LOCATION:Legion Memorial Library\, 106 Iron Street\, Mellen\, WI\, 54546\, United States
GEO:46.32721;-90.658573
X-APPLE-STRUCTURED-LOCATION;VALUE=URI;X-ADDRESS=Legion Memorial Library 106 Iron Street Mellen WI 54546 United States;X-APPLE-RADIUS=500;X-TITLE=106 Iron Street:geo:-90.658573,46.32721
END:VEVENT
BEGIN:VEVENT
DTSTART;VALUE=DATE:20250807
DTEND;VALUE=DATE:20250808
DTSTAMP:20260423T003426
CREATED:20250715T140202Z
LAST-MODIFIED:20250715T140202Z
UID:10003607-1754524800-1754611199@www.legionmemoriallibrary.org
SUMMARY:Raspberries in Cream Day
DESCRIPTION:National Raspberries in Cream Day \n“Put cream and sugar on a fly and it tastes very much like a raspberry.” —E.W. Howe
URL:https://www.legionmemoriallibrary.org/event/raspberries-in-cream-day-2/
LOCATION:Legion Memorial Library\, 106 Iron Street\, Mellen\, WI\, 54546\, United States
GEO:46.32721;-90.658573
X-APPLE-STRUCTURED-LOCATION;VALUE=URI;X-ADDRESS=Legion Memorial Library 106 Iron Street Mellen WI 54546 United States;X-APPLE-RADIUS=500;X-TITLE=106 Iron Street:geo:-90.658573,46.32721
END:VEVENT
BEGIN:VEVENT
DTSTART;VALUE=DATE:20250806
DTEND;VALUE=DATE:20250807
DTSTAMP:20260423T003426
CREATED:20250715T140036Z
LAST-MODIFIED:20250715T140036Z
UID:10003606-1754438400-1754524799@www.legionmemoriallibrary.org
SUMMARY:Root Beer Float Day
DESCRIPTION:National Root Beer Float Day \n“…root beer floats are the stuff that toasts are made of.” —Sandra D. Bricker\, If the Shoe Fits
URL:https://www.legionmemoriallibrary.org/event/root-beer-float-day-4/
LOCATION:Legion Memorial Library\, 106 Iron Street\, Mellen\, WI\, 54546\, United States
GEO:46.32721;-90.658573
X-APPLE-STRUCTURED-LOCATION;VALUE=URI;X-ADDRESS=Legion Memorial Library 106 Iron Street Mellen WI 54546 United States;X-APPLE-RADIUS=500;X-TITLE=106 Iron Street:geo:-90.658573,46.32721
END:VEVENT
END:VCALENDAR