BEGIN:VCALENDAR
VERSION:2.0
PRODID:-//Legion Memorial Library - ECPv6.15.20//NONSGML v1.0//EN
CALSCALE:GREGORIAN
METHOD:PUBLISH
X-WR-CALNAME:Legion Memorial Library
X-ORIGINAL-URL:https://www.legionmemoriallibrary.org
X-WR-CALDESC:Events for Legion Memorial Library
REFRESH-INTERVAL;VALUE=DURATION:PT1H
X-Robots-Tag:noindex
X-PUBLISHED-TTL:PT1H
BEGIN:VTIMEZONE
TZID:America/Chicago
BEGIN:DAYLIGHT
TZOFFSETFROM:-0600
TZOFFSETTO:-0500
TZNAME:CDT
DTSTART:20240310T080000
END:DAYLIGHT
BEGIN:STANDARD
TZOFFSETFROM:-0500
TZOFFSETTO:-0600
TZNAME:CST
DTSTART:20241103T070000
END:STANDARD
BEGIN:DAYLIGHT
TZOFFSETFROM:-0600
TZOFFSETTO:-0500
TZNAME:CDT
DTSTART:20250309T080000
END:DAYLIGHT
BEGIN:STANDARD
TZOFFSETFROM:-0500
TZOFFSETTO:-0600
TZNAME:CST
DTSTART:20251102T070000
END:STANDARD
BEGIN:DAYLIGHT
TZOFFSETFROM:-0600
TZOFFSETTO:-0500
TZNAME:CDT
DTSTART:20260308T080000
END:DAYLIGHT
BEGIN:STANDARD
TZOFFSETFROM:-0500
TZOFFSETTO:-0600
TZNAME:CST
DTSTART:20261101T070000
END:STANDARD
END:VTIMEZONE
BEGIN:VEVENT
DTSTART;TZID=America/Chicago:20251009T090000
DTEND;TZID=America/Chicago:20251009T100000
DTSTAMP:20260422T170452
CREATED:20251001T173212Z
LAST-MODIFIED:20251001T173212Z
UID:10003711-1760000400-1760004000@www.legionmemoriallibrary.org
SUMMARY:Storytime
DESCRIPTION:
URL:https://www.legionmemoriallibrary.org/event/storytime-3/
LOCATION:Legion Memorial Library\, 106 Iron Street\, Mellen\, WI\, 54546\, United States
GEO:46.32721;-90.658573
X-APPLE-STRUCTURED-LOCATION;VALUE=URI;X-ADDRESS=Legion Memorial Library 106 Iron Street Mellen WI 54546 United States;X-APPLE-RADIUS=500;X-TITLE=106 Iron Street:geo:-90.658573,46.32721
END:VEVENT
BEGIN:VEVENT
DTSTART;VALUE=DATE:20251009
DTEND;VALUE=DATE:20251010
DTSTAMP:20260422T170452
CREATED:20250911T212435Z
LAST-MODIFIED:20250911T212435Z
UID:10003683-1759968000-1760054399@www.legionmemoriallibrary.org
SUMMARY:Polenta Day
DESCRIPTION:National Polenta Day \n“Normally\, making polenta means having a convenient excuse to use all the butter\, milk\, and Parmesan in my fridge.” —Chris Morocco
URL:https://www.legionmemoriallibrary.org/event/polenta-day/
LOCATION:Legion Memorial Library\, 106 Iron Street\, Mellen\, WI\, 54546\, United States
GEO:46.32721;-90.658573
X-APPLE-STRUCTURED-LOCATION;VALUE=URI;X-ADDRESS=Legion Memorial Library 106 Iron Street Mellen WI 54546 United States;X-APPLE-RADIUS=500;X-TITLE=106 Iron Street:geo:-90.658573,46.32721
END:VEVENT
BEGIN:VEVENT
DTSTART;TZID=America/Chicago:20251008T083000
DTEND;TZID=America/Chicago:20251008T093000
DTSTAMP:20260422T170452
CREATED:20251004T144242Z
LAST-MODIFIED:20251004T144242Z
UID:10003722-1759912200-1759915800@www.legionmemoriallibrary.org
SUMMARY:Asahi Nordic Exercise
DESCRIPTION:
URL:https://www.legionmemoriallibrary.org/event/asahi-nordic-exercise-45/
LOCATION:Legion Memorial Library\, 106 Iron Street\, Mellen\, WI\, 54546\, United States
GEO:46.32721;-90.658573
X-APPLE-STRUCTURED-LOCATION;VALUE=URI;X-ADDRESS=Legion Memorial Library 106 Iron Street Mellen WI 54546 United States;X-APPLE-RADIUS=500;X-TITLE=106 Iron Street:geo:-90.658573,46.32721
END:VEVENT
BEGIN:VEVENT
DTSTART;VALUE=DATE:20251008
DTEND;VALUE=DATE:20251009
DTSTAMP:20260422T170452
CREATED:20250911T212357Z
LAST-MODIFIED:20250911T212357Z
UID:10003682-1759881600-1759967999@www.legionmemoriallibrary.org
SUMMARY:Salmon Day
DESCRIPTION:National Salmon Day \n“Grilled Salmon and brown pasta works for me every time.” —Steven Gerrard
URL:https://www.legionmemoriallibrary.org/event/salmon-day-3/
LOCATION:Legion Memorial Library\, 106 Iron Street\, Mellen\, WI\, 54546\, United States
GEO:46.32721;-90.658573
X-APPLE-STRUCTURED-LOCATION;VALUE=URI;X-ADDRESS=Legion Memorial Library 106 Iron Street Mellen WI 54546 United States;X-APPLE-RADIUS=500;X-TITLE=106 Iron Street:geo:-90.658573,46.32721
END:VEVENT
BEGIN:VEVENT
DTSTART;VALUE=DATE:20251007
DTEND;VALUE=DATE:20251008
DTSTAMP:20260422T170452
CREATED:20250911T212325Z
LAST-MODIFIED:20250911T212325Z
UID:10003681-1759795200-1759881599@www.legionmemoriallibrary.org
SUMMARY:Chocolate Covered Pretzel
DESCRIPTION:National Chocolate Covered Pretzel \nChocolate covered peanuts\, chocolate covered raisins\, chocolate covered pretzels…Chocolate. So afraid to be alone.” —Dana Gould
URL:https://www.legionmemoriallibrary.org/event/chocolate-covered-pretzel/
LOCATION:Legion Memorial Library\, 106 Iron Street\, Mellen\, WI\, 54546\, United States
GEO:46.32721;-90.658573
X-APPLE-STRUCTURED-LOCATION;VALUE=URI;X-ADDRESS=Legion Memorial Library 106 Iron Street Mellen WI 54546 United States;X-APPLE-RADIUS=500;X-TITLE=106 Iron Street:geo:-90.658573,46.32721
END:VEVENT
BEGIN:VEVENT
DTSTART;VALUE=DATE:20251006
DTEND;VALUE=DATE:20251007
DTSTAMP:20260422T170452
CREATED:20250911T212244Z
LAST-MODIFIED:20250911T212244Z
UID:10003680-1759708800-1759795199@www.legionmemoriallibrary.org
SUMMARY:Noodle Day
DESCRIPTION:National Noodle Day \n“Memory\, in my opinion\, is a complete noodle. It hangs on the silliest things but forgets the stuff that really matters.” —Ellen Potter
URL:https://www.legionmemoriallibrary.org/event/noodle-day-2/
LOCATION:Legion Memorial Library\, 106 Iron Street\, Mellen\, WI\, 54546\, United States
GEO:46.32721;-90.658573
X-APPLE-STRUCTURED-LOCATION;VALUE=URI;X-ADDRESS=Legion Memorial Library 106 Iron Street Mellen WI 54546 United States;X-APPLE-RADIUS=500;X-TITLE=106 Iron Street:geo:-90.658573,46.32721
END:VEVENT
BEGIN:VEVENT
DTSTART;VALUE=DATE:20251005
DTEND;VALUE=DATE:20251006
DTSTAMP:20260422T170452
CREATED:20250911T212210Z
LAST-MODIFIED:20250911T212210Z
UID:10003679-1759622400-1759708799@www.legionmemoriallibrary.org
SUMMARY:Apple Betty Day
DESCRIPTION:National Apple Betty Day \n“Give me juicy autumnal fruit\, ripe red from the orchard.” —Walt Whitman
URL:https://www.legionmemoriallibrary.org/event/apple-betty-day-2/
LOCATION:Legion Memorial Library\, 106 Iron Street\, Mellen\, WI\, 54546\, United States
GEO:46.32721;-90.658573
X-APPLE-STRUCTURED-LOCATION;VALUE=URI;X-ADDRESS=Legion Memorial Library 106 Iron Street Mellen WI 54546 United States;X-APPLE-RADIUS=500;X-TITLE=106 Iron Street:geo:-90.658573,46.32721
END:VEVENT
BEGIN:VEVENT
DTSTART;VALUE=DATE:20251004
DTEND;VALUE=DATE:20251005
DTSTAMP:20260422T170452
CREATED:20250911T212134Z
LAST-MODIFIED:20250911T212134Z
UID:10003678-1759536000-1759622399@www.legionmemoriallibrary.org
SUMMARY:Cinnamon Bun Day
DESCRIPTION:National Cinnamon Bun Day \n“Anyone who gives you a cinnamon roll fresh out of the oven is a friend for life.” —Daniel Handler
URL:https://www.legionmemoriallibrary.org/event/cinnamon-bun-day/
LOCATION:Legion Memorial Library\, 106 Iron Street\, Mellen\, WI\, 54546\, United States
GEO:46.32721;-90.658573
X-APPLE-STRUCTURED-LOCATION;VALUE=URI;X-ADDRESS=Legion Memorial Library 106 Iron Street Mellen WI 54546 United States;X-APPLE-RADIUS=500;X-TITLE=106 Iron Street:geo:-90.658573,46.32721
END:VEVENT
BEGIN:VEVENT
DTSTART;VALUE=DATE:20251003
DTEND;VALUE=DATE:20251004
DTSTAMP:20260422T170452
CREATED:20250911T212059Z
LAST-MODIFIED:20250911T212059Z
UID:10003677-1759449600-1759535999@www.legionmemoriallibrary.org
SUMMARY:Caramel Custard Day
DESCRIPTION:National Caramel Custard Day \n“When you’re three\, you’re into custard\, and jumping.” —Russell Howard
URL:https://www.legionmemoriallibrary.org/event/caramel-custard-day/
LOCATION:Legion Memorial Library\, 106 Iron Street\, Mellen\, WI\, 54546\, United States
GEO:46.32721;-90.658573
X-APPLE-STRUCTURED-LOCATION;VALUE=URI;X-ADDRESS=Legion Memorial Library 106 Iron Street Mellen WI 54546 United States;X-APPLE-RADIUS=500;X-TITLE=106 Iron Street:geo:-90.658573,46.32721
END:VEVENT
BEGIN:VEVENT
DTSTART;TZID=America/Chicago:20251002T170000
DTEND;TZID=America/Chicago:20251002T180000
DTSTAMP:20260422T170452
CREATED:20251001T173126Z
LAST-MODIFIED:20251001T173126Z
UID:10003710-1759424400-1759428000@www.legionmemoriallibrary.org
SUMMARY:Friends of the Library Meeting
DESCRIPTION:
URL:https://www.legionmemoriallibrary.org/event/friends-of-the-library-meeting-16/
LOCATION:Legion Memorial Library\, 106 Iron Street\, Mellen\, WI\, 54546\, United States
GEO:46.32721;-90.658573
X-APPLE-STRUCTURED-LOCATION;VALUE=URI;X-ADDRESS=Legion Memorial Library 106 Iron Street Mellen WI 54546 United States;X-APPLE-RADIUS=500;X-TITLE=106 Iron Street:geo:-90.658573,46.32721
END:VEVENT
BEGIN:VEVENT
DTSTART;TZID=America/Chicago:20251002T090000
DTEND;TZID=America/Chicago:20251002T100000
DTSTAMP:20260422T170452
CREATED:20251001T172627Z
LAST-MODIFIED:20251001T172627Z
UID:10003707-1759395600-1759399200@www.legionmemoriallibrary.org
SUMMARY:Storytime
DESCRIPTION:
URL:https://www.legionmemoriallibrary.org/event/storytime-2/
LOCATION:Legion Memorial Library\, 106 Iron Street\, Mellen\, WI\, 54546\, United States
GEO:46.32721;-90.658573
X-APPLE-STRUCTURED-LOCATION;VALUE=URI;X-ADDRESS=Legion Memorial Library 106 Iron Street Mellen WI 54546 United States;X-APPLE-RADIUS=500;X-TITLE=106 Iron Street:geo:-90.658573,46.32721
END:VEVENT
BEGIN:VEVENT
DTSTART;VALUE=DATE:20251002
DTEND;VALUE=DATE:20251003
DTSTAMP:20260422T170452
CREATED:20250911T212027Z
LAST-MODIFIED:20250911T212027Z
UID:10003676-1759363200-1759449599@www.legionmemoriallibrary.org
SUMMARY:Smarties Day
DESCRIPTION:National Smarties Day \n“Candy is childhood\, the bet and bright moments you wish could have lasted forever.” —Dyland Lauren
URL:https://www.legionmemoriallibrary.org/event/smarties-day/
LOCATION:Legion Memorial Library\, 106 Iron Street\, Mellen\, WI\, 54546\, United States
GEO:46.32721;-90.658573
X-APPLE-STRUCTURED-LOCATION;VALUE=URI;X-ADDRESS=Legion Memorial Library 106 Iron Street Mellen WI 54546 United States;X-APPLE-RADIUS=500;X-TITLE=106 Iron Street:geo:-90.658573,46.32721
END:VEVENT
BEGIN:VEVENT
DTSTART;TZID=America/Chicago:20251001T083000
DTEND;TZID=America/Chicago:20251001T093000
DTSTAMP:20260422T170452
CREATED:20251001T172558Z
LAST-MODIFIED:20251001T172558Z
UID:10003706-1759307400-1759311000@www.legionmemoriallibrary.org
SUMMARY:Asahi Nordic Exercise
DESCRIPTION:
URL:https://www.legionmemoriallibrary.org/event/asahi-nordic-exercise-16/
LOCATION:Legion Memorial Library\, 106 Iron Street\, Mellen\, WI\, 54546\, United States
GEO:46.32721;-90.658573
X-APPLE-STRUCTURED-LOCATION;VALUE=URI;X-ADDRESS=Legion Memorial Library 106 Iron Street Mellen WI 54546 United States;X-APPLE-RADIUS=500;X-TITLE=106 Iron Street:geo:-90.658573,46.32721
END:VEVENT
BEGIN:VEVENT
DTSTART;TZID=America/Chicago:20251001T080000
DTEND;TZID=America/Chicago:20251001T090000
DTSTAMP:20260422T170452
CREATED:20251001T174133Z
LAST-MODIFIED:20251001T174133Z
UID:10003714-1759305600-1759309200@www.legionmemoriallibrary.org
SUMMARY:Asahi Nordic Exercise
DESCRIPTION:
URL:https://www.legionmemoriallibrary.org/event/asahi-nordic-exercise-17/
LOCATION:Legion Memorial Library\, 106 Iron Street\, Mellen\, WI\, 54546\, United States
GEO:46.32721;-90.658573
X-APPLE-STRUCTURED-LOCATION;VALUE=URI;X-ADDRESS=Legion Memorial Library 106 Iron Street Mellen WI 54546 United States;X-APPLE-RADIUS=500;X-TITLE=106 Iron Street:geo:-90.658573,46.32721
END:VEVENT
BEGIN:VEVENT
DTSTART;VALUE=DATE:20251001
DTEND;VALUE=DATE:20251002
DTSTAMP:20260422T170452
CREATED:20250911T211949Z
LAST-MODIFIED:20250911T211949Z
UID:10003675-1759276800-1759363199@www.legionmemoriallibrary.org
SUMMARY:Pumpkin Spice Day
DESCRIPTION:National Pumpkin Spice Day \n“I am falling in love with autumn\, the smell of warm cider\, the orange color leaves\, pumpkins everywhere\, and the crisp breeze.” —Charmaine J. Forde
URL:https://www.legionmemoriallibrary.org/event/pumpkin-spice-day-2/
LOCATION:Legion Memorial Library\, 106 Iron Street\, Mellen\, WI\, 54546\, United States
GEO:46.32721;-90.658573
X-APPLE-STRUCTURED-LOCATION;VALUE=URI;X-ADDRESS=Legion Memorial Library 106 Iron Street Mellen WI 54546 United States;X-APPLE-RADIUS=500;X-TITLE=106 Iron Street:geo:-90.658573,46.32721
END:VEVENT
BEGIN:VEVENT
DTSTART;VALUE=DATE:20250930
DTEND;VALUE=DATE:20251001
DTSTAMP:20260422T170452
CREATED:20250829T162640Z
LAST-MODIFIED:20250829T162640Z
UID:10003662-1759190400-1759276799@www.legionmemoriallibrary.org
SUMMARY:Hot Mulled Cider Day
DESCRIPTION:National Hot Mulled Cider Day \n“It was a beautiful bright autumn day\, with air like cider and a sky so blue you could drown in it.” —Diana Gabaldon
URL:https://www.legionmemoriallibrary.org/event/hot-mulled-cider-day/
LOCATION:Legion Memorial Library\, 106 Iron Street\, Mellen\, WI\, 54546\, United States
GEO:46.32721;-90.658573
X-APPLE-STRUCTURED-LOCATION;VALUE=URI;X-ADDRESS=Legion Memorial Library 106 Iron Street Mellen WI 54546 United States;X-APPLE-RADIUS=500;X-TITLE=106 Iron Street:geo:-90.658573,46.32721
END:VEVENT
BEGIN:VEVENT
DTSTART;VALUE=DATE:20250929
DTEND;VALUE=DATE:20250930
DTSTAMP:20260422T170452
CREATED:20250829T162559Z
LAST-MODIFIED:20250829T162559Z
UID:10003661-1759104000-1759190399@www.legionmemoriallibrary.org
SUMMARY:Coffee Day
DESCRIPTION:National Coffee Day \n“Coffee is the best thing to douse the sunrise with.” —Terri Guillemets
URL:https://www.legionmemoriallibrary.org/event/coffee-day-4/
LOCATION:Legion Memorial Library\, 106 Iron Street\, Mellen\, WI\, 54546\, United States
GEO:46.32721;-90.658573
X-APPLE-STRUCTURED-LOCATION;VALUE=URI;X-ADDRESS=Legion Memorial Library 106 Iron Street Mellen WI 54546 United States;X-APPLE-RADIUS=500;X-TITLE=106 Iron Street:geo:-90.658573,46.32721
END:VEVENT
BEGIN:VEVENT
DTSTART;VALUE=DATE:20250928
DTEND;VALUE=DATE:20250929
DTSTAMP:20260422T170452
CREATED:20250829T162511Z
LAST-MODIFIED:20250829T162511Z
UID:10003660-1759017600-1759103999@www.legionmemoriallibrary.org
SUMMARY:Strawberry Cream Pie Day
DESCRIPTION:National Strawberry Cream Pie Day \n“I know that I am essentially a sort of fun-loving person who really just wants to sit around and eat pies.” —Nora Ephron
URL:https://www.legionmemoriallibrary.org/event/strawberry-cream-pie-day-2/
LOCATION:Legion Memorial Library\, 106 Iron Street\, Mellen\, WI\, 54546\, United States
GEO:46.32721;-90.658573
X-APPLE-STRUCTURED-LOCATION;VALUE=URI;X-ADDRESS=Legion Memorial Library 106 Iron Street Mellen WI 54546 United States;X-APPLE-RADIUS=500;X-TITLE=106 Iron Street:geo:-90.658573,46.32721
END:VEVENT
BEGIN:VEVENT
DTSTART;VALUE=DATE:20250927
DTEND;VALUE=DATE:20250928
DTSTAMP:20260422T170452
CREATED:20250829T162439Z
LAST-MODIFIED:20250829T162439Z
UID:10003659-1758931200-1759017599@www.legionmemoriallibrary.org
SUMMARY:Chocolate Milk Day
DESCRIPTION:National Chocolate Milk Day \n“Chocolate milk has everything I need in a drink: the carbs\, the protein and the electrolytes. It’s even backed up by science\, showing how you’re able to recover. I can speak from experience; this is what I drink.” —Al Horford \n 
URL:https://www.legionmemoriallibrary.org/event/chocolate-milk-day-4/
LOCATION:Legion Memorial Library\, 106 Iron Street\, Mellen\, WI\, 54546\, United States
GEO:46.32721;-90.658573
X-APPLE-STRUCTURED-LOCATION;VALUE=URI;X-ADDRESS=Legion Memorial Library 106 Iron Street Mellen WI 54546 United States;X-APPLE-RADIUS=500;X-TITLE=106 Iron Street:geo:-90.658573,46.32721
END:VEVENT
BEGIN:VEVENT
DTSTART;TZID=America/Chicago:20250926T180000
DTEND;TZID=America/Chicago:20250926T210000
DTSTAMP:20260422T170452
CREATED:20250829T201414Z
LAST-MODIFIED:20250829T201414Z
UID:10003674-1758909600-1758920400@www.legionmemoriallibrary.org
SUMMARY:Paint Night
DESCRIPTION:Scarecrow Gnome with Michelle the Painter – Register at the library to participate and receive a supply list.
URL:https://www.legionmemoriallibrary.org/event/paint-night-10/
LOCATION:Legion Memorial Library\, 106 Iron Street\, Mellen\, WI\, 54546\, United States
GEO:46.32721;-90.658573
X-APPLE-STRUCTURED-LOCATION;VALUE=URI;X-ADDRESS=Legion Memorial Library 106 Iron Street Mellen WI 54546 United States;X-APPLE-RADIUS=500;X-TITLE=106 Iron Street:geo:-90.658573,46.32721
END:VEVENT
BEGIN:VEVENT
DTSTART;VALUE=DATE:20250926
DTEND;VALUE=DATE:20250927
DTSTAMP:20260422T170452
CREATED:20250829T162336Z
LAST-MODIFIED:20250829T162336Z
UID:10003658-1758844800-1758931199@www.legionmemoriallibrary.org
SUMMARY:Cream Cheese Day
DESCRIPTION:National Cream Cheese Day \n“I like cream cheese in just about anything.” —Diane Mott Davidson
URL:https://www.legionmemoriallibrary.org/event/cream-cheese-day/
LOCATION:Legion Memorial Library\, 106 Iron Street\, Mellen\, WI\, 54546\, United States
GEO:46.32721;-90.658573
X-APPLE-STRUCTURED-LOCATION;VALUE=URI;X-ADDRESS=Legion Memorial Library 106 Iron Street Mellen WI 54546 United States;X-APPLE-RADIUS=500;X-TITLE=106 Iron Street:geo:-90.658573,46.32721
END:VEVENT
BEGIN:VEVENT
DTSTART;VALUE=DATE:20250925
DTEND;VALUE=DATE:20250926
DTSTAMP:20260422T170452
CREATED:20250829T162303Z
LAST-MODIFIED:20250829T162303Z
UID:10003657-1758758400-1758844799@www.legionmemoriallibrary.org
SUMMARY:Lobster Day
DESCRIPTION:National Lobster Day \n“When life gives you lemons\, order the lobster tail.” —Ziad K. Abdelnour
URL:https://www.legionmemoriallibrary.org/event/lobster-day-5/
LOCATION:Legion Memorial Library\, 106 Iron Street\, Mellen\, WI\, 54546\, United States
GEO:46.32721;-90.658573
X-APPLE-STRUCTURED-LOCATION;VALUE=URI;X-ADDRESS=Legion Memorial Library 106 Iron Street Mellen WI 54546 United States;X-APPLE-RADIUS=500;X-TITLE=106 Iron Street:geo:-90.658573,46.32721
END:VEVENT
BEGIN:VEVENT
DTSTART;VALUE=DATE:20250924
DTEND;VALUE=DATE:20250925
DTSTAMP:20260422T170452
CREATED:20250829T162228Z
LAST-MODIFIED:20250829T162228Z
UID:10003656-1758672000-1758758399@www.legionmemoriallibrary.org
SUMMARY:Cherries Jubilee Day
DESCRIPTION:National Cherries Jubilee Day \n“Watch out for cherries jubilee…they are a little overly jubilant.” Quote from Frasier TV episode
URL:https://www.legionmemoriallibrary.org/event/cherries-jubilee-day-4/
LOCATION:Legion Memorial Library\, 106 Iron Street\, Mellen\, WI\, 54546\, United States
GEO:46.32721;-90.658573
X-APPLE-STRUCTURED-LOCATION;VALUE=URI;X-ADDRESS=Legion Memorial Library 106 Iron Street Mellen WI 54546 United States;X-APPLE-RADIUS=500;X-TITLE=106 Iron Street:geo:-90.658573,46.32721
END:VEVENT
BEGIN:VEVENT
DTSTART;VALUE=DATE:20250923
DTEND;VALUE=DATE:20250924
DTSTAMP:20260422T170452
CREATED:20250829T162149Z
LAST-MODIFIED:20250829T162149Z
UID:10003655-1758585600-1758671999@www.legionmemoriallibrary.org
SUMMARY:Great American Pot Pie Day
DESCRIPTION:National Great American Pot Pie Day \n“Chicken pot pie – those are my three favorite things.” —Pablo Francisco
URL:https://www.legionmemoriallibrary.org/event/great-american-pot-pie-day-3/
LOCATION:Legion Memorial Library\, 106 Iron Street\, Mellen\, WI\, 54546\, United States
GEO:46.32721;-90.658573
X-APPLE-STRUCTURED-LOCATION;VALUE=URI;X-ADDRESS=Legion Memorial Library 106 Iron Street Mellen WI 54546 United States;X-APPLE-RADIUS=500;X-TITLE=106 Iron Street:geo:-90.658573,46.32721
END:VEVENT
BEGIN:VEVENT
DTSTART;VALUE=DATE:20250922
DTEND;VALUE=DATE:20250923
DTSTAMP:20260422T170452
CREATED:20250829T162112Z
LAST-MODIFIED:20250829T162112Z
UID:10003654-1758499200-1758585599@www.legionmemoriallibrary.org
SUMMARY:Ice Cream Cone Day
DESCRIPTION:National Ice Cream Cone Day \n“Life is like an ice-cream cone; you have to lick it one day at a time.” —Charles M. Schulz
URL:https://www.legionmemoriallibrary.org/event/ice-cream-cone-day-4/
LOCATION:Legion Memorial Library\, 106 Iron Street\, Mellen\, WI\, 54546\, United States
GEO:46.32721;-90.658573
X-APPLE-STRUCTURED-LOCATION;VALUE=URI;X-ADDRESS=Legion Memorial Library 106 Iron Street Mellen WI 54546 United States;X-APPLE-RADIUS=500;X-TITLE=106 Iron Street:geo:-90.658573,46.32721
END:VEVENT
BEGIN:VEVENT
DTSTART;VALUE=DATE:20250921
DTEND;VALUE=DATE:20250922
DTSTAMP:20260422T170452
CREATED:20250829T162008Z
LAST-MODIFIED:20250829T162008Z
UID:10003653-1758412800-1758499199@www.legionmemoriallibrary.org
SUMMARY:Sponge Candy Day
DESCRIPTION:National Sponge Candy Day \n“I always saw candy as art.” —Dylan Lauren
URL:https://www.legionmemoriallibrary.org/event/sponge-candy-day/
LOCATION:Legion Memorial Library\, 106 Iron Street\, Mellen\, WI\, 54546\, United States
GEO:46.32721;-90.658573
X-APPLE-STRUCTURED-LOCATION;VALUE=URI;X-ADDRESS=Legion Memorial Library 106 Iron Street Mellen WI 54546 United States;X-APPLE-RADIUS=500;X-TITLE=106 Iron Street:geo:-90.658573,46.32721
END:VEVENT
BEGIN:VEVENT
DTSTART;VALUE=DATE:20250920
DTEND;VALUE=DATE:20250921
DTSTAMP:20260422T170452
CREATED:20250829T161919Z
LAST-MODIFIED:20250829T161919Z
UID:10003652-1758326400-1758412799@www.legionmemoriallibrary.org
SUMMARY:Fried Rice Day
DESCRIPTION:National Fried Rice Day \n“May your rice never burn’\, is the New Year’s greeting of the Chinese. ‘May it never be gummy is ours.” —Irma S. Bombauer
URL:https://www.legionmemoriallibrary.org/event/fried-rice-day/
LOCATION:Legion Memorial Library\, 106 Iron Street\, Mellen\, WI\, 54546\, United States
GEO:46.32721;-90.658573
X-APPLE-STRUCTURED-LOCATION;VALUE=URI;X-ADDRESS=Legion Memorial Library 106 Iron Street Mellen WI 54546 United States;X-APPLE-RADIUS=500;X-TITLE=106 Iron Street:geo:-90.658573,46.32721
END:VEVENT
BEGIN:VEVENT
DTSTART;VALUE=DATE:20250919
DTEND;VALUE=DATE:20250920
DTSTAMP:20260422T170452
CREATED:20250829T161839Z
LAST-MODIFIED:20250829T161839Z
UID:10003651-1758240000-1758326399@www.legionmemoriallibrary.org
SUMMARY:Butterscotch Pudding Day
DESCRIPTION:National Butterscotch Pudding Day \n“I guess if I’m a product\, either you’re chocolate\, you’re vanilla or you’re butterscotch. You can’t be all three.” —Bruno Mars
URL:https://www.legionmemoriallibrary.org/event/butterscotch-pudding-day-3/
LOCATION:Legion Memorial Library\, 106 Iron Street\, Mellen\, WI\, 54546\, United States
GEO:46.32721;-90.658573
X-APPLE-STRUCTURED-LOCATION;VALUE=URI;X-ADDRESS=Legion Memorial Library 106 Iron Street Mellen WI 54546 United States;X-APPLE-RADIUS=500;X-TITLE=106 Iron Street:geo:-90.658573,46.32721
END:VEVENT
BEGIN:VEVENT
DTSTART;TZID=America/Chicago:20250918T190000
DTEND;TZID=America/Chicago:20250918T210000
DTSTAMP:20260422T170452
CREATED:20250829T201231Z
LAST-MODIFIED:20250829T201231Z
UID:10003673-1758222000-1758229200@www.legionmemoriallibrary.org
SUMMARY:Movie Night
DESCRIPTION:Karate Kid:  Legends
URL:https://www.legionmemoriallibrary.org/event/movie-night-4/
LOCATION:Legion Memorial Library\, 106 Iron Street\, Mellen\, WI\, 54546\, United States
GEO:46.32721;-90.658573
X-APPLE-STRUCTURED-LOCATION;VALUE=URI;X-ADDRESS=Legion Memorial Library 106 Iron Street Mellen WI 54546 United States;X-APPLE-RADIUS=500;X-TITLE=106 Iron Street:geo:-90.658573,46.32721
END:VEVENT
BEGIN:VEVENT
DTSTART;VALUE=DATE:20250918
DTEND;VALUE=DATE:20250919
DTSTAMP:20260422T170452
CREATED:20250829T161210Z
LAST-MODIFIED:20250829T161210Z
UID:10003650-1758153600-1758239999@www.legionmemoriallibrary.org
SUMMARY:Cheeseburger Day
DESCRIPTION:National Cheeseburger Day \n“I can’t be on the cheeseburger diet all the time.” —Bobby Flay
URL:https://www.legionmemoriallibrary.org/event/cheeseburger-day-3/
LOCATION:Legion Memorial Library\, 106 Iron Street\, Mellen\, WI\, 54546\, United States
GEO:46.32721;-90.658573
X-APPLE-STRUCTURED-LOCATION;VALUE=URI;X-ADDRESS=Legion Memorial Library 106 Iron Street Mellen WI 54546 United States;X-APPLE-RADIUS=500;X-TITLE=106 Iron Street:geo:-90.658573,46.32721
END:VEVENT
END:VCALENDAR