BEGIN:VCALENDAR
VERSION:2.0
PRODID:-//Legion Memorial Library - ECPv6.15.20//NONSGML v1.0//EN
CALSCALE:GREGORIAN
METHOD:PUBLISH
X-ORIGINAL-URL:https://www.legionmemoriallibrary.org
X-WR-CALDESC:Events for Legion Memorial Library
REFRESH-INTERVAL;VALUE=DURATION:PT1H
X-Robots-Tag:noindex
X-PUBLISHED-TTL:PT1H
BEGIN:VTIMEZONE
TZID:America/Chicago
BEGIN:DAYLIGHT
TZOFFSETFROM:-0600
TZOFFSETTO:-0500
TZNAME:CDT
DTSTART:20240310T080000
END:DAYLIGHT
BEGIN:STANDARD
TZOFFSETFROM:-0500
TZOFFSETTO:-0600
TZNAME:CST
DTSTART:20241103T070000
END:STANDARD
BEGIN:DAYLIGHT
TZOFFSETFROM:-0600
TZOFFSETTO:-0500
TZNAME:CDT
DTSTART:20250309T080000
END:DAYLIGHT
BEGIN:STANDARD
TZOFFSETFROM:-0500
TZOFFSETTO:-0600
TZNAME:CST
DTSTART:20251102T070000
END:STANDARD
BEGIN:DAYLIGHT
TZOFFSETFROM:-0600
TZOFFSETTO:-0500
TZNAME:CDT
DTSTART:20260308T080000
END:DAYLIGHT
BEGIN:STANDARD
TZOFFSETFROM:-0500
TZOFFSETTO:-0600
TZNAME:CST
DTSTART:20261101T070000
END:STANDARD
END:VTIMEZONE
BEGIN:VEVENT
DTSTART;TZID=America/Chicago:20251217T160000
DTEND;TZID=America/Chicago:20251217T170000
DTSTAMP:20260421T213124
CREATED:20251015T174206Z
LAST-MODIFIED:20251015T174206Z
UID:10003731-1765987200-1765990800@www.legionmemoriallibrary.org
SUMMARY:Asahi Nordic Exercise
DESCRIPTION:
URL:https://www.legionmemoriallibrary.org/event/asahi-nordic-exercise-54/
LOCATION:Legion Memorial Library\, 106 Iron Street\, Mellen\, WI\, 54546\, United States
GEO:46.32721;-90.658573
X-APPLE-STRUCTURED-LOCATION;VALUE=URI;X-ADDRESS=Legion Memorial Library 106 Iron Street Mellen WI 54546 United States;X-APPLE-RADIUS=500;X-TITLE=106 Iron Street:geo:-90.658573,46.32721
END:VEVENT
BEGIN:VEVENT
DTSTART;TZID=America/Chicago:20251217T090000
DTEND;TZID=America/Chicago:20251217T100000
DTSTAMP:20260421T213124
CREATED:20251201T161219Z
LAST-MODIFIED:20251201T161219Z
UID:10003779-1765962000-1765965600@www.legionmemoriallibrary.org
SUMMARY:Book Club
DESCRIPTION:Book Club will meet to discuss “Dreamland” by Nicholas Sparks.
URL:https://www.legionmemoriallibrary.org/event/book-club-56/
LOCATION:Legion Memorial Library\, 106 Iron Street\, Mellen\, WI\, 54546\, United States
GEO:46.32721;-90.658573
X-APPLE-STRUCTURED-LOCATION;VALUE=URI;X-ADDRESS=Legion Memorial Library 106 Iron Street Mellen WI 54546 United States;X-APPLE-RADIUS=500;X-TITLE=106 Iron Street:geo:-90.658573,46.32721
END:VEVENT
BEGIN:VEVENT
DTSTART;VALUE=DATE:20251217
DTEND;VALUE=DATE:20251218
DTSTAMP:20260421T213124
CREATED:20251201T162928Z
LAST-MODIFIED:20251201T162928Z
UID:10003800-1765929600-1766015999@www.legionmemoriallibrary.org
SUMMARY:Wright Brothers Day
DESCRIPTION:
URL:https://www.legionmemoriallibrary.org/event/wright-brothers-day/
LOCATION:Legion Memorial Library\, 106 Iron Street\, Mellen\, WI\, 54546\, United States
GEO:46.32721;-90.658573
X-APPLE-STRUCTURED-LOCATION;VALUE=URI;X-ADDRESS=Legion Memorial Library 106 Iron Street Mellen WI 54546 United States;X-APPLE-RADIUS=500;X-TITLE=106 Iron Street:geo:-90.658573,46.32721
END:VEVENT
BEGIN:VEVENT
DTSTART;TZID=America/Chicago:20251216T170500
DTEND;TZID=America/Chicago:20251216T180000
DTSTAMP:20260421T213124
CREATED:20251201T161103Z
LAST-MODIFIED:20251201T161103Z
UID:10003778-1765904700-1765908000@www.legionmemoriallibrary.org
SUMMARY:Library Board Meeting
DESCRIPTION:
URL:https://www.legionmemoriallibrary.org/event/library-board-meeting-20/
LOCATION:Legion Memorial Library\, 106 Iron Street\, Mellen\, WI\, 54546\, United States
GEO:46.32721;-90.658573
X-APPLE-STRUCTURED-LOCATION;VALUE=URI;X-ADDRESS=Legion Memorial Library 106 Iron Street Mellen WI 54546 United States;X-APPLE-RADIUS=500;X-TITLE=106 Iron Street:geo:-90.658573,46.32721
END:VEVENT
BEGIN:VEVENT
DTSTART;VALUE=DATE:20251216
DTEND;VALUE=DATE:20251217
DTSTAMP:20260421T213124
CREATED:20251201T162902Z
LAST-MODIFIED:20251201T162902Z
UID:10003799-1765843200-1765929599@www.legionmemoriallibrary.org
SUMMARY:Day of Reconciliation
DESCRIPTION:
URL:https://www.legionmemoriallibrary.org/event/day-of-reconciliation/
LOCATION:Legion Memorial Library\, 106 Iron Street\, Mellen\, WI\, 54546\, United States
GEO:46.32721;-90.658573
X-APPLE-STRUCTURED-LOCATION;VALUE=URI;X-ADDRESS=Legion Memorial Library 106 Iron Street Mellen WI 54546 United States;X-APPLE-RADIUS=500;X-TITLE=106 Iron Street:geo:-90.658573,46.32721
END:VEVENT
BEGIN:VEVENT
DTSTART;VALUE=DATE:20251215
DTEND;VALUE=DATE:20251216
DTSTAMP:20260421T213124
CREATED:20251201T164131Z
LAST-MODIFIED:20251201T164131Z
UID:10003814-1765756800-1765843199@www.legionmemoriallibrary.org
SUMMARY:Bill of Rights Day
DESCRIPTION:
URL:https://www.legionmemoriallibrary.org/event/bill-of-rights-day-2/
LOCATION:Legion Memorial Library\, 106 Iron Street\, Mellen\, WI\, 54546\, United States
GEO:46.32721;-90.658573
X-APPLE-STRUCTURED-LOCATION;VALUE=URI;X-ADDRESS=Legion Memorial Library 106 Iron Street Mellen WI 54546 United States;X-APPLE-RADIUS=500;X-TITLE=106 Iron Street:geo:-90.658573,46.32721
END:VEVENT
BEGIN:VEVENT
DTSTART;VALUE=DATE:20251214
DTEND;VALUE=DATE:20251215
DTSTAMP:20260421T213124
CREATED:20251201T162802Z
LAST-MODIFIED:20251201T162802Z
UID:10003797-1765670400-1765756799@www.legionmemoriallibrary.org
SUMMARY:First Night of Hanukkah
DESCRIPTION:
URL:https://www.legionmemoriallibrary.org/event/first-night-of-hanukkah/
LOCATION:Legion Memorial Library\, 106 Iron Street\, Mellen\, WI\, 54546\, United States
GEO:46.32721;-90.658573
X-APPLE-STRUCTURED-LOCATION;VALUE=URI;X-ADDRESS=Legion Memorial Library 106 Iron Street Mellen WI 54546 United States;X-APPLE-RADIUS=500;X-TITLE=106 Iron Street:geo:-90.658573,46.32721
END:VEVENT
BEGIN:VEVENT
DTSTART;VALUE=DATE:20251213
DTEND;VALUE=DATE:20251214
DTSTAMP:20260421T213124
CREATED:20251201T162724Z
LAST-MODIFIED:20251201T162724Z
UID:10003796-1765584000-1765670399@www.legionmemoriallibrary.org
SUMMARY:Cocoa Day
DESCRIPTION:
URL:https://www.legionmemoriallibrary.org/event/cocoa-day-3/
LOCATION:Legion Memorial Library\, 106 Iron Street\, Mellen\, WI\, 54546\, United States
GEO:46.32721;-90.658573
X-APPLE-STRUCTURED-LOCATION;VALUE=URI;X-ADDRESS=Legion Memorial Library 106 Iron Street Mellen WI 54546 United States;X-APPLE-RADIUS=500;X-TITLE=106 Iron Street:geo:-90.658573,46.32721
END:VEVENT
BEGIN:VEVENT
DTSTART;VALUE=DATE:20251212
DTEND;VALUE=DATE:20251213
DTSTAMP:20260421T213124
CREATED:20251201T162343Z
LAST-MODIFIED:20251201T162343Z
UID:10003795-1765497600-1765583999@www.legionmemoriallibrary.org
SUMMARY:Gingerbread House Day
DESCRIPTION:
URL:https://www.legionmemoriallibrary.org/event/gingerbread-house-day-3/
LOCATION:Legion Memorial Library\, 106 Iron Street\, Mellen\, WI\, 54546\, United States
GEO:46.32721;-90.658573
X-APPLE-STRUCTURED-LOCATION;VALUE=URI;X-ADDRESS=Legion Memorial Library 106 Iron Street Mellen WI 54546 United States;X-APPLE-RADIUS=500;X-TITLE=106 Iron Street:geo:-90.658573,46.32721
END:VEVENT
BEGIN:VEVENT
DTSTART;VALUE=DATE:20251211
DTEND;VALUE=DATE:20251212
DTSTAMP:20260421T213124
CREATED:20251201T162310Z
LAST-MODIFIED:20251201T162310Z
UID:10003794-1765411200-1765497599@www.legionmemoriallibrary.org
SUMMARY:Stretching Day
DESCRIPTION:
URL:https://www.legionmemoriallibrary.org/event/stretching-day/
LOCATION:Legion Memorial Library\, 106 Iron Street\, Mellen\, WI\, 54546\, United States
GEO:46.32721;-90.658573
X-APPLE-STRUCTURED-LOCATION;VALUE=URI;X-ADDRESS=Legion Memorial Library 106 Iron Street Mellen WI 54546 United States;X-APPLE-RADIUS=500;X-TITLE=106 Iron Street:geo:-90.658573,46.32721
END:VEVENT
BEGIN:VEVENT
DTSTART;TZID=America/Chicago:20251210T160000
DTEND;TZID=America/Chicago:20251210T170000
DTSTAMP:20260421T213124
CREATED:20251015T174144Z
LAST-MODIFIED:20251015T174144Z
UID:10003730-1765382400-1765386000@www.legionmemoriallibrary.org
SUMMARY:Asahi Nordic Exercise
DESCRIPTION:
URL:https://www.legionmemoriallibrary.org/event/asahi-nordic-exercise-53/
LOCATION:Legion Memorial Library\, 106 Iron Street\, Mellen\, WI\, 54546\, United States
GEO:46.32721;-90.658573
X-APPLE-STRUCTURED-LOCATION;VALUE=URI;X-ADDRESS=Legion Memorial Library 106 Iron Street Mellen WI 54546 United States;X-APPLE-RADIUS=500;X-TITLE=106 Iron Street:geo:-90.658573,46.32721
END:VEVENT
BEGIN:VEVENT
DTSTART;VALUE=DATE:20251210
DTEND;VALUE=DATE:20251211
DTSTAMP:20260421T213124
CREATED:20251201T162237Z
LAST-MODIFIED:20251201T162237Z
UID:10003793-1765324800-1765411199@www.legionmemoriallibrary.org
SUMMARY:Dewey Decimal System Day
DESCRIPTION:
URL:https://www.legionmemoriallibrary.org/event/dewey-decimal-system-day/
LOCATION:Legion Memorial Library\, 106 Iron Street\, Mellen\, WI\, 54546\, United States
GEO:46.32721;-90.658573
X-APPLE-STRUCTURED-LOCATION;VALUE=URI;X-ADDRESS=Legion Memorial Library 106 Iron Street Mellen WI 54546 United States;X-APPLE-RADIUS=500;X-TITLE=106 Iron Street:geo:-90.658573,46.32721
END:VEVENT
BEGIN:VEVENT
DTSTART;VALUE=DATE:20251209
DTEND;VALUE=DATE:20251210
DTSTAMP:20260421T213124
CREATED:20251201T162155Z
LAST-MODIFIED:20251201T162155Z
UID:10003792-1765238400-1765324799@www.legionmemoriallibrary.org
SUMMARY:Christmas Card Day
DESCRIPTION:
URL:https://www.legionmemoriallibrary.org/event/christmas-card-day/
LOCATION:Legion Memorial Library\, 106 Iron Street\, Mellen\, WI\, 54546\, United States
GEO:46.32721;-90.658573
X-APPLE-STRUCTURED-LOCATION;VALUE=URI;X-ADDRESS=Legion Memorial Library 106 Iron Street Mellen WI 54546 United States;X-APPLE-RADIUS=500;X-TITLE=106 Iron Street:geo:-90.658573,46.32721
END:VEVENT
BEGIN:VEVENT
DTSTART;TZID=America/Chicago:20251208T180000
DTEND;TZID=America/Chicago:20251208T190000
DTSTAMP:20260421T213124
CREATED:20251201T161004Z
LAST-MODIFIED:20251201T161004Z
UID:10003777-1765216800-1765220400@www.legionmemoriallibrary.org
SUMMARY:Book Club
DESCRIPTION:We will meet to discuss the book “Hello Beautiful” by Ann Napolitano.
URL:https://www.legionmemoriallibrary.org/event/book-club-55/
LOCATION:Legion Memorial Library\, 106 Iron Street\, Mellen\, WI\, 54546\, United States
GEO:46.32721;-90.658573
X-APPLE-STRUCTURED-LOCATION;VALUE=URI;X-ADDRESS=Legion Memorial Library 106 Iron Street Mellen WI 54546 United States;X-APPLE-RADIUS=500;X-TITLE=106 Iron Street:geo:-90.658573,46.32721
END:VEVENT
BEGIN:VEVENT
DTSTART;TZID=America/Chicago:20251208T090000
DTEND;TZID=America/Chicago:20251208T120000
DTSTAMP:20260421T213124
CREATED:20251201T160902Z
LAST-MODIFIED:20251201T160902Z
UID:10003776-1765184400-1765195200@www.legionmemoriallibrary.org
SUMMARY:Elder Benefit Specialist
DESCRIPTION:
URL:https://www.legionmemoriallibrary.org/event/elder-benefit-specialist-3/
LOCATION:Legion Memorial Library\, 106 Iron Street\, Mellen\, WI\, 54546\, United States
GEO:46.32721;-90.658573
X-APPLE-STRUCTURED-LOCATION;VALUE=URI;X-ADDRESS=Legion Memorial Library 106 Iron Street Mellen WI 54546 United States;X-APPLE-RADIUS=500;X-TITLE=106 Iron Street:geo:-90.658573,46.32721
END:VEVENT
BEGIN:VEVENT
DTSTART;VALUE=DATE:20251208
DTEND;VALUE=DATE:20251209
DTSTAMP:20260421T213124
CREATED:20251201T162114Z
LAST-MODIFIED:20251201T162114Z
UID:10003791-1765152000-1765238399@www.legionmemoriallibrary.org
SUMMARY:Lard Day
DESCRIPTION:
URL:https://www.legionmemoriallibrary.org/event/lard-day/
LOCATION:Legion Memorial Library\, 106 Iron Street\, Mellen\, WI\, 54546\, United States
GEO:46.32721;-90.658573
X-APPLE-STRUCTURED-LOCATION;VALUE=URI;X-ADDRESS=Legion Memorial Library 106 Iron Street Mellen WI 54546 United States;X-APPLE-RADIUS=500;X-TITLE=106 Iron Street:geo:-90.658573,46.32721
END:VEVENT
BEGIN:VEVENT
DTSTART;VALUE=DATE:20251207
DTEND;VALUE=DATE:20251208
DTSTAMP:20260421T213124
CREATED:20251201T162042Z
LAST-MODIFIED:20251201T162042Z
UID:10003790-1765065600-1765151999@www.legionmemoriallibrary.org
SUMMARY:Pearl Harbor Day of Remembrance
DESCRIPTION:
URL:https://www.legionmemoriallibrary.org/event/pearl-harbor-day-of-remembrance/
LOCATION:Legion Memorial Library\, 106 Iron Street\, Mellen\, WI\, 54546\, United States
GEO:46.32721;-90.658573
X-APPLE-STRUCTURED-LOCATION;VALUE=URI;X-ADDRESS=Legion Memorial Library 106 Iron Street Mellen WI 54546 United States;X-APPLE-RADIUS=500;X-TITLE=106 Iron Street:geo:-90.658573,46.32721
END:VEVENT
BEGIN:VEVENT
DTSTART;VALUE=DATE:20251206
DTEND;VALUE=DATE:20251207
DTSTAMP:20260421T213124
CREATED:20251201T162008Z
LAST-MODIFIED:20251201T162008Z
UID:10003789-1764979200-1765065599@www.legionmemoriallibrary.org
SUMMARY:St. Nicholas Day
DESCRIPTION:
URL:https://www.legionmemoriallibrary.org/event/st-nicholas-day-2/
LOCATION:Legion Memorial Library\, 106 Iron Street\, Mellen\, WI\, 54546\, United States
GEO:46.32721;-90.658573
X-APPLE-STRUCTURED-LOCATION;VALUE=URI;X-ADDRESS=Legion Memorial Library 106 Iron Street Mellen WI 54546 United States;X-APPLE-RADIUS=500;X-TITLE=106 Iron Street:geo:-90.658573,46.32721
END:VEVENT
BEGIN:VEVENT
DTSTART;VALUE=DATE:20251205
DTEND;VALUE=DATE:20251206
DTSTAMP:20260421T213124
CREATED:20251201T161938Z
LAST-MODIFIED:20251201T161938Z
UID:10003788-1764892800-1764979199@www.legionmemoriallibrary.org
SUMMARY:Light Up a Life Day
DESCRIPTION:
URL:https://www.legionmemoriallibrary.org/event/light-up-a-life-day/
LOCATION:Legion Memorial Library\, 106 Iron Street\, Mellen\, WI\, 54546\, United States
GEO:46.32721;-90.658573
X-APPLE-STRUCTURED-LOCATION;VALUE=URI;X-ADDRESS=Legion Memorial Library 106 Iron Street Mellen WI 54546 United States;X-APPLE-RADIUS=500;X-TITLE=106 Iron Street:geo:-90.658573,46.32721
END:VEVENT
BEGIN:VEVENT
DTSTART;TZID=America/Chicago:20251204T170000
DTEND;TZID=America/Chicago:20251204T180000
DTSTAMP:20260421T213124
CREATED:20251201T160825Z
LAST-MODIFIED:20251201T160825Z
UID:10003775-1764867600-1764871200@www.legionmemoriallibrary.org
SUMMARY:Friends Meeting
DESCRIPTION:
URL:https://www.legionmemoriallibrary.org/event/friends-meeting-14/
LOCATION:Legion Memorial Library\, 106 Iron Street\, Mellen\, WI\, 54546\, United States
GEO:46.32721;-90.658573
X-APPLE-STRUCTURED-LOCATION;VALUE=URI;X-ADDRESS=Legion Memorial Library 106 Iron Street Mellen WI 54546 United States;X-APPLE-RADIUS=500;X-TITLE=106 Iron Street:geo:-90.658573,46.32721
END:VEVENT
BEGIN:VEVENT
DTSTART;TZID=America/Chicago:20251204T090000
DTEND;TZID=America/Chicago:20251204T100000
DTSTAMP:20260421T213124
CREATED:20251105T174459Z
LAST-MODIFIED:20251105T174459Z
UID:10003762-1764838800-1764842400@www.legionmemoriallibrary.org
SUMMARY:Library School Storytime
DESCRIPTION:This program is planned for children around age 3 to attend with an adult caregiver.  We take time to sing\, read\, play\, create\, and check out books.  Today’s theme is:  Stars.  If you are unable to join us Thursday mornings\, remember we do have a 1000 Books Before Kindergarten program\, patch program\, and Take & Make crafts available.  Stop in the library with your youngsters play with the puzzles\, Legos\, or trains.  Then find some books to take home and share. \nThe next Library School Storytime session is February 5-March 26.  Enjoy your holidays.
URL:https://www.legionmemoriallibrary.org/event/library-school-storytime-33/
LOCATION:Legion Memorial Library\, 106 Iron Street\, Mellen\, WI\, 54546\, United States
GEO:46.32721;-90.658573
X-APPLE-STRUCTURED-LOCATION;VALUE=URI;X-ADDRESS=Legion Memorial Library 106 Iron Street Mellen WI 54546 United States;X-APPLE-RADIUS=500;X-TITLE=106 Iron Street:geo:-90.658573,46.32721
END:VEVENT
BEGIN:VEVENT
DTSTART;VALUE=DATE:20251204
DTEND;VALUE=DATE:20251205
DTSTAMP:20260421T213124
CREATED:20251201T161902Z
LAST-MODIFIED:20251201T161902Z
UID:10003787-1764806400-1764892799@www.legionmemoriallibrary.org
SUMMARY:Santa’s List Day
DESCRIPTION:
URL:https://www.legionmemoriallibrary.org/event/santas-list-day/
LOCATION:Legion Memorial Library\, 106 Iron Street\, Mellen\, WI\, 54546\, United States
GEO:46.32721;-90.658573
X-APPLE-STRUCTURED-LOCATION;VALUE=URI;X-ADDRESS=Legion Memorial Library 106 Iron Street Mellen WI 54546 United States;X-APPLE-RADIUS=500;X-TITLE=106 Iron Street:geo:-90.658573,46.32721
END:VEVENT
BEGIN:VEVENT
DTSTART;TZID=America/Chicago:20251203T160000
DTEND;TZID=America/Chicago:20251203T170000
DTSTAMP:20260421T213124
CREATED:20251015T174122Z
LAST-MODIFIED:20251015T174122Z
UID:10003729-1764777600-1764781200@www.legionmemoriallibrary.org
SUMMARY:Asahi Nordic Exercise
DESCRIPTION:
URL:https://www.legionmemoriallibrary.org/event/asahi-nordic-exercise-52/
LOCATION:Legion Memorial Library\, 106 Iron Street\, Mellen\, WI\, 54546\, United States
GEO:46.32721;-90.658573
X-APPLE-STRUCTURED-LOCATION;VALUE=URI;X-ADDRESS=Legion Memorial Library 106 Iron Street Mellen WI 54546 United States;X-APPLE-RADIUS=500;X-TITLE=106 Iron Street:geo:-90.658573,46.32721
END:VEVENT
BEGIN:VEVENT
DTSTART;VALUE=DATE:20251203
DTEND;VALUE=DATE:20251204
DTSTAMP:20260421T213124
CREATED:20251201T161753Z
LAST-MODIFIED:20251201T161753Z
UID:10003786-1764720000-1764806399@www.legionmemoriallibrary.org
SUMMARY:Make a Gift Day
DESCRIPTION:
URL:https://www.legionmemoriallibrary.org/event/make-a-gift-day/
LOCATION:Legion Memorial Library\, 106 Iron Street\, Mellen\, WI\, 54546\, United States
GEO:46.32721;-90.658573
X-APPLE-STRUCTURED-LOCATION;VALUE=URI;X-ADDRESS=Legion Memorial Library 106 Iron Street Mellen WI 54546 United States;X-APPLE-RADIUS=500;X-TITLE=106 Iron Street:geo:-90.658573,46.32721
END:VEVENT
BEGIN:VEVENT
DTSTART;VALUE=DATE:20251202
DTEND;VALUE=DATE:20251203
DTSTAMP:20260421T213124
CREATED:20251201T161721Z
LAST-MODIFIED:20251201T161721Z
UID:10003785-1764633600-1764719999@www.legionmemoriallibrary.org
SUMMARY:Day of Giving
DESCRIPTION:
URL:https://www.legionmemoriallibrary.org/event/day-of-giving/
LOCATION:Legion Memorial Library\, 106 Iron Street\, Mellen\, WI\, 54546\, United States
GEO:46.32721;-90.658573
X-APPLE-STRUCTURED-LOCATION;VALUE=URI;X-ADDRESS=Legion Memorial Library 106 Iron Street Mellen WI 54546 United States;X-APPLE-RADIUS=500;X-TITLE=106 Iron Street:geo:-90.658573,46.32721
END:VEVENT
BEGIN:VEVENT
DTSTART;VALUE=DATE:20251201
DTEND;VALUE=DATE:20251202
DTSTAMP:20260421T213124
CREATED:20251201T161650Z
LAST-MODIFIED:20251201T161650Z
UID:10003784-1764547200-1764633599@www.legionmemoriallibrary.org
SUMMARY:Christmas Book Day
DESCRIPTION:
URL:https://www.legionmemoriallibrary.org/event/christmas-book-day/
LOCATION:Legion Memorial Library\, 106 Iron Street\, Mellen\, WI\, 54546\, United States
GEO:46.32721;-90.658573
X-APPLE-STRUCTURED-LOCATION;VALUE=URI;X-ADDRESS=Legion Memorial Library 106 Iron Street Mellen WI 54546 United States;X-APPLE-RADIUS=500;X-TITLE=106 Iron Street:geo:-90.658573,46.32721
END:VEVENT
BEGIN:VEVENT
DTSTART;VALUE=DATE:20251130
DTEND;VALUE=DATE:20251201
DTSTAMP:20260421T213124
CREATED:20251105T172516Z
LAST-MODIFIED:20251105T172516Z
UID:10003758-1764460800-1764547199@www.legionmemoriallibrary.org
SUMMARY:Mason Jar Day
DESCRIPTION:Mason Jar Day \n“I feel blessed to have had such a background\, where animals\, food raising\, harvesting\, and canning were a natural part of life.”  Trina
URL:https://www.legionmemoriallibrary.org/event/mason-jar-day/
LOCATION:Legion Memorial Library\, 106 Iron Street\, Mellen\, WI\, 54546\, United States
GEO:46.32721;-90.658573
X-APPLE-STRUCTURED-LOCATION;VALUE=URI;X-ADDRESS=Legion Memorial Library 106 Iron Street Mellen WI 54546 United States;X-APPLE-RADIUS=500;X-TITLE=106 Iron Street:geo:-90.658573,46.32721
END:VEVENT
BEGIN:VEVENT
DTSTART;TZID=America/Chicago:20251129T100000
DTEND;TZID=America/Chicago:20251129T120000
DTSTAMP:20260421T213124
CREATED:20251125T174823Z
LAST-MODIFIED:20251125T174823Z
UID:10003774-1764410400-1764417600@www.legionmemoriallibrary.org
SUMMARY:Santa & Mrs. Claus Visit the Library
DESCRIPTION:Please note that the library will be closed for Thanksgiving on Thursday\, November 27.  The library will also be closed on Friday\, November 28.  The Library will be open on Saturday\, November 29 to greet our very special guests Santa & Mrs. Claus.  Library hours on Saturday are 9am-noon.  The Claus’s will arrive at 10am and will stay until noon.  Bring your letters to share with them and be sure to take a few pictures with this lovely couple.  Thanks to the Mellen Lions Club\, each child will receive a book to keep for their very own.  They will also host the Bike Raffle.  All children who visit Santa & Mrs. Claus will be entered into the raffle.  There is no cost for this event or the raffle.  The Thursday Afternoon Knitters have also made a beautiful variety of hats & neck warmers for children to choose from.
URL:https://www.legionmemoriallibrary.org/event/santa-mrs-claus-visit-the-library/
LOCATION:Legion Memorial Library\, 106 Iron Street\, Mellen\, WI\, 54546\, United States
GEO:46.32721;-90.658573
X-APPLE-STRUCTURED-LOCATION;VALUE=URI;X-ADDRESS=Legion Memorial Library 106 Iron Street Mellen WI 54546 United States;X-APPLE-RADIUS=500;X-TITLE=106 Iron Street:geo:-90.658573,46.32721
END:VEVENT
BEGIN:VEVENT
DTSTART;VALUE=DATE:20251129
DTEND;VALUE=DATE:20251130
DTSTAMP:20260421T213124
CREATED:20251105T172441Z
LAST-MODIFIED:20251105T172441Z
UID:10003757-1764374400-1764460799@www.legionmemoriallibrary.org
SUMMARY:Small Business Saturday
DESCRIPTION:Small Business Saturday \n“As consumers\, we have so much power to change the world by just being careful in what we buy.”  Emma Watson
URL:https://www.legionmemoriallibrary.org/event/small-business-saturday-2/
LOCATION:Legion Memorial Library\, 106 Iron Street\, Mellen\, WI\, 54546\, United States
GEO:46.32721;-90.658573
X-APPLE-STRUCTURED-LOCATION;VALUE=URI;X-ADDRESS=Legion Memorial Library 106 Iron Street Mellen WI 54546 United States;X-APPLE-RADIUS=500;X-TITLE=106 Iron Street:geo:-90.658573,46.32721
END:VEVENT
BEGIN:VEVENT
DTSTART;VALUE=DATE:20251128
DTEND;VALUE=DATE:20251129
DTSTAMP:20260421T213124
CREATED:20251125T174710Z
LAST-MODIFIED:20251125T174710Z
UID:10003773-1764288000-1764374399@www.legionmemoriallibrary.org
SUMMARY:Library Closed
DESCRIPTION:
URL:https://www.legionmemoriallibrary.org/event/library-closed-50/
LOCATION:Legion Memorial Library\, 106 Iron Street\, Mellen\, WI\, 54546\, United States
GEO:46.32721;-90.658573
X-APPLE-STRUCTURED-LOCATION;VALUE=URI;X-ADDRESS=Legion Memorial Library 106 Iron Street Mellen WI 54546 United States;X-APPLE-RADIUS=500;X-TITLE=106 Iron Street:geo:-90.658573,46.32721
END:VEVENT
END:VCALENDAR