BEGIN:VCALENDAR
VERSION:2.0
PRODID:-//Legion Memorial Library - ECPv6.15.20//NONSGML v1.0//EN
CALSCALE:GREGORIAN
METHOD:PUBLISH
X-ORIGINAL-URL:https://www.legionmemoriallibrary.org
X-WR-CALDESC:Events for Legion Memorial Library
REFRESH-INTERVAL;VALUE=DURATION:PT1H
X-Robots-Tag:noindex
X-PUBLISHED-TTL:PT1H
BEGIN:VTIMEZONE
TZID:America/Chicago
BEGIN:DAYLIGHT
TZOFFSETFROM:-0600
TZOFFSETTO:-0500
TZNAME:CDT
DTSTART:20240310T080000
END:DAYLIGHT
BEGIN:STANDARD
TZOFFSETFROM:-0500
TZOFFSETTO:-0600
TZNAME:CST
DTSTART:20241103T070000
END:STANDARD
BEGIN:DAYLIGHT
TZOFFSETFROM:-0600
TZOFFSETTO:-0500
TZNAME:CDT
DTSTART:20250309T080000
END:DAYLIGHT
BEGIN:STANDARD
TZOFFSETFROM:-0500
TZOFFSETTO:-0600
TZNAME:CST
DTSTART:20251102T070000
END:STANDARD
BEGIN:DAYLIGHT
TZOFFSETFROM:-0600
TZOFFSETTO:-0500
TZNAME:CDT
DTSTART:20260308T080000
END:DAYLIGHT
BEGIN:STANDARD
TZOFFSETFROM:-0500
TZOFFSETTO:-0600
TZNAME:CST
DTSTART:20261101T070000
END:STANDARD
END:VTIMEZONE
BEGIN:VEVENT
DTSTART;VALUE=DATE:20250327
DTEND;VALUE=DATE:20250328
DTSTAMP:20260424T022442
CREATED:20250218T202221Z
LAST-MODIFIED:20250218T202221Z
UID:10003129-1743033600-1743119999@www.legionmemoriallibrary.org
SUMMARY:Spanish Paella Day
DESCRIPTION:National Spanish Paella Day \n“He tastes of rice with a touch of saffron. He says I taste of seafood. I guess we’d make a good paella.” Chloe Thurlow
URL:https://www.legionmemoriallibrary.org/event/spanish-paella-day/
LOCATION:Legion Memorial Library\, 106 Iron Street\, Mellen\, WI\, 54546\, United States
GEO:46.32721;-90.658573
X-APPLE-STRUCTURED-LOCATION;VALUE=URI;X-ADDRESS=Legion Memorial Library 106 Iron Street Mellen WI 54546 United States;X-APPLE-RADIUS=500;X-TITLE=106 Iron Street:geo:-90.658573,46.32721
END:VEVENT
BEGIN:VEVENT
DTSTART;TZID=America/Chicago:20250326T160000
DTEND;TZID=America/Chicago:20250326T170000
DTSTAMP:20260424T022442
CREATED:20250218T203343Z
LAST-MODIFIED:20250218T203343Z
UID:10003142-1743004800-1743008400@www.legionmemoriallibrary.org
SUMMARY:Asahi Nordic Exercise
DESCRIPTION:Asahi Nordic Exercise\n\nFebruary 26 @ 4:00 pm – 5:00 pm\n\n\n\nAsahi is an exercise program developed in Finland.  Join us on Wednesdays at 4pm beginning January 29th.  All ages are welcome.  The movements are completed with attention to your breathing.  Wear comfortable clothing (no mats needed) and join us for ASAHI: A Simple And Healthy Idea.  The Friends of the Library are sponsoring this weekly event.  
URL:https://www.legionmemoriallibrary.org/event/asahi-nordic-exercise-32/
LOCATION:Legion Memorial Library\, 106 Iron Street\, Mellen\, WI\, 54546\, United States
GEO:46.32721;-90.658573
X-APPLE-STRUCTURED-LOCATION;VALUE=URI;X-ADDRESS=Legion Memorial Library 106 Iron Street Mellen WI 54546 United States;X-APPLE-RADIUS=500;X-TITLE=106 Iron Street:geo:-90.658573,46.32721
END:VEVENT
BEGIN:VEVENT
DTSTART;TZID=America/Chicago:20250326T100000
DTEND;TZID=America/Chicago:20250326T130000
DTSTAMP:20260424T022442
CREATED:20250218T202805Z
LAST-MODIFIED:20250218T202805Z
UID:10003138-1742983200-1742994000@www.legionmemoriallibrary.org
SUMMARY:CLICK Computer Help
DESCRIPTION:
URL:https://www.legionmemoriallibrary.org/event/click-computer-help-4/
LOCATION:Legion Memorial Library\, 106 Iron Street\, Mellen\, WI\, 54546\, United States
GEO:46.32721;-90.658573
X-APPLE-STRUCTURED-LOCATION;VALUE=URI;X-ADDRESS=Legion Memorial Library 106 Iron Street Mellen WI 54546 United States;X-APPLE-RADIUS=500;X-TITLE=106 Iron Street:geo:-90.658573,46.32721
END:VEVENT
BEGIN:VEVENT
DTSTART;VALUE=DATE:20250326
DTEND;VALUE=DATE:20250327
DTSTAMP:20260424T022442
CREATED:20250218T202126Z
LAST-MODIFIED:20250218T202126Z
UID:10003128-1742947200-1743033599@www.legionmemoriallibrary.org
SUMMARY:Spinach Day
DESCRIPTION:National Spinach Day \n“The answer isn’t another pill. The answer is spinach.” Bill Maher
URL:https://www.legionmemoriallibrary.org/event/spinach-day-2/
LOCATION:Legion Memorial Library\, 106 Iron Street\, Mellen\, WI\, 54546\, United States
GEO:46.32721;-90.658573
X-APPLE-STRUCTURED-LOCATION;VALUE=URI;X-ADDRESS=Legion Memorial Library 106 Iron Street Mellen WI 54546 United States;X-APPLE-RADIUS=500;X-TITLE=106 Iron Street:geo:-90.658573,46.32721
END:VEVENT
BEGIN:VEVENT
DTSTART;TZID=America/Chicago:20250325T170500
DTEND;TZID=America/Chicago:20250325T180000
DTSTAMP:20260424T022442
CREATED:20250218T203520Z
LAST-MODIFIED:20250218T203520Z
UID:10003143-1742922300-1742925600@www.legionmemoriallibrary.org
SUMMARY:Library Board Meeting
DESCRIPTION:
URL:https://www.legionmemoriallibrary.org/event/library-board-meeting-18/
LOCATION:Legion Memorial Library\, 106 Iron Street\, Mellen\, WI\, 54546\, United States
GEO:46.32721;-90.658573
X-APPLE-STRUCTURED-LOCATION;VALUE=URI;X-ADDRESS=Legion Memorial Library 106 Iron Street Mellen WI 54546 United States;X-APPLE-RADIUS=500;X-TITLE=106 Iron Street:geo:-90.658573,46.32721
END:VEVENT
BEGIN:VEVENT
DTSTART;VALUE=DATE:20250325
DTEND;VALUE=DATE:20250326
DTSTAMP:20260424T022442
CREATED:20250218T202050Z
LAST-MODIFIED:20250218T202050Z
UID:10003127-1742860800-1742947199@www.legionmemoriallibrary.org
SUMMARY:Pecan Day
DESCRIPTION:National Pecan Day \n“I just clipped 2 articles from a current magazine. One is a diet guaranteed to drop 5 pounds off my body in a weekend. The other is a recipe for a 6-minute pecan pie.” Erma Bombeck
URL:https://www.legionmemoriallibrary.org/event/pecan-day-2/
LOCATION:Legion Memorial Library\, 106 Iron Street\, Mellen\, WI\, 54546\, United States
GEO:46.32721;-90.658573
X-APPLE-STRUCTURED-LOCATION;VALUE=URI;X-ADDRESS=Legion Memorial Library 106 Iron Street Mellen WI 54546 United States;X-APPLE-RADIUS=500;X-TITLE=106 Iron Street:geo:-90.658573,46.32721
END:VEVENT
BEGIN:VEVENT
DTSTART;VALUE=DATE:20250324
DTEND;VALUE=DATE:20250325
DTSTAMP:20260424T022442
CREATED:20250218T202001Z
LAST-MODIFIED:20250218T202001Z
UID:10003126-1742774400-1742860799@www.legionmemoriallibrary.org
SUMMARY:Cheesesteak Day
DESCRIPTION:National Cheesesteak Day \n“I’m a Buffalo wing magnet\, a sandwich fanatic\, a cheesesteak guy. But I’ll only get cheesesteak in Philadelphia. No one else does it right.” —Kevin Hart
URL:https://www.legionmemoriallibrary.org/event/cheesesteak-day/
LOCATION:Legion Memorial Library\, 106 Iron Street\, Mellen\, WI\, 54546\, United States
GEO:46.32721;-90.658573
X-APPLE-STRUCTURED-LOCATION;VALUE=URI;X-ADDRESS=Legion Memorial Library 106 Iron Street Mellen WI 54546 United States;X-APPLE-RADIUS=500;X-TITLE=106 Iron Street:geo:-90.658573,46.32721
END:VEVENT
BEGIN:VEVENT
DTSTART;VALUE=DATE:20250323
DTEND;VALUE=DATE:20250324
DTSTAMP:20260424T022442
CREATED:20250218T201925Z
LAST-MODIFIED:20250218T201925Z
UID:10003125-1742688000-1742774399@www.legionmemoriallibrary.org
SUMMARY:Chips and Dip Day
DESCRIPTION:National Chips and Dip Day \n“Miss Manners does not mind explaining the finer points of gracious living\, but she feels that anyone without the sense to pick up a potato chip and stuff it in their face should probably not be running around loose on the streets.” Judith Martin
URL:https://www.legionmemoriallibrary.org/event/chips-and-dip-day-2/
LOCATION:Legion Memorial Library\, 106 Iron Street\, Mellen\, WI\, 54546\, United States
GEO:46.32721;-90.658573
X-APPLE-STRUCTURED-LOCATION;VALUE=URI;X-ADDRESS=Legion Memorial Library 106 Iron Street Mellen WI 54546 United States;X-APPLE-RADIUS=500;X-TITLE=106 Iron Street:geo:-90.658573,46.32721
END:VEVENT
BEGIN:VEVENT
DTSTART;VALUE=DATE:20250322
DTEND;VALUE=DATE:20250323
DTSTAMP:20260424T022442
CREATED:20250218T201836Z
LAST-MODIFIED:20250218T201836Z
UID:10003124-1742601600-1742687999@www.legionmemoriallibrary.org
SUMMARY:Bavarian Crepes Day
DESCRIPTION:National Bavarian Crepes Day \n“I thought English is a strange language. Now I think French is even more strange. In France\, their fish is poisson\, there bread is pain\, and their pancake is crepe. Pain\, Poison and crap. Thats what they have every day.” Xiaolu Guo
URL:https://www.legionmemoriallibrary.org/event/bavarian-crepes-day/
LOCATION:Legion Memorial Library\, 106 Iron Street\, Mellen\, WI\, 54546\, United States
GEO:46.32721;-90.658573
X-APPLE-STRUCTURED-LOCATION;VALUE=URI;X-ADDRESS=Legion Memorial Library 106 Iron Street Mellen WI 54546 United States;X-APPLE-RADIUS=500;X-TITLE=106 Iron Street:geo:-90.658573,46.32721
END:VEVENT
BEGIN:VEVENT
DTSTART;TZID=America/Chicago:20250321T180000
DTEND;TZID=America/Chicago:20250321T210000
DTSTAMP:20260424T022442
CREATED:20250218T203754Z
LAST-MODIFIED:20250218T203754Z
UID:10003144-1742580000-1742590800@www.legionmemoriallibrary.org
SUMMARY:Paint Night
DESCRIPTION:Paint Night will be on Friday\, March 21 at 6pm.  We will be painting along with Michelle the Painter to create “Spring is In the Air”.  We do ask that you register in advance\, as our paint workspace is limited.  You may register to attend by stopping by the library and signing up. Our paint nights at the library are free.  We ask that you bring a canvas\, some brushes\, and a container for water to clean your brushes.  The library has some brushes and paint you may use.  The brushes and paint may not always match the demonstration we’re watching\, but we can usually have colors pretty close to those used.  This is a fun supportive group that enjoys our painting hobby.
URL:https://www.legionmemoriallibrary.org/event/paint-night-5/
LOCATION:Legion Memorial Library\, 106 Iron Street\, Mellen\, WI\, 54546\, United States
GEO:46.32721;-90.658573
X-APPLE-STRUCTURED-LOCATION;VALUE=URI;X-ADDRESS=Legion Memorial Library 106 Iron Street Mellen WI 54546 United States;X-APPLE-RADIUS=500;X-TITLE=106 Iron Street:geo:-90.658573,46.32721
END:VEVENT
BEGIN:VEVENT
DTSTART;VALUE=DATE:20250321
DTEND;VALUE=DATE:20250322
DTSTAMP:20260424T022442
CREATED:20250218T201733Z
LAST-MODIFIED:20250218T201733Z
UID:10003123-1742515200-1742601599@www.legionmemoriallibrary.org
SUMMARY:French Bread Day
DESCRIPTION:National French Bread Day \n“Did you know the French word for bread is pain?” Erin Healy
URL:https://www.legionmemoriallibrary.org/event/french-bread-day/
LOCATION:Legion Memorial Library\, 106 Iron Street\, Mellen\, WI\, 54546\, United States
GEO:46.32721;-90.658573
X-APPLE-STRUCTURED-LOCATION;VALUE=URI;X-ADDRESS=Legion Memorial Library 106 Iron Street Mellen WI 54546 United States;X-APPLE-RADIUS=500;X-TITLE=106 Iron Street:geo:-90.658573,46.32721
END:VEVENT
BEGIN:VEVENT
DTSTART;TZID=America/Chicago:20250320T090000
DTEND;TZID=America/Chicago:20250320T100000
DTSTAMP:20260424T022442
CREATED:20250318T190209Z
LAST-MODIFIED:20250318T190209Z
UID:10003147-1742461200-1742464800@www.legionmemoriallibrary.org
SUMMARY:Morning Book Club
DESCRIPTION:Morning Book Club will meet on Thursday\, March 20th this week.  Hope to see you then.
URL:https://www.legionmemoriallibrary.org/event/morning-book-club-14/
LOCATION:Legion Memorial Library\, 106 Iron Street\, Mellen\, WI\, 54546\, United States
GEO:46.32721;-90.658573
X-APPLE-STRUCTURED-LOCATION;VALUE=URI;X-ADDRESS=Legion Memorial Library 106 Iron Street Mellen WI 54546 United States;X-APPLE-RADIUS=500;X-TITLE=106 Iron Street:geo:-90.658573,46.32721
END:VEVENT
BEGIN:VEVENT
DTSTART;VALUE=DATE:20250320
DTEND;VALUE=DATE:20250321
DTSTAMP:20260424T022442
CREATED:20250218T201542Z
LAST-MODIFIED:20250218T201542Z
UID:10003122-1742428800-1742515199@www.legionmemoriallibrary.org
SUMMARY:Ravioli Day
DESCRIPTION:National Ravioli Day \n“Pasta is the ultimate comfort food. It’s hot\, and its filling.” Laila Ali
URL:https://www.legionmemoriallibrary.org/event/ravioli-day-2/
LOCATION:Legion Memorial Library\, 106 Iron Street\, Mellen\, WI\, 54546\, United States
GEO:46.32721;-90.658573
X-APPLE-STRUCTURED-LOCATION;VALUE=URI;X-ADDRESS=Legion Memorial Library 106 Iron Street Mellen WI 54546 United States;X-APPLE-RADIUS=500;X-TITLE=106 Iron Street:geo:-90.658573,46.32721
END:VEVENT
BEGIN:VEVENT
DTSTART;TZID=America/Chicago:20250319T160000
DTEND;TZID=America/Chicago:20250319T170000
DTSTAMP:20260424T022442
CREATED:20250218T203313Z
LAST-MODIFIED:20250218T203313Z
UID:10003141-1742400000-1742403600@www.legionmemoriallibrary.org
SUMMARY:Asahi Nordic Exercise
DESCRIPTION:Asahi Nordic Exercise\n\nFebruary 26 @ 4:00 pm – 5:00 pm\n\n\n\nAsahi is an exercise program developed in Finland.  Join us on Wednesdays at 4pm beginning January 29th.  All ages are welcome.  The movements are completed with attention to your breathing.  Wear comfortable clothing (no mats needed) and join us for ASAHI: A Simple And Healthy Idea.  The Friends of the Library are sponsoring this weekly event.  
URL:https://www.legionmemoriallibrary.org/event/asahi-nordic-exercise-31/
LOCATION:Legion Memorial Library\, 106 Iron Street\, Mellen\, WI\, 54546\, United States
GEO:46.32721;-90.658573
X-APPLE-STRUCTURED-LOCATION;VALUE=URI;X-ADDRESS=Legion Memorial Library 106 Iron Street Mellen WI 54546 United States;X-APPLE-RADIUS=500;X-TITLE=106 Iron Street:geo:-90.658573,46.32721
END:VEVENT
BEGIN:VEVENT
DTSTART;TZID=America/Chicago:20250319T100000
DTEND;TZID=America/Chicago:20250319T130000
DTSTAMP:20260424T022442
CREATED:20250218T202739Z
LAST-MODIFIED:20250218T202739Z
UID:10003137-1742378400-1742389200@www.legionmemoriallibrary.org
SUMMARY:CLICK Computer Help
DESCRIPTION:
URL:https://www.legionmemoriallibrary.org/event/click-computer-help-3/
LOCATION:Legion Memorial Library\, 106 Iron Street\, Mellen\, WI\, 54546\, United States
GEO:46.32721;-90.658573
X-APPLE-STRUCTURED-LOCATION;VALUE=URI;X-ADDRESS=Legion Memorial Library 106 Iron Street Mellen WI 54546 United States;X-APPLE-RADIUS=500;X-TITLE=106 Iron Street:geo:-90.658573,46.32721
END:VEVENT
BEGIN:VEVENT
DTSTART;TZID=America/Chicago:20250319T090000
DTEND;TZID=America/Chicago:20250319T100000
DTSTAMP:20260424T022442
CREATED:20241009T165218Z
LAST-MODIFIED:20250318T190045Z
UID:10002953-1742374800-1742378400@www.legionmemoriallibrary.org
SUMMARY:Morning Book Club - Postponed
DESCRIPTION:Cakewalk by Rita Mae Brown is our discussion book for March \nThe morning book club meets the third Wednesday of the month at the library at 9am.  A book list for the 2024-25 season may be found on this website.  Or you may pick-up a book mark with all the dates and titles on it at the library.  There is no need to purchase books.  They are ordered through interlibrary loan and available at the library.  You do need to register for the book club by contacting the library by phone\, 715-274-8331 or stopping by.  The library staff will then order copies for book club members.
URL:https://www.legionmemoriallibrary.org/event/morning-book-club-16/
LOCATION:Legion Memorial Library\, 106 Iron Street\, Mellen\, WI\, 54546\, United States
GEO:46.32721;-90.658573
X-APPLE-STRUCTURED-LOCATION;VALUE=URI;X-ADDRESS=Legion Memorial Library 106 Iron Street Mellen WI 54546 United States;X-APPLE-RADIUS=500;X-TITLE=106 Iron Street:geo:-90.658573,46.32721
END:VEVENT
BEGIN:VEVENT
DTSTART;VALUE=DATE:20250319
DTEND;VALUE=DATE:20250320
DTSTAMP:20260424T022442
CREATED:20250218T201456Z
LAST-MODIFIED:20250218T201456Z
UID:10003121-1742342400-1742428799@www.legionmemoriallibrary.org
SUMMARY:Poultry Day
DESCRIPTION:National Poultry Day \n“People who count their chickens before they are hatched act very wisely because chickens run about so absurdly that it’s impossible to count them accurately.” Oscar Wilde
URL:https://www.legionmemoriallibrary.org/event/poultry-day/
LOCATION:Legion Memorial Library\, 106 Iron Street\, Mellen\, WI\, 54546\, United States
GEO:46.32721;-90.658573
X-APPLE-STRUCTURED-LOCATION;VALUE=URI;X-ADDRESS=Legion Memorial Library 106 Iron Street Mellen WI 54546 United States;X-APPLE-RADIUS=500;X-TITLE=106 Iron Street:geo:-90.658573,46.32721
END:VEVENT
BEGIN:VEVENT
DTSTART;VALUE=DATE:20250318
DTEND;VALUE=DATE:20250319
DTSTAMP:20260424T022442
CREATED:20250218T201415Z
LAST-MODIFIED:20250218T201415Z
UID:10003120-1742256000-1742342399@www.legionmemoriallibrary.org
SUMMARY:Sloppy Joe Day
DESCRIPTION:National Sloppy Joe Day \n“My sloppy joe is all sloppy and no joe!” TV Show—King of the Hill
URL:https://www.legionmemoriallibrary.org/event/sloppy-joe-day-2/
LOCATION:Legion Memorial Library\, 106 Iron Street\, Mellen\, WI\, 54546\, United States
GEO:46.32721;-90.658573
X-APPLE-STRUCTURED-LOCATION;VALUE=URI;X-ADDRESS=Legion Memorial Library 106 Iron Street Mellen WI 54546 United States;X-APPLE-RADIUS=500;X-TITLE=106 Iron Street:geo:-90.658573,46.32721
END:VEVENT
BEGIN:VEVENT
DTSTART;VALUE=DATE:20250317
DTEND;VALUE=DATE:20250318
DTSTAMP:20260424T022442
CREATED:20250218T200551Z
LAST-MODIFIED:20250218T200551Z
UID:10003119-1742169600-1742255999@www.legionmemoriallibrary.org
SUMMARY:Corned Beef and Cabbage Day
DESCRIPTION:National Corned Beef and Cabbage Day \n“Corned beef and cabbage—that’s our favorite holiday meal when all the O’Hara’s gather around the table.” Kelli O’Hara
URL:https://www.legionmemoriallibrary.org/event/corned-beef-and-cabbage-day/
LOCATION:Legion Memorial Library\, 106 Iron Street\, Mellen\, WI\, 54546\, United States
GEO:46.32721;-90.658573
X-APPLE-STRUCTURED-LOCATION;VALUE=URI;X-ADDRESS=Legion Memorial Library 106 Iron Street Mellen WI 54546 United States;X-APPLE-RADIUS=500;X-TITLE=106 Iron Street:geo:-90.658573,46.32721
END:VEVENT
BEGIN:VEVENT
DTSTART;VALUE=DATE:20250316
DTEND;VALUE=DATE:20250317
DTSTAMP:20260424T022442
CREATED:20250218T200502Z
LAST-MODIFIED:20250218T200502Z
UID:10003118-1742083200-1742169599@www.legionmemoriallibrary.org
SUMMARY:Artichoke Hearts Day
DESCRIPTION:National Artichoke Hearts Day \n“I have often wondered who was the first person to realize that eating an artichoke was a good idea.” Chris Cosentino
URL:https://www.legionmemoriallibrary.org/event/artichoke-hearts-day/
LOCATION:Legion Memorial Library\, 106 Iron Street\, Mellen\, WI\, 54546\, United States
GEO:46.32721;-90.658573
X-APPLE-STRUCTURED-LOCATION;VALUE=URI;X-ADDRESS=Legion Memorial Library 106 Iron Street Mellen WI 54546 United States;X-APPLE-RADIUS=500;X-TITLE=106 Iron Street:geo:-90.658573,46.32721
END:VEVENT
BEGIN:VEVENT
DTSTART;VALUE=DATE:20250315
DTEND;VALUE=DATE:20250316
DTSTAMP:20260424T022442
CREATED:20250218T200400Z
LAST-MODIFIED:20250218T200400Z
UID:10003117-1741996800-1742083199@www.legionmemoriallibrary.org
SUMMARY:Peanut Butter Lover’s Day
DESCRIPTION:National Peanut Butter Lover’s Day \n“Before they had crunchy peanut butter\, I would put peanuts in the creamy peanut butter.” Jim Harbaugh
URL:https://www.legionmemoriallibrary.org/event/peanut-butter-lovers-day/
LOCATION:Legion Memorial Library\, 106 Iron Street\, Mellen\, WI\, 54546\, United States
GEO:46.32721;-90.658573
X-APPLE-STRUCTURED-LOCATION;VALUE=URI;X-ADDRESS=Legion Memorial Library 106 Iron Street Mellen WI 54546 United States;X-APPLE-RADIUS=500;X-TITLE=106 Iron Street:geo:-90.658573,46.32721
END:VEVENT
BEGIN:VEVENT
DTSTART;VALUE=DATE:20250314
DTEND;VALUE=DATE:20250315
DTSTAMP:20260424T022442
CREATED:20250218T200310Z
LAST-MODIFIED:20250218T204547Z
UID:10003116-1741910400-1741996799@www.legionmemoriallibrary.org
SUMMARY:Potato Chip Day
DESCRIPTION:National Potato Chip Day \n“Reading a book is like eating one potato chip.” Diane Duane
URL:https://www.legionmemoriallibrary.org/event/9668/
LOCATION:Legion Memorial Library\, 106 Iron Street\, Mellen\, WI\, 54546\, United States
GEO:46.32721;-90.658573
X-APPLE-STRUCTURED-LOCATION;VALUE=URI;X-ADDRESS=Legion Memorial Library 106 Iron Street Mellen WI 54546 United States;X-APPLE-RADIUS=500;X-TITLE=106 Iron Street:geo:-90.658573,46.32721
END:VEVENT
BEGIN:VEVENT
DTSTART;VALUE=DATE:20250313
DTEND;VALUE=DATE:20250314
DTSTAMP:20260424T022442
CREATED:20250218T200237Z
LAST-MODIFIED:20250218T200237Z
UID:10003115-1741824000-1741910399@www.legionmemoriallibrary.org
SUMMARY:Coconut Torte Day
DESCRIPTION:National Coconut Torte Day \n“I happen to love coconut\, particularly for the sweet and crunchy texture it adds to any dish.” Marcus Samuelsson
URL:https://www.legionmemoriallibrary.org/event/coconut-torte-day/
LOCATION:Legion Memorial Library\, 106 Iron Street\, Mellen\, WI\, 54546\, United States
GEO:46.32721;-90.658573
X-APPLE-STRUCTURED-LOCATION;VALUE=URI;X-ADDRESS=Legion Memorial Library 106 Iron Street Mellen WI 54546 United States;X-APPLE-RADIUS=500;X-TITLE=106 Iron Street:geo:-90.658573,46.32721
END:VEVENT
BEGIN:VEVENT
DTSTART;TZID=America/Chicago:20250312T160000
DTEND;TZID=America/Chicago:20250312T170000
DTSTAMP:20260424T022442
CREATED:20250218T203029Z
LAST-MODIFIED:20250218T203029Z
UID:10003140-1741795200-1741798800@www.legionmemoriallibrary.org
SUMMARY:Asahi Nordic Exercise
DESCRIPTION:Asahi Nordic Exercise\n\nFebruary 26 @ 4:00 pm – 5:00 pm\n\n\n\nAsahi is an exercise program developed in Finland.  Join us on Wednesdays at 4pm beginning January 29th.  All ages are welcome.  The movements are completed with attention to your breathing.  Wear comfortable clothing (no mats needed) and join us for ASAHI: A Simple And Healthy Idea.  The Friends of the Library are sponsoring this weekly event.  
URL:https://www.legionmemoriallibrary.org/event/asahi-nordic-exercise-30/
LOCATION:Legion Memorial Library\, 106 Iron Street\, Mellen\, WI\, 54546\, United States
GEO:46.32721;-90.658573
X-APPLE-STRUCTURED-LOCATION;VALUE=URI;X-ADDRESS=Legion Memorial Library 106 Iron Street Mellen WI 54546 United States;X-APPLE-RADIUS=500;X-TITLE=106 Iron Street:geo:-90.658573,46.32721
END:VEVENT
BEGIN:VEVENT
DTSTART;TZID=America/Chicago:20250312T100000
DTEND;TZID=America/Chicago:20250312T130000
DTSTAMP:20260424T022442
CREATED:20250218T202715Z
LAST-MODIFIED:20250218T202715Z
UID:10003136-1741773600-1741784400@www.legionmemoriallibrary.org
SUMMARY:CLICK Computer Help
DESCRIPTION:
URL:https://www.legionmemoriallibrary.org/event/click-computer-help-2/
LOCATION:Legion Memorial Library\, 106 Iron Street\, Mellen\, WI\, 54546\, United States
GEO:46.32721;-90.658573
X-APPLE-STRUCTURED-LOCATION;VALUE=URI;X-ADDRESS=Legion Memorial Library 106 Iron Street Mellen WI 54546 United States;X-APPLE-RADIUS=500;X-TITLE=106 Iron Street:geo:-90.658573,46.32721
END:VEVENT
BEGIN:VEVENT
DTSTART;VALUE=DATE:20250312
DTEND;VALUE=DATE:20250313
DTSTAMP:20260424T022442
CREATED:20250218T204835Z
LAST-MODIFIED:20250218T204835Z
UID:10003145-1741737600-1741823999@www.legionmemoriallibrary.org
SUMMARY:LML's 98th Birthday!
DESCRIPTION:
URL:https://www.legionmemoriallibrary.org/event/lmls-98th-birthday/
LOCATION:Legion Memorial Library\, 106 Iron Street\, Mellen\, WI\, 54546\, United States
GEO:46.32721;-90.658573
X-APPLE-STRUCTURED-LOCATION;VALUE=URI;X-ADDRESS=Legion Memorial Library 106 Iron Street Mellen WI 54546 United States;X-APPLE-RADIUS=500;X-TITLE=106 Iron Street:geo:-90.658573,46.32721
END:VEVENT
BEGIN:VEVENT
DTSTART;VALUE=DATE:20250312
DTEND;VALUE=DATE:20250313
DTSTAMP:20260424T022442
CREATED:20250218T200124Z
LAST-MODIFIED:20250218T200124Z
UID:10003114-1741737600-1741823999@www.legionmemoriallibrary.org
SUMMARY:Baked Scallops Day
DESCRIPTION:National Baked Scallops Day \n“Seafood is one of the easiest things to digest—a bratwurst is really hard on the body.” Joey Chestnut
URL:https://www.legionmemoriallibrary.org/event/baked-scallops-day/
LOCATION:Legion Memorial Library\, 106 Iron Street\, Mellen\, WI\, 54546\, United States
GEO:46.32721;-90.658573
X-APPLE-STRUCTURED-LOCATION;VALUE=URI;X-ADDRESS=Legion Memorial Library 106 Iron Street Mellen WI 54546 United States;X-APPLE-RADIUS=500;X-TITLE=106 Iron Street:geo:-90.658573,46.32721
END:VEVENT
BEGIN:VEVENT
DTSTART;VALUE=DATE:20250311
DTEND;VALUE=DATE:20250312
DTSTAMP:20260424T022442
CREATED:20250218T200044Z
LAST-MODIFIED:20250218T200044Z
UID:10003113-1741651200-1741737599@www.legionmemoriallibrary.org
SUMMARY:Parm Day
DESCRIPTION:National Chicken Parm Day \n“If your mother cooks Italian food\, why should you go to a restaurant?” Martin Scorsese
URL:https://www.legionmemoriallibrary.org/event/parm-day/
LOCATION:Legion Memorial Library\, 106 Iron Street\, Mellen\, WI\, 54546\, United States
GEO:46.32721;-90.658573
X-APPLE-STRUCTURED-LOCATION;VALUE=URI;X-ADDRESS=Legion Memorial Library 106 Iron Street Mellen WI 54546 United States;X-APPLE-RADIUS=500;X-TITLE=106 Iron Street:geo:-90.658573,46.32721
END:VEVENT
BEGIN:VEVENT
DTSTART;TZID=America/Chicago:20250310T180000
DTEND;TZID=America/Chicago:20250310T190000
DTSTAMP:20260424T022442
CREATED:20241009T164045Z
LAST-MODIFIED:20250218T204721Z
UID:10002946-1741629600-1741633200@www.legionmemoriallibrary.org
SUMMARY:Evening Book Club
DESCRIPTION:Searching for Sylvie Lee by Jean Kwok is our discussion book for March \nThe evening book club meets the second Monday of the month at the library at 6pm.  A book list for the 2024-25 season may be found on this website.  Or you may pick-up a book mark with all the dates and titles on it at the library.  There is no need to purchase books.  They are ordered through interlibrary loan and available at the library.  You do need to register for the book club by contacting the library by phone\, 715-274-8331 or stopping by.  The library staff will then order copies for book club members.
URL:https://www.legionmemoriallibrary.org/event/evening-book-club-4/
LOCATION:Legion Memorial Library\, 106 Iron Street\, Mellen\, WI\, 54546\, United States
GEO:46.32721;-90.658573
X-APPLE-STRUCTURED-LOCATION;VALUE=URI;X-ADDRESS=Legion Memorial Library 106 Iron Street Mellen WI 54546 United States;X-APPLE-RADIUS=500;X-TITLE=106 Iron Street:geo:-90.658573,46.32721
END:VEVENT
BEGIN:VEVENT
DTSTART;VALUE=DATE:20250310
DTEND;VALUE=DATE:20250311
DTSTAMP:20260424T022442
CREATED:20250218T195954Z
LAST-MODIFIED:20250218T195954Z
UID:10003112-1741564800-1741651199@www.legionmemoriallibrary.org
SUMMARY:Lime Day
DESCRIPTION:International Lime Day \n“They say the recipe for Sprite is lemon and lime. I tried to make it at home. There’s more to it than that.” Mitch Hedberg
URL:https://www.legionmemoriallibrary.org/event/lime-day/
LOCATION:Legion Memorial Library\, 106 Iron Street\, Mellen\, WI\, 54546\, United States
GEO:46.32721;-90.658573
X-APPLE-STRUCTURED-LOCATION;VALUE=URI;X-ADDRESS=Legion Memorial Library 106 Iron Street Mellen WI 54546 United States;X-APPLE-RADIUS=500;X-TITLE=106 Iron Street:geo:-90.658573,46.32721
END:VEVENT
END:VCALENDAR