BEGIN:VCALENDAR
VERSION:2.0
PRODID:-//Legion Memorial Library - ECPv6.15.20//NONSGML v1.0//EN
CALSCALE:GREGORIAN
METHOD:PUBLISH
X-WR-CALNAME:Legion Memorial Library
X-ORIGINAL-URL:https://www.legionmemoriallibrary.org
X-WR-CALDESC:Events for Legion Memorial Library
REFRESH-INTERVAL;VALUE=DURATION:PT1H
X-Robots-Tag:noindex
X-PUBLISHED-TTL:PT1H
BEGIN:VTIMEZONE
TZID:America/Chicago
BEGIN:DAYLIGHT
TZOFFSETFROM:-0600
TZOFFSETTO:-0500
TZNAME:CDT
DTSTART:20240310T080000
END:DAYLIGHT
BEGIN:STANDARD
TZOFFSETFROM:-0500
TZOFFSETTO:-0600
TZNAME:CST
DTSTART:20241103T070000
END:STANDARD
BEGIN:DAYLIGHT
TZOFFSETFROM:-0600
TZOFFSETTO:-0500
TZNAME:CDT
DTSTART:20250309T080000
END:DAYLIGHT
BEGIN:STANDARD
TZOFFSETFROM:-0500
TZOFFSETTO:-0600
TZNAME:CST
DTSTART:20251102T070000
END:STANDARD
BEGIN:DAYLIGHT
TZOFFSETFROM:-0600
TZOFFSETTO:-0500
TZNAME:CDT
DTSTART:20260308T080000
END:DAYLIGHT
BEGIN:STANDARD
TZOFFSETFROM:-0500
TZOFFSETTO:-0600
TZNAME:CST
DTSTART:20261101T070000
END:STANDARD
END:VTIMEZONE
BEGIN:VEVENT
DTSTART;VALUE=DATE:20250409
DTEND;VALUE=DATE:20250410
DTSTAMP:20260423T235959
CREATED:20250320T184441Z
LAST-MODIFIED:20250320T184441Z
UID:10003156-1744156800-1744243199@www.legionmemoriallibrary.org
SUMMARY:Pimento Cheese Day
DESCRIPTION:National Pimento Cheese Day \n“A cheese may disappoint. It may be dull\, it may be naive\, it may be over-sophisticated. Yet it remains cheese\, milk’s leap toward immortality.” Clifton Fadiman
URL:https://www.legionmemoriallibrary.org/event/pimento-cheese-day/
LOCATION:Legion Memorial Library\, 106 Iron Street\, Mellen\, WI\, 54546\, United States
GEO:46.32721;-90.658573
X-APPLE-STRUCTURED-LOCATION;VALUE=URI;X-ADDRESS=Legion Memorial Library 106 Iron Street Mellen WI 54546 United States;X-APPLE-RADIUS=500;X-TITLE=106 Iron Street:geo:-90.658573,46.32721
END:VEVENT
BEGIN:VEVENT
DTSTART;TZID=America/Chicago:20250408T100000
DTEND;TZID=America/Chicago:20250408T170000
DTSTAMP:20260423T235959
CREATED:20250320T194423Z
LAST-MODIFIED:20250320T194423Z
UID:10003192-1744106400-1744131600@www.legionmemoriallibrary.org
SUMMARY:Treats & T-shirt Totes
DESCRIPTION:Bring a t-shirt to the library to recycle into a tote bag.  Enjoy treats on this National Library Workers Day with the staff.
URL:https://www.legionmemoriallibrary.org/event/treats-t-shirt-totes/
LOCATION:Legion Memorial Library\, 106 Iron Street\, Mellen\, WI\, 54546\, United States
GEO:46.32721;-90.658573
X-APPLE-STRUCTURED-LOCATION;VALUE=URI;X-ADDRESS=Legion Memorial Library 106 Iron Street Mellen WI 54546 United States;X-APPLE-RADIUS=500;X-TITLE=106 Iron Street:geo:-90.658573,46.32721
END:VEVENT
BEGIN:VEVENT
DTSTART;VALUE=DATE:20250408
DTEND;VALUE=DATE:20250409
DTSTAMP:20260423T235959
CREATED:20250320T183732Z
LAST-MODIFIED:20250320T183732Z
UID:10003155-1744070400-1744156799@www.legionmemoriallibrary.org
SUMMARY:Library Workers Day
DESCRIPTION:National Library Workers Day \n“The most important asset of any library goes home at night – the library staff.” Timothy Healy
URL:https://www.legionmemoriallibrary.org/event/library-workers-day/
LOCATION:Legion Memorial Library\, 106 Iron Street\, Mellen\, WI\, 54546\, United States
GEO:46.32721;-90.658573
X-APPLE-STRUCTURED-LOCATION;VALUE=URI;X-ADDRESS=Legion Memorial Library 106 Iron Street Mellen WI 54546 United States;X-APPLE-RADIUS=500;X-TITLE=106 Iron Street:geo:-90.658573,46.32721
END:VEVENT
BEGIN:VEVENT
DTSTART;TZID=America/Chicago:20250407T100000
DTEND;TZID=America/Chicago:20250407T170000
DTSTAMP:20260423T235959
CREATED:20250320T192853Z
LAST-MODIFIED:20250320T192853Z
UID:10003191-1744020000-1744045200@www.legionmemoriallibrary.org
SUMMARY:Maker Monday
DESCRIPTION:Stop by the library during Open Hours\, 10am-5pm and recycle a book into a piece of art.
URL:https://www.legionmemoriallibrary.org/event/maker-monday/
LOCATION:Legion Memorial Library\, 106 Iron Street\, Mellen\, WI\, 54546\, United States
GEO:46.32721;-90.658573
X-APPLE-STRUCTURED-LOCATION;VALUE=URI;X-ADDRESS=Legion Memorial Library 106 Iron Street Mellen WI 54546 United States;X-APPLE-RADIUS=500;X-TITLE=106 Iron Street:geo:-90.658573,46.32721
END:VEVENT
BEGIN:VEVENT
DTSTART;VALUE=DATE:20250407
DTEND;VALUE=DATE:20250408
DTSTAMP:20260423T235959
CREATED:20250320T183652Z
LAST-MODIFIED:20250320T183652Z
UID:10003154-1743984000-1744070399@www.legionmemoriallibrary.org
SUMMARY:Coffee Cake Day
DESCRIPTION:National Coffee Cake Day \n“It’s called coffee cake not because it contains coffee\, or it’s meant to contain coffee\, but because it goes well with coffee. A nice sweet thing to eat that is complimentary with the taste of coffee.” Michael Dougan
URL:https://www.legionmemoriallibrary.org/event/coffee-cake-day-2/
LOCATION:Legion Memorial Library\, 106 Iron Street\, Mellen\, WI\, 54546\, United States
GEO:46.32721;-90.658573
X-APPLE-STRUCTURED-LOCATION;VALUE=URI;X-ADDRESS=Legion Memorial Library 106 Iron Street Mellen WI 54546 United States;X-APPLE-RADIUS=500;X-TITLE=106 Iron Street:geo:-90.658573,46.32721
END:VEVENT
BEGIN:VEVENT
DTSTART;TZID=America/Chicago:20250406T080000
DTEND;TZID=America/Chicago:20250412T120000
DTSTAMP:20260423T235959
CREATED:20250320T192328Z
LAST-MODIFIED:20250320T192328Z
UID:10003190-1743926400-1744459200@www.legionmemoriallibrary.org
SUMMARY:National Library Week
DESCRIPTION:
URL:https://www.legionmemoriallibrary.org/event/national-library-week/
LOCATION:Legion Memorial Library\, 106 Iron Street\, Mellen\, WI\, 54546\, United States
GEO:46.32721;-90.658573
X-APPLE-STRUCTURED-LOCATION;VALUE=URI;X-ADDRESS=Legion Memorial Library 106 Iron Street Mellen WI 54546 United States;X-APPLE-RADIUS=500;X-TITLE=106 Iron Street:geo:-90.658573,46.32721
END:VEVENT
BEGIN:VEVENT
DTSTART;VALUE=DATE:20250406
DTEND;VALUE=DATE:20250407
DTSTAMP:20260423T235959
CREATED:20250320T183554Z
LAST-MODIFIED:20250320T183554Z
UID:10003153-1743897600-1743983999@www.legionmemoriallibrary.org
SUMMARY:Caramel Popcorn Day
DESCRIPTION:National Caramel Popcorn Day \n“You are caramel popcorn. Don’t let anyone treat you like raggedy old basic buttered popcorn.” Cody Rigsby
URL:https://www.legionmemoriallibrary.org/event/caramel-popcorn-day/
LOCATION:Legion Memorial Library\, 106 Iron Street\, Mellen\, WI\, 54546\, United States
GEO:46.32721;-90.658573
X-APPLE-STRUCTURED-LOCATION;VALUE=URI;X-ADDRESS=Legion Memorial Library 106 Iron Street Mellen WI 54546 United States;X-APPLE-RADIUS=500;X-TITLE=106 Iron Street:geo:-90.658573,46.32721
END:VEVENT
BEGIN:VEVENT
DTSTART;VALUE=DATE:20250405
DTEND;VALUE=DATE:20250406
DTSTAMP:20260423T235959
CREATED:20250320T183446Z
LAST-MODIFIED:20250320T183446Z
UID:10003152-1743811200-1743897599@www.legionmemoriallibrary.org
SUMMARY:Dandelion Day
DESCRIPTION:National Dandelion Day \n“Beautiful as a dandelion-blossom golden in the green grass\, this life can be.” Edna St. Vincent Millay
URL:https://www.legionmemoriallibrary.org/event/dandelion-day/
LOCATION:Legion Memorial Library\, 106 Iron Street\, Mellen\, WI\, 54546\, United States
GEO:46.32721;-90.658573
X-APPLE-STRUCTURED-LOCATION;VALUE=URI;X-ADDRESS=Legion Memorial Library 106 Iron Street Mellen WI 54546 United States;X-APPLE-RADIUS=500;X-TITLE=106 Iron Street:geo:-90.658573,46.32721
END:VEVENT
BEGIN:VEVENT
DTSTART;VALUE=DATE:20250404
DTEND;VALUE=DATE:20250405
DTSTAMP:20260423T235959
CREATED:20250320T183243Z
LAST-MODIFIED:20250320T183256Z
UID:10003151-1743724800-1743811199@www.legionmemoriallibrary.org
SUMMARY:Carrot Day
DESCRIPTION:National Carrot Day \n“I had to sit down and promise the kids I would no longer have any spray tans. My husband started sending me the carrot emoji.” Mel Giedroyc
URL:https://www.legionmemoriallibrary.org/event/carrot-day-2/
LOCATION:Legion Memorial Library\, 106 Iron Street\, Mellen\, WI\, 54546\, United States
GEO:46.32721;-90.658573
X-APPLE-STRUCTURED-LOCATION;VALUE=URI;X-ADDRESS=Legion Memorial Library 106 Iron Street Mellen WI 54546 United States;X-APPLE-RADIUS=500;X-TITLE=106 Iron Street:geo:-90.658573,46.32721
END:VEVENT
BEGIN:VEVENT
DTSTART;TZID=America/Chicago:20250403T170000
DTEND;TZID=America/Chicago:20250403T180000
DTSTAMP:20260423T235959
CREATED:20250320T192228Z
LAST-MODIFIED:20250402T173622Z
UID:10003189-1743699600-1743703200@www.legionmemoriallibrary.org
SUMMARY:Friends of the Library Meeting/Rescheduled 4/10/2025
DESCRIPTION:
URL:https://www.legionmemoriallibrary.org/event/friends-of-the-library-meeting-13/
LOCATION:Legion Memorial Library\, 106 Iron Street\, Mellen\, WI\, 54546\, United States
GEO:46.32721;-90.658573
X-APPLE-STRUCTURED-LOCATION;VALUE=URI;X-ADDRESS=Legion Memorial Library 106 Iron Street Mellen WI 54546 United States;X-APPLE-RADIUS=500;X-TITLE=106 Iron Street:geo:-90.658573,46.32721
END:VEVENT
BEGIN:VEVENT
DTSTART;VALUE=DATE:20250403
DTEND;VALUE=DATE:20250404
DTSTAMP:20260423T235959
CREATED:20250320T183150Z
LAST-MODIFIED:20250320T183323Z
UID:10003150-1743638400-1743724799@www.legionmemoriallibrary.org
SUMMARY:Burrito Day
DESCRIPTION:National Burrito Day \n“A burrito is a sleeping bag for ground beef.” Mitch Hedberg
URL:https://www.legionmemoriallibrary.org/event/burrito-day/
LOCATION:Legion Memorial Library\, 106 Iron Street\, Mellen\, WI\, 54546\, United States
GEO:46.32721;-90.658573
X-APPLE-STRUCTURED-LOCATION;VALUE=URI;X-ADDRESS=Legion Memorial Library 106 Iron Street Mellen WI 54546 United States;X-APPLE-RADIUS=500;X-TITLE=106 Iron Street:geo:-90.658573,46.32721
END:VEVENT
BEGIN:VEVENT
DTSTART;TZID=America/Chicago:20250402T160000
DTEND;TZID=America/Chicago:20250402T170000
DTSTAMP:20260423T235959
CREATED:20250320T191918Z
LAST-MODIFIED:20250320T191918Z
UID:10003184-1743609600-1743613200@www.legionmemoriallibrary.org
SUMMARY:Asahi Nordic Exercise
DESCRIPTION:Asahi is an exercise program developed in Finland.  The movements are completed with attention to your breathing.  Wear comfortable clothing (no mats needed) and join us for ASAHI: A Simple And Healthy Idea.  All ages are welcome.  The Friends of the Library are sponsoring this weekly event.
URL:https://www.legionmemoriallibrary.org/event/asahi-nordic-exercise-33/
LOCATION:Legion Memorial Library\, 106 Iron Street\, Mellen\, WI\, 54546\, United States
GEO:46.32721;-90.658573
X-APPLE-STRUCTURED-LOCATION;VALUE=URI;X-ADDRESS=Legion Memorial Library 106 Iron Street Mellen WI 54546 United States;X-APPLE-RADIUS=500;X-TITLE=106 Iron Street:geo:-90.658573,46.32721
END:VEVENT
BEGIN:VEVENT
DTSTART;TZID=America/Chicago:20250402T100000
DTEND;TZID=America/Chicago:20250402T130000
DTSTAMP:20260423T235959
CREATED:20250331T180853Z
LAST-MODIFIED:20250402T155938Z
UID:10003200-1743588000-1743598800@www.legionmemoriallibrary.org
SUMMARY:CLICK Computer Help-Canceled
DESCRIPTION:
URL:https://www.legionmemoriallibrary.org/event/click-computer-help-5/
LOCATION:Legion Memorial Library\, 106 Iron Street\, Mellen\, WI\, 54546\, United States
GEO:46.32721;-90.658573
X-APPLE-STRUCTURED-LOCATION;VALUE=URI;X-ADDRESS=Legion Memorial Library 106 Iron Street Mellen WI 54546 United States;X-APPLE-RADIUS=500;X-TITLE=106 Iron Street:geo:-90.658573,46.32721
END:VEVENT
BEGIN:VEVENT
DTSTART;VALUE=DATE:20250402
DTEND;VALUE=DATE:20250403
DTSTAMP:20260423T235959
CREATED:20250320T183056Z
LAST-MODIFIED:20250320T183056Z
UID:10003149-1743552000-1743638399@www.legionmemoriallibrary.org
SUMMARY:Children's Book Day
DESCRIPTION:Children’s Book Day \n“Reading for me is spending time with a friend.” Gary Paulsen
URL:https://www.legionmemoriallibrary.org/event/childrens-book-day/
LOCATION:Legion Memorial Library\, 106 Iron Street\, Mellen\, WI\, 54546\, United States
GEO:46.32721;-90.658573
X-APPLE-STRUCTURED-LOCATION;VALUE=URI;X-ADDRESS=Legion Memorial Library 106 Iron Street Mellen WI 54546 United States;X-APPLE-RADIUS=500;X-TITLE=106 Iron Street:geo:-90.658573,46.32721
END:VEVENT
BEGIN:VEVENT
DTSTART;VALUE=DATE:20250401
DTEND;VALUE=DATE:20250402
DTSTAMP:20260423T235959
CREATED:20250331T180558Z
LAST-MODIFIED:20250331T180651Z
UID:10003199-1743465600-1743551999@www.legionmemoriallibrary.org
SUMMARY:Library Closing at 2 pm
DESCRIPTION:No Foolin’ the Library will close at 2 pm today. \nSo sorry for any inconvenience.
URL:https://www.legionmemoriallibrary.org/event/library-closing-at-2-pm/
LOCATION:Legion Memorial Library\, 106 Iron Street\, Mellen\, WI\, 54546\, United States
GEO:46.32721;-90.658573
X-APPLE-STRUCTURED-LOCATION;VALUE=URI;X-ADDRESS=Legion Memorial Library 106 Iron Street Mellen WI 54546 United States;X-APPLE-RADIUS=500;X-TITLE=106 Iron Street:geo:-90.658573,46.32721
END:VEVENT
BEGIN:VEVENT
DTSTART;VALUE=DATE:20250401
DTEND;VALUE=DATE:20250402
DTSTAMP:20260423T235959
CREATED:20250320T183003Z
LAST-MODIFIED:20250331T180155Z
UID:10003148-1743465600-1743551999@www.legionmemoriallibrary.org
SUMMARY:April Fool’s Day
DESCRIPTION:No Foolin’ though . . . The library will close at 2 p.m. today. \nApril Fool’s Day \n“Our wisdom comes from our experience\, and our experience comes from our foolishness.” —Sacha Guitry
URL:https://www.legionmemoriallibrary.org/event/april-fools-day-3/
LOCATION:Legion Memorial Library\, 106 Iron Street\, Mellen\, WI\, 54546\, United States
GEO:46.32721;-90.658573
X-APPLE-STRUCTURED-LOCATION;VALUE=URI;X-ADDRESS=Legion Memorial Library 106 Iron Street Mellen WI 54546 United States;X-APPLE-RADIUS=500;X-TITLE=106 Iron Street:geo:-90.658573,46.32721
END:VEVENT
BEGIN:VEVENT
DTSTART;VALUE=DATE:20250331
DTEND;VALUE=DATE:20250401
DTSTAMP:20260423T235959
CREATED:20250218T202518Z
LAST-MODIFIED:20250218T202518Z
UID:10003133-1743379200-1743465599@www.legionmemoriallibrary.org
SUMMARY:Clams on the Half Shell Day
DESCRIPTION:National Clams on the Half Shell Day \n“She ate so many clams that her stomach rose and fell with the tides.” Louis Kronenberger
URL:https://www.legionmemoriallibrary.org/event/clams-on-the-half-shell-day/
LOCATION:Legion Memorial Library\, 106 Iron Street\, Mellen\, WI\, 54546\, United States
GEO:46.32721;-90.658573
X-APPLE-STRUCTURED-LOCATION;VALUE=URI;X-ADDRESS=Legion Memorial Library 106 Iron Street Mellen WI 54546 United States;X-APPLE-RADIUS=500;X-TITLE=106 Iron Street:geo:-90.658573,46.32721
END:VEVENT
BEGIN:VEVENT
DTSTART;VALUE=DATE:20250330
DTEND;VALUE=DATE:20250331
DTSTAMP:20260423T235959
CREATED:20250218T202440Z
LAST-MODIFIED:20250218T202440Z
UID:10003132-1743292800-1743379199@www.legionmemoriallibrary.org
SUMMARY:Turkey Neck Soup Day
DESCRIPTION:National Turkey Neck Soup Day \n“What a marvelous resource soup is for the thrifty cook—it solves the ham-bone and lamb-bone problems\, the everlasting Thanksgiving turkey\, the extra vegetables.” Julia Child
URL:https://www.legionmemoriallibrary.org/event/turkey-neck-soup-day/
LOCATION:Legion Memorial Library\, 106 Iron Street\, Mellen\, WI\, 54546\, United States
GEO:46.32721;-90.658573
X-APPLE-STRUCTURED-LOCATION;VALUE=URI;X-ADDRESS=Legion Memorial Library 106 Iron Street Mellen WI 54546 United States;X-APPLE-RADIUS=500;X-TITLE=106 Iron Street:geo:-90.658573,46.32721
END:VEVENT
BEGIN:VEVENT
DTSTART;VALUE=DATE:20250329
DTEND;VALUE=DATE:20250330
DTSTAMP:20260423T235959
CREATED:20250218T202340Z
LAST-MODIFIED:20250218T202340Z
UID:10003131-1743206400-1743292799@www.legionmemoriallibrary.org
SUMMARY:Lemon Chiffon Cake Day
DESCRIPTION:National Lemon Chiffon Cake Day \n“When life gives you lemons. Make a lemon cake.” Karen M. McManus
URL:https://www.legionmemoriallibrary.org/event/lemon-chiffon-cake-day/
LOCATION:Legion Memorial Library\, 106 Iron Street\, Mellen\, WI\, 54546\, United States
GEO:46.32721;-90.658573
X-APPLE-STRUCTURED-LOCATION;VALUE=URI;X-ADDRESS=Legion Memorial Library 106 Iron Street Mellen WI 54546 United States;X-APPLE-RADIUS=500;X-TITLE=106 Iron Street:geo:-90.658573,46.32721
END:VEVENT
BEGIN:VEVENT
DTSTART;VALUE=DATE:20250328
DTEND;VALUE=DATE:20250329
DTSTAMP:20260423T235959
CREATED:20250218T202302Z
LAST-MODIFIED:20250218T202302Z
UID:10003130-1743120000-1743206399@www.legionmemoriallibrary.org
SUMMARY:Black Forest Cake Day
DESCRIPTION:National Black Forest Cake Day \n“My policy on cake is pro having it and pro eating it.” Boris Johnson
URL:https://www.legionmemoriallibrary.org/event/black-forest-cake-day-2/
LOCATION:Legion Memorial Library\, 106 Iron Street\, Mellen\, WI\, 54546\, United States
GEO:46.32721;-90.658573
X-APPLE-STRUCTURED-LOCATION;VALUE=URI;X-ADDRESS=Legion Memorial Library 106 Iron Street Mellen WI 54546 United States;X-APPLE-RADIUS=500;X-TITLE=106 Iron Street:geo:-90.658573,46.32721
END:VEVENT
BEGIN:VEVENT
DTSTART;VALUE=DATE:20250327
DTEND;VALUE=DATE:20250328
DTSTAMP:20260423T235959
CREATED:20250218T202221Z
LAST-MODIFIED:20250218T202221Z
UID:10003129-1743033600-1743119999@www.legionmemoriallibrary.org
SUMMARY:Spanish Paella Day
DESCRIPTION:National Spanish Paella Day \n“He tastes of rice with a touch of saffron. He says I taste of seafood. I guess we’d make a good paella.” Chloe Thurlow
URL:https://www.legionmemoriallibrary.org/event/spanish-paella-day/
LOCATION:Legion Memorial Library\, 106 Iron Street\, Mellen\, WI\, 54546\, United States
GEO:46.32721;-90.658573
X-APPLE-STRUCTURED-LOCATION;VALUE=URI;X-ADDRESS=Legion Memorial Library 106 Iron Street Mellen WI 54546 United States;X-APPLE-RADIUS=500;X-TITLE=106 Iron Street:geo:-90.658573,46.32721
END:VEVENT
BEGIN:VEVENT
DTSTART;TZID=America/Chicago:20250326T160000
DTEND;TZID=America/Chicago:20250326T170000
DTSTAMP:20260423T235959
CREATED:20250218T203343Z
LAST-MODIFIED:20250218T203343Z
UID:10003142-1743004800-1743008400@www.legionmemoriallibrary.org
SUMMARY:Asahi Nordic Exercise
DESCRIPTION:Asahi Nordic Exercise\n\nFebruary 26 @ 4:00 pm – 5:00 pm\n\n\n\nAsahi is an exercise program developed in Finland.  Join us on Wednesdays at 4pm beginning January 29th.  All ages are welcome.  The movements are completed with attention to your breathing.  Wear comfortable clothing (no mats needed) and join us for ASAHI: A Simple And Healthy Idea.  The Friends of the Library are sponsoring this weekly event.  
URL:https://www.legionmemoriallibrary.org/event/asahi-nordic-exercise-32/
LOCATION:Legion Memorial Library\, 106 Iron Street\, Mellen\, WI\, 54546\, United States
GEO:46.32721;-90.658573
X-APPLE-STRUCTURED-LOCATION;VALUE=URI;X-ADDRESS=Legion Memorial Library 106 Iron Street Mellen WI 54546 United States;X-APPLE-RADIUS=500;X-TITLE=106 Iron Street:geo:-90.658573,46.32721
END:VEVENT
BEGIN:VEVENT
DTSTART;TZID=America/Chicago:20250326T100000
DTEND;TZID=America/Chicago:20250326T130000
DTSTAMP:20260423T235959
CREATED:20250218T202805Z
LAST-MODIFIED:20250218T202805Z
UID:10003138-1742983200-1742994000@www.legionmemoriallibrary.org
SUMMARY:CLICK Computer Help
DESCRIPTION:
URL:https://www.legionmemoriallibrary.org/event/click-computer-help-4/
LOCATION:Legion Memorial Library\, 106 Iron Street\, Mellen\, WI\, 54546\, United States
GEO:46.32721;-90.658573
X-APPLE-STRUCTURED-LOCATION;VALUE=URI;X-ADDRESS=Legion Memorial Library 106 Iron Street Mellen WI 54546 United States;X-APPLE-RADIUS=500;X-TITLE=106 Iron Street:geo:-90.658573,46.32721
END:VEVENT
BEGIN:VEVENT
DTSTART;VALUE=DATE:20250326
DTEND;VALUE=DATE:20250327
DTSTAMP:20260423T235959
CREATED:20250218T202126Z
LAST-MODIFIED:20250218T202126Z
UID:10003128-1742947200-1743033599@www.legionmemoriallibrary.org
SUMMARY:Spinach Day
DESCRIPTION:National Spinach Day \n“The answer isn’t another pill. The answer is spinach.” Bill Maher
URL:https://www.legionmemoriallibrary.org/event/spinach-day-2/
LOCATION:Legion Memorial Library\, 106 Iron Street\, Mellen\, WI\, 54546\, United States
GEO:46.32721;-90.658573
X-APPLE-STRUCTURED-LOCATION;VALUE=URI;X-ADDRESS=Legion Memorial Library 106 Iron Street Mellen WI 54546 United States;X-APPLE-RADIUS=500;X-TITLE=106 Iron Street:geo:-90.658573,46.32721
END:VEVENT
BEGIN:VEVENT
DTSTART;TZID=America/Chicago:20250325T170500
DTEND;TZID=America/Chicago:20250325T180000
DTSTAMP:20260423T235959
CREATED:20250218T203520Z
LAST-MODIFIED:20250218T203520Z
UID:10003143-1742922300-1742925600@www.legionmemoriallibrary.org
SUMMARY:Library Board Meeting
DESCRIPTION:
URL:https://www.legionmemoriallibrary.org/event/library-board-meeting-18/
LOCATION:Legion Memorial Library\, 106 Iron Street\, Mellen\, WI\, 54546\, United States
GEO:46.32721;-90.658573
X-APPLE-STRUCTURED-LOCATION;VALUE=URI;X-ADDRESS=Legion Memorial Library 106 Iron Street Mellen WI 54546 United States;X-APPLE-RADIUS=500;X-TITLE=106 Iron Street:geo:-90.658573,46.32721
END:VEVENT
BEGIN:VEVENT
DTSTART;VALUE=DATE:20250325
DTEND;VALUE=DATE:20250326
DTSTAMP:20260423T235959
CREATED:20250218T202050Z
LAST-MODIFIED:20250218T202050Z
UID:10003127-1742860800-1742947199@www.legionmemoriallibrary.org
SUMMARY:Pecan Day
DESCRIPTION:National Pecan Day \n“I just clipped 2 articles from a current magazine. One is a diet guaranteed to drop 5 pounds off my body in a weekend. The other is a recipe for a 6-minute pecan pie.” Erma Bombeck
URL:https://www.legionmemoriallibrary.org/event/pecan-day-2/
LOCATION:Legion Memorial Library\, 106 Iron Street\, Mellen\, WI\, 54546\, United States
GEO:46.32721;-90.658573
X-APPLE-STRUCTURED-LOCATION;VALUE=URI;X-ADDRESS=Legion Memorial Library 106 Iron Street Mellen WI 54546 United States;X-APPLE-RADIUS=500;X-TITLE=106 Iron Street:geo:-90.658573,46.32721
END:VEVENT
BEGIN:VEVENT
DTSTART;VALUE=DATE:20250324
DTEND;VALUE=DATE:20250325
DTSTAMP:20260423T235959
CREATED:20250218T202001Z
LAST-MODIFIED:20250218T202001Z
UID:10003126-1742774400-1742860799@www.legionmemoriallibrary.org
SUMMARY:Cheesesteak Day
DESCRIPTION:National Cheesesteak Day \n“I’m a Buffalo wing magnet\, a sandwich fanatic\, a cheesesteak guy. But I’ll only get cheesesteak in Philadelphia. No one else does it right.” —Kevin Hart
URL:https://www.legionmemoriallibrary.org/event/cheesesteak-day/
LOCATION:Legion Memorial Library\, 106 Iron Street\, Mellen\, WI\, 54546\, United States
GEO:46.32721;-90.658573
X-APPLE-STRUCTURED-LOCATION;VALUE=URI;X-ADDRESS=Legion Memorial Library 106 Iron Street Mellen WI 54546 United States;X-APPLE-RADIUS=500;X-TITLE=106 Iron Street:geo:-90.658573,46.32721
END:VEVENT
BEGIN:VEVENT
DTSTART;VALUE=DATE:20250323
DTEND;VALUE=DATE:20250324
DTSTAMP:20260423T235959
CREATED:20250218T201925Z
LAST-MODIFIED:20250218T201925Z
UID:10003125-1742688000-1742774399@www.legionmemoriallibrary.org
SUMMARY:Chips and Dip Day
DESCRIPTION:National Chips and Dip Day \n“Miss Manners does not mind explaining the finer points of gracious living\, but she feels that anyone without the sense to pick up a potato chip and stuff it in their face should probably not be running around loose on the streets.” Judith Martin
URL:https://www.legionmemoriallibrary.org/event/chips-and-dip-day-2/
LOCATION:Legion Memorial Library\, 106 Iron Street\, Mellen\, WI\, 54546\, United States
GEO:46.32721;-90.658573
X-APPLE-STRUCTURED-LOCATION;VALUE=URI;X-ADDRESS=Legion Memorial Library 106 Iron Street Mellen WI 54546 United States;X-APPLE-RADIUS=500;X-TITLE=106 Iron Street:geo:-90.658573,46.32721
END:VEVENT
BEGIN:VEVENT
DTSTART;VALUE=DATE:20250322
DTEND;VALUE=DATE:20250323
DTSTAMP:20260423T235959
CREATED:20250218T201836Z
LAST-MODIFIED:20250218T201836Z
UID:10003124-1742601600-1742687999@www.legionmemoriallibrary.org
SUMMARY:Bavarian Crepes Day
DESCRIPTION:National Bavarian Crepes Day \n“I thought English is a strange language. Now I think French is even more strange. In France\, their fish is poisson\, there bread is pain\, and their pancake is crepe. Pain\, Poison and crap. Thats what they have every day.” Xiaolu Guo
URL:https://www.legionmemoriallibrary.org/event/bavarian-crepes-day/
LOCATION:Legion Memorial Library\, 106 Iron Street\, Mellen\, WI\, 54546\, United States
GEO:46.32721;-90.658573
X-APPLE-STRUCTURED-LOCATION;VALUE=URI;X-ADDRESS=Legion Memorial Library 106 Iron Street Mellen WI 54546 United States;X-APPLE-RADIUS=500;X-TITLE=106 Iron Street:geo:-90.658573,46.32721
END:VEVENT
BEGIN:VEVENT
DTSTART;TZID=America/Chicago:20250321T180000
DTEND;TZID=America/Chicago:20250321T210000
DTSTAMP:20260423T235959
CREATED:20250218T203754Z
LAST-MODIFIED:20250218T203754Z
UID:10003144-1742580000-1742590800@www.legionmemoriallibrary.org
SUMMARY:Paint Night
DESCRIPTION:Paint Night will be on Friday\, March 21 at 6pm.  We will be painting along with Michelle the Painter to create “Spring is In the Air”.  We do ask that you register in advance\, as our paint workspace is limited.  You may register to attend by stopping by the library and signing up. Our paint nights at the library are free.  We ask that you bring a canvas\, some brushes\, and a container for water to clean your brushes.  The library has some brushes and paint you may use.  The brushes and paint may not always match the demonstration we’re watching\, but we can usually have colors pretty close to those used.  This is a fun supportive group that enjoys our painting hobby.
URL:https://www.legionmemoriallibrary.org/event/paint-night-5/
LOCATION:Legion Memorial Library\, 106 Iron Street\, Mellen\, WI\, 54546\, United States
GEO:46.32721;-90.658573
X-APPLE-STRUCTURED-LOCATION;VALUE=URI;X-ADDRESS=Legion Memorial Library 106 Iron Street Mellen WI 54546 United States;X-APPLE-RADIUS=500;X-TITLE=106 Iron Street:geo:-90.658573,46.32721
END:VEVENT
END:VCALENDAR