BEGIN:VCALENDAR
VERSION:2.0
PRODID:-//Legion Memorial Library - ECPv6.15.20//NONSGML v1.0//EN
CALSCALE:GREGORIAN
METHOD:PUBLISH
X-WR-CALNAME:Legion Memorial Library
X-ORIGINAL-URL:https://www.legionmemoriallibrary.org
X-WR-CALDESC:Events for Legion Memorial Library
REFRESH-INTERVAL;VALUE=DURATION:PT1H
X-Robots-Tag:noindex
X-PUBLISHED-TTL:PT1H
BEGIN:VTIMEZONE
TZID:America/Chicago
BEGIN:DAYLIGHT
TZOFFSETFROM:-0600
TZOFFSETTO:-0500
TZNAME:CDT
DTSTART:20250309T080000
END:DAYLIGHT
BEGIN:STANDARD
TZOFFSETFROM:-0500
TZOFFSETTO:-0600
TZNAME:CST
DTSTART:20251102T070000
END:STANDARD
BEGIN:DAYLIGHT
TZOFFSETFROM:-0600
TZOFFSETTO:-0500
TZNAME:CDT
DTSTART:20260308T080000
END:DAYLIGHT
BEGIN:STANDARD
TZOFFSETFROM:-0500
TZOFFSETTO:-0600
TZNAME:CST
DTSTART:20261101T070000
END:STANDARD
BEGIN:DAYLIGHT
TZOFFSETFROM:-0600
TZOFFSETTO:-0500
TZNAME:CDT
DTSTART:20270314T080000
END:DAYLIGHT
BEGIN:STANDARD
TZOFFSETFROM:-0500
TZOFFSETTO:-0600
TZNAME:CST
DTSTART:20271107T070000
END:STANDARD
END:VTIMEZONE
BEGIN:VEVENT
DTSTART;VALUE=DATE:20260219
DTEND;VALUE=DATE:20260220
DTSTAMP:20260421T162319
CREATED:20260203T145222Z
LAST-MODIFIED:20260203T145222Z
UID:10003880-1771459200-1771545599@www.legionmemoriallibrary.org
SUMMARY:World Anthropology Day
DESCRIPTION:
URL:https://www.legionmemoriallibrary.org/event/world-anthropology-day/
LOCATION:Legion Memorial Library\, 106 Iron Street\, Mellen\, WI\, 54546\, United States
GEO:46.32721;-90.658573
X-APPLE-STRUCTURED-LOCATION;VALUE=URI;X-ADDRESS=Legion Memorial Library 106 Iron Street Mellen WI 54546 United States;X-APPLE-RADIUS=500;X-TITLE=106 Iron Street:geo:-90.658573,46.32721
END:VEVENT
BEGIN:VEVENT
DTSTART;TZID=America/Chicago:20260219T090000
DTEND;TZID=America/Chicago:20260219T100000
DTSTAMP:20260421T162319
CREATED:20260203T155610Z
LAST-MODIFIED:20260203T155610Z
UID:10003899-1771491600-1771495200@www.legionmemoriallibrary.org
SUMMARY:Storytime
DESCRIPTION:
URL:https://www.legionmemoriallibrary.org/event/storytime-8/
LOCATION:Legion Memorial Library\, 106 Iron Street\, Mellen\, WI\, 54546\, United States
GEO:46.32721;-90.658573
X-APPLE-STRUCTURED-LOCATION;VALUE=URI;X-ADDRESS=Legion Memorial Library 106 Iron Street Mellen WI 54546 United States;X-APPLE-RADIUS=500;X-TITLE=106 Iron Street:geo:-90.658573,46.32721
END:VEVENT
BEGIN:VEVENT
DTSTART;VALUE=DATE:20260220
DTEND;VALUE=DATE:20260221
DTSTAMP:20260421T162319
CREATED:20260203T145300Z
LAST-MODIFIED:20260203T145300Z
UID:10003881-1771545600-1771631999@www.legionmemoriallibrary.org
SUMMARY:Clean Out Your Bookcase Day
DESCRIPTION:
URL:https://www.legionmemoriallibrary.org/event/clean-out-your-bookcase-day/
LOCATION:Legion Memorial Library\, 106 Iron Street\, Mellen\, WI\, 54546\, United States
GEO:46.32721;-90.658573
X-APPLE-STRUCTURED-LOCATION;VALUE=URI;X-ADDRESS=Legion Memorial Library 106 Iron Street Mellen WI 54546 United States;X-APPLE-RADIUS=500;X-TITLE=106 Iron Street:geo:-90.658573,46.32721
END:VEVENT
BEGIN:VEVENT
DTSTART;VALUE=DATE:20260221
DTEND;VALUE=DATE:20260222
DTSTAMP:20260421T162319
CREATED:20260203T145408Z
LAST-MODIFIED:20260203T145408Z
UID:10003882-1771632000-1771718399@www.legionmemoriallibrary.org
SUMMARY:Language Day
DESCRIPTION:
URL:https://www.legionmemoriallibrary.org/event/language-day/
LOCATION:Legion Memorial Library\, 106 Iron Street\, Mellen\, WI\, 54546\, United States
GEO:46.32721;-90.658573
X-APPLE-STRUCTURED-LOCATION;VALUE=URI;X-ADDRESS=Legion Memorial Library 106 Iron Street Mellen WI 54546 United States;X-APPLE-RADIUS=500;X-TITLE=106 Iron Street:geo:-90.658573,46.32721
END:VEVENT
BEGIN:VEVENT
DTSTART;VALUE=DATE:20260222
DTEND;VALUE=DATE:20260223
DTSTAMP:20260421T162319
CREATED:20260203T145450Z
LAST-MODIFIED:20260203T145450Z
UID:10003883-1771718400-1771804799@www.legionmemoriallibrary.org
SUMMARY:Yoga Day
DESCRIPTION:
URL:https://www.legionmemoriallibrary.org/event/yoga-day/
LOCATION:Legion Memorial Library\, 106 Iron Street\, Mellen\, WI\, 54546\, United States
GEO:46.32721;-90.658573
X-APPLE-STRUCTURED-LOCATION;VALUE=URI;X-ADDRESS=Legion Memorial Library 106 Iron Street Mellen WI 54546 United States;X-APPLE-RADIUS=500;X-TITLE=106 Iron Street:geo:-90.658573,46.32721
END:VEVENT
BEGIN:VEVENT
DTSTART;VALUE=DATE:20260223
DTEND;VALUE=DATE:20260224
DTSTAMP:20260421T162319
CREATED:20260203T145520Z
LAST-MODIFIED:20260203T145520Z
UID:10003884-1771804800-1771891199@www.legionmemoriallibrary.org
SUMMARY:World Peace & Understanding Day
DESCRIPTION:
URL:https://www.legionmemoriallibrary.org/event/world-peace-understanding-day/
LOCATION:Legion Memorial Library\, 106 Iron Street\, Mellen\, WI\, 54546\, United States
GEO:46.32721;-90.658573
X-APPLE-STRUCTURED-LOCATION;VALUE=URI;X-ADDRESS=Legion Memorial Library 106 Iron Street Mellen WI 54546 United States;X-APPLE-RADIUS=500;X-TITLE=106 Iron Street:geo:-90.658573,46.32721
END:VEVENT
BEGIN:VEVENT
DTSTART;TZID=America/Chicago:20260223T100000
DTEND;TZID=America/Chicago:20260223T140000
DTSTAMP:20260421T162319
CREATED:20260203T155646Z
LAST-MODIFIED:20260203T155646Z
UID:10003900-1771840800-1771855200@www.legionmemoriallibrary.org
SUMMARY:CLICK & Learn
DESCRIPTION:
URL:https://www.legionmemoriallibrary.org/event/click-learn-2/
LOCATION:Legion Memorial Library\, 106 Iron Street\, Mellen\, WI\, 54546\, United States
GEO:46.32721;-90.658573
X-APPLE-STRUCTURED-LOCATION;VALUE=URI;X-ADDRESS=Legion Memorial Library 106 Iron Street Mellen WI 54546 United States;X-APPLE-RADIUS=500;X-TITLE=106 Iron Street:geo:-90.658573,46.32721
END:VEVENT
BEGIN:VEVENT
DTSTART;VALUE=DATE:20260224
DTEND;VALUE=DATE:20260225
DTSTAMP:20260421T162319
CREATED:20260203T145554Z
LAST-MODIFIED:20260203T145554Z
UID:10003885-1771891200-1771977599@www.legionmemoriallibrary.org
SUMMARY:Tortilla Chip Day
DESCRIPTION:
URL:https://www.legionmemoriallibrary.org/event/tortilla-chip-day-3/
LOCATION:Legion Memorial Library\, 106 Iron Street\, Mellen\, WI\, 54546\, United States
GEO:46.32721;-90.658573
X-APPLE-STRUCTURED-LOCATION;VALUE=URI;X-ADDRESS=Legion Memorial Library 106 Iron Street Mellen WI 54546 United States;X-APPLE-RADIUS=500;X-TITLE=106 Iron Street:geo:-90.658573,46.32721
END:VEVENT
BEGIN:VEVENT
DTSTART;TZID=America/Chicago:20260224T170000
DTEND;TZID=America/Chicago:20260224T180000
DTSTAMP:20260421T162319
CREATED:20260203T155750Z
LAST-MODIFIED:20260203T155750Z
UID:10003901-1771952400-1771956000@www.legionmemoriallibrary.org
SUMMARY:Library Board Meeting
DESCRIPTION:
URL:https://www.legionmemoriallibrary.org/event/library-board-meeting-22/
LOCATION:Legion Memorial Library\, 106 Iron Street\, Mellen\, WI\, 54546\, United States
GEO:46.32721;-90.658573
X-APPLE-STRUCTURED-LOCATION;VALUE=URI;X-ADDRESS=Legion Memorial Library 106 Iron Street Mellen WI 54546 United States;X-APPLE-RADIUS=500;X-TITLE=106 Iron Street:geo:-90.658573,46.32721
END:VEVENT
BEGIN:VEVENT
DTSTART;VALUE=DATE:20260225
DTEND;VALUE=DATE:20260226
DTSTAMP:20260421T162319
CREATED:20260203T145622Z
LAST-MODIFIED:20260203T145622Z
UID:10003886-1771977600-1772063999@www.legionmemoriallibrary.org
SUMMARY:Quiet Day
DESCRIPTION:
URL:https://www.legionmemoriallibrary.org/event/quiet-day/
LOCATION:Legion Memorial Library\, 106 Iron Street\, Mellen\, WI\, 54546\, United States
GEO:46.32721;-90.658573
X-APPLE-STRUCTURED-LOCATION;VALUE=URI;X-ADDRESS=Legion Memorial Library 106 Iron Street Mellen WI 54546 United States;X-APPLE-RADIUS=500;X-TITLE=106 Iron Street:geo:-90.658573,46.32721
END:VEVENT
BEGIN:VEVENT
DTSTART;TZID=America/Chicago:20260225T080000
DTEND;TZID=America/Chicago:20260225T170000
DTSTAMP:20260421T162319
CREATED:20260225T175637Z
LAST-MODIFIED:20260225T175637Z
UID:10003913-1772006400-1772038800@www.legionmemoriallibrary.org
SUMMARY:International Women’s Day!
DESCRIPTION:International Women’s Day! \n“You had the power all along my dear.” -Glinda the Good Witch in The Wizard of Oz by L. Frank Baum
URL:https://www.legionmemoriallibrary.org/event/international-womens-day/
LOCATION:Legion Memorial Library\, 106 Iron Street\, Mellen\, WI\, 54546\, United States
GEO:46.32721;-90.658573
X-APPLE-STRUCTURED-LOCATION;VALUE=URI;X-ADDRESS=Legion Memorial Library 106 Iron Street Mellen WI 54546 United States;X-APPLE-RADIUS=500;X-TITLE=106 Iron Street:geo:-90.658573,46.32721
END:VEVENT
BEGIN:VEVENT
DTSTART;TZID=America/Chicago:20260225T160000
DTEND;TZID=America/Chicago:20260225T170000
DTSTAMP:20260421T162319
CREATED:20260203T155821Z
LAST-MODIFIED:20260203T155821Z
UID:10003902-1772035200-1772038800@www.legionmemoriallibrary.org
SUMMARY:Asahi Nordic Exercise
DESCRIPTION:
URL:https://www.legionmemoriallibrary.org/event/asahi-nordic-exercise-61/
LOCATION:Legion Memorial Library\, 106 Iron Street\, Mellen\, WI\, 54546\, United States
GEO:46.32721;-90.658573
X-APPLE-STRUCTURED-LOCATION;VALUE=URI;X-ADDRESS=Legion Memorial Library 106 Iron Street Mellen WI 54546 United States;X-APPLE-RADIUS=500;X-TITLE=106 Iron Street:geo:-90.658573,46.32721
END:VEVENT
BEGIN:VEVENT
DTSTART;VALUE=DATE:20260226
DTEND;VALUE=DATE:20260227
DTSTAMP:20260421T162319
CREATED:20260203T145657Z
LAST-MODIFIED:20260203T145657Z
UID:10003887-1772064000-1772150399@www.legionmemoriallibrary.org
SUMMARY:Tell a Fairy Tale Day
DESCRIPTION:
URL:https://www.legionmemoriallibrary.org/event/tell-a-fairy-tale-day-2/
LOCATION:Legion Memorial Library\, 106 Iron Street\, Mellen\, WI\, 54546\, United States
GEO:46.32721;-90.658573
X-APPLE-STRUCTURED-LOCATION;VALUE=URI;X-ADDRESS=Legion Memorial Library 106 Iron Street Mellen WI 54546 United States;X-APPLE-RADIUS=500;X-TITLE=106 Iron Street:geo:-90.658573,46.32721
END:VEVENT
BEGIN:VEVENT
DTSTART;TZID=America/Chicago:20260226T090000
DTEND;TZID=America/Chicago:20260226T100000
DTSTAMP:20260421T162319
CREATED:20260203T155911Z
LAST-MODIFIED:20260203T155911Z
UID:10003903-1772096400-1772100000@www.legionmemoriallibrary.org
SUMMARY:Storytime
DESCRIPTION:
URL:https://www.legionmemoriallibrary.org/event/storytime-9/
LOCATION:Legion Memorial Library\, 106 Iron Street\, Mellen\, WI\, 54546\, United States
GEO:46.32721;-90.658573
X-APPLE-STRUCTURED-LOCATION;VALUE=URI;X-ADDRESS=Legion Memorial Library 106 Iron Street Mellen WI 54546 United States;X-APPLE-RADIUS=500;X-TITLE=106 Iron Street:geo:-90.658573,46.32721
END:VEVENT
BEGIN:VEVENT
DTSTART;VALUE=DATE:20260227
DTEND;VALUE=DATE:20260228
DTSTAMP:20260421T162319
CREATED:20260203T145736Z
LAST-MODIFIED:20260203T145736Z
UID:10003888-1772150400-1772236799@www.legionmemoriallibrary.org
SUMMARY:Retro Day
DESCRIPTION:
URL:https://www.legionmemoriallibrary.org/event/retro-day/
LOCATION:Legion Memorial Library\, 106 Iron Street\, Mellen\, WI\, 54546\, United States
GEO:46.32721;-90.658573
X-APPLE-STRUCTURED-LOCATION;VALUE=URI;X-ADDRESS=Legion Memorial Library 106 Iron Street Mellen WI 54546 United States;X-APPLE-RADIUS=500;X-TITLE=106 Iron Street:geo:-90.658573,46.32721
END:VEVENT
BEGIN:VEVENT
DTSTART;VALUE=DATE:20260228
DTEND;VALUE=DATE:20260301
DTSTAMP:20260421T162319
CREATED:20260203T154822Z
LAST-MODIFIED:20260203T154822Z
UID:10003889-1772236800-1772323199@www.legionmemoriallibrary.org
SUMMARY:Snowshoe Day
DESCRIPTION:
URL:https://www.legionmemoriallibrary.org/event/snowshoe-day/
LOCATION:Legion Memorial Library\, 106 Iron Street\, Mellen\, WI\, 54546\, United States
GEO:46.32721;-90.658573
X-APPLE-STRUCTURED-LOCATION;VALUE=URI;X-ADDRESS=Legion Memorial Library 106 Iron Street Mellen WI 54546 United States;X-APPLE-RADIUS=500;X-TITLE=106 Iron Street:geo:-90.658573,46.32721
END:VEVENT
BEGIN:VEVENT
DTSTART;VALUE=DATE:20260301
DTEND;VALUE=DATE:20260302
DTSTAMP:20260421T162319
CREATED:20260225T174612Z
LAST-MODIFIED:20260310T180517Z
UID:10003906-1772323200-1772409599@www.legionmemoriallibrary.org
SUMMARY:Share a Smile Day
DESCRIPTION:Share a Smile Day \n“A smile is the light in your window that tells others that there is a caring\, sharing person inside.  Every time you smile at someone\, it is an action of love\, a gift to that person\, a beautiful thing.”-Mother Teresa (1993) The Best Gift is Love: Meditations -Servant Books
URL:https://www.legionmemoriallibrary.org/event/share-a-smile-day/
LOCATION:Legion Memorial Library\, 106 Iron Street\, Mellen\, WI\, 54546\, United States
GEO:46.32721;-90.658573
X-APPLE-STRUCTURED-LOCATION;VALUE=URI;X-ADDRESS=Legion Memorial Library 106 Iron Street Mellen WI 54546 United States;X-APPLE-RADIUS=500;X-TITLE=106 Iron Street:geo:-90.658573,46.32721
END:VEVENT
BEGIN:VEVENT
DTSTART;VALUE=DATE:20260302
DTEND;VALUE=DATE:20260303
DTSTAMP:20260421T162319
CREATED:20260225T174806Z
LAST-MODIFIED:20260310T185850Z
UID:10003907-1772409600-1772495999@www.legionmemoriallibrary.org
SUMMARY:Dr. Seuss Day
DESCRIPTION:Dr. Seuss Day \n“You can find magic wherever you look.  Sit back and relax\, all  you need is a book.” -Dr Seuss
URL:https://www.legionmemoriallibrary.org/event/dr-seuss-day/
LOCATION:Legion Memorial Library\, 106 Iron Street\, Mellen\, WI\, 54546\, United States
GEO:46.32721;-90.658573
X-APPLE-STRUCTURED-LOCATION;VALUE=URI;X-ADDRESS=Legion Memorial Library 106 Iron Street Mellen WI 54546 United States;X-APPLE-RADIUS=500;X-TITLE=106 Iron Street:geo:-90.658573,46.32721
END:VEVENT
BEGIN:VEVENT
DTSTART;VALUE=DATE:20260303
DTEND;VALUE=DATE:20260304
DTSTAMP:20260421T162319
CREATED:20260225T175227Z
LAST-MODIFIED:20260310T190055Z
UID:10003908-1772496000-1772582399@www.legionmemoriallibrary.org
SUMMARY:World Wildlife Day
DESCRIPTION:World Wildlife Day \n“Let us develop respect for all living things.  Let us try to replace violence and intolerance with understanding and compassion. And love.” -Jane Goodall \n“If we kill off the wild we are killing a part of our souls.” -Jane Goodall
URL:https://www.legionmemoriallibrary.org/event/world-wildlife-day/
LOCATION:Legion Memorial Library\, 106 Iron Street\, Mellen\, WI\, 54546\, United States
GEO:46.32721;-90.658573
X-APPLE-STRUCTURED-LOCATION;VALUE=URI;X-ADDRESS=Legion Memorial Library 106 Iron Street Mellen WI 54546 United States;X-APPLE-RADIUS=500;X-TITLE=106 Iron Street:geo:-90.658573,46.32721
END:VEVENT
BEGIN:VEVENT
DTSTART;VALUE=DATE:20260304
DTEND;VALUE=DATE:20260305
DTSTAMP:20260421T162319
CREATED:20260225T175338Z
LAST-MODIFIED:20260310T190003Z
UID:10003909-1772582400-1772668799@www.legionmemoriallibrary.org
SUMMARY:Discover What Your Name Means Day
DESCRIPTION:Discover What Your Name Means Day \n“A name is so important. A surname connects you to your past\, to your family.  Even a given name has meaning-why did your parents pick that particular one? -Kelley Armstrong
URL:https://www.legionmemoriallibrary.org/event/discover-what-your-name-means-day/
LOCATION:Legion Memorial Library\, 106 Iron Street\, Mellen\, WI\, 54546\, United States
GEO:46.32721;-90.658573
X-APPLE-STRUCTURED-LOCATION;VALUE=URI;X-ADDRESS=Legion Memorial Library 106 Iron Street Mellen WI 54546 United States;X-APPLE-RADIUS=500;X-TITLE=106 Iron Street:geo:-90.658573,46.32721
END:VEVENT
BEGIN:VEVENT
DTSTART;TZID=America/Chicago:20260304T160000
DTEND;TZID=America/Chicago:20260304T170000
DTSTAMP:20260421T162319
CREATED:20260302T175847Z
LAST-MODIFIED:20260310T190246Z
UID:10003943-1772640000-1772643600@www.legionmemoriallibrary.org
SUMMARY:Asahi Nordic Exercise
DESCRIPTION:
URL:https://www.legionmemoriallibrary.org/event/asahi-nordic-exercise-62/
LOCATION:Legion Memorial Library\, 106 Iron Street\, Mellen\, WI\, 54546\, United States
GEO:46.32721;-90.658573
X-APPLE-STRUCTURED-LOCATION;VALUE=URI;X-ADDRESS=Legion Memorial Library 106 Iron Street Mellen WI 54546 United States;X-APPLE-RADIUS=500;X-TITLE=106 Iron Street:geo:-90.658573,46.32721
END:VEVENT
BEGIN:VEVENT
DTSTART;VALUE=DATE:20260305
DTEND;VALUE=DATE:20260306
DTSTAMP:20260421T162319
CREATED:20260225T175436Z
LAST-MODIFIED:20260310T185925Z
UID:10003910-1772668800-1772755199@www.legionmemoriallibrary.org
SUMMARY:World Book Day
DESCRIPTION:World Book Day \n“Reading is an exercise in empathy; an exercise in walking in someone else’s shoes for awhile.  -Malorie Blackman
URL:https://www.legionmemoriallibrary.org/event/world-book-day-2/
LOCATION:Legion Memorial Library\, 106 Iron Street\, Mellen\, WI\, 54546\, United States
GEO:46.32721;-90.658573
X-APPLE-STRUCTURED-LOCATION;VALUE=URI;X-ADDRESS=Legion Memorial Library 106 Iron Street Mellen WI 54546 United States;X-APPLE-RADIUS=500;X-TITLE=106 Iron Street:geo:-90.658573,46.32721
END:VEVENT
BEGIN:VEVENT
DTSTART;TZID=America/Chicago:20260305T033000
DTEND;TZID=America/Chicago:20260305T163000
DTSTAMP:20260421T162319
CREATED:20260302T151319Z
LAST-MODIFIED:20260302T151319Z
UID:10003939-1772681400-1772728200@www.legionmemoriallibrary.org
SUMMARY:Lego Club
DESCRIPTION:
URL:https://www.legionmemoriallibrary.org/event/lego-club/
LOCATION:Legion Memorial Library\, 106 Iron Street\, Mellen\, WI\, 54546\, United States
GEO:46.32721;-90.658573
X-APPLE-STRUCTURED-LOCATION;VALUE=URI;X-ADDRESS=Legion Memorial Library 106 Iron Street Mellen WI 54546 United States;X-APPLE-RADIUS=500;X-TITLE=106 Iron Street:geo:-90.658573,46.32721
END:VEVENT
BEGIN:VEVENT
DTSTART;VALUE=DATE:20260306
DTEND;VALUE=DATE:20260307
DTSTAMP:20260421T162319
CREATED:20260225T175515Z
LAST-MODIFIED:20260310T185752Z
UID:10003911-1772755200-1772841599@www.legionmemoriallibrary.org
SUMMARY:World Day of Prayer
DESCRIPTION:World Day of Prayer \n“If the only prayer you said was thank you\, that would be enough.”  -Meister Eckhart
URL:https://www.legionmemoriallibrary.org/event/world-day-of-prayer/
LOCATION:Legion Memorial Library\, 106 Iron Street\, Mellen\, WI\, 54546\, United States
GEO:46.32721;-90.658573
X-APPLE-STRUCTURED-LOCATION;VALUE=URI;X-ADDRESS=Legion Memorial Library 106 Iron Street Mellen WI 54546 United States;X-APPLE-RADIUS=500;X-TITLE=106 Iron Street:geo:-90.658573,46.32721
END:VEVENT
BEGIN:VEVENT
DTSTART;VALUE=DATE:20260307
DTEND;VALUE=DATE:20260308
DTSTAMP:20260421T162319
CREATED:20260225T175605Z
LAST-MODIFIED:20260310T185722Z
UID:10003912-1772841600-1772927999@www.legionmemoriallibrary.org
SUMMARY:National Sock Monkey Day
DESCRIPTION:National Sock Monkey Day \n“Creativity is making marvelous out of the mundane\, like a sock into a monkey. -Unknown
URL:https://www.legionmemoriallibrary.org/event/national-sock-monkey-day/
LOCATION:Legion Memorial Library\, 106 Iron Street\, Mellen\, WI\, 54546\, United States
GEO:46.32721;-90.658573
X-APPLE-STRUCTURED-LOCATION;VALUE=URI;X-ADDRESS=Legion Memorial Library 106 Iron Street Mellen WI 54546 United States;X-APPLE-RADIUS=500;X-TITLE=106 Iron Street:geo:-90.658573,46.32721
END:VEVENT
BEGIN:VEVENT
DTSTART;VALUE=DATE:20260308
DTEND;VALUE=DATE:20260309
DTSTAMP:20260421T162319
CREATED:20260225T175856Z
LAST-MODIFIED:20260310T185648Z
UID:10003914-1772928000-1773014399@www.legionmemoriallibrary.org
SUMMARY:International Women’s Day
DESCRIPTION:International Women’s Day \n“You had the power all along my dear.” -Glinda the Good Witch in The Wizard of Oz by L. Frank Baum
URL:https://www.legionmemoriallibrary.org/event/international-womens-day-2/
LOCATION:Legion Memorial Library\, 106 Iron Street\, Mellen\, WI\, 54546\, United States
GEO:46.32721;-90.658573
X-APPLE-STRUCTURED-LOCATION;VALUE=URI;X-ADDRESS=Legion Memorial Library 106 Iron Street Mellen WI 54546 United States;X-APPLE-RADIUS=500;X-TITLE=106 Iron Street:geo:-90.658573,46.32721
END:VEVENT
BEGIN:VEVENT
DTSTART;VALUE=DATE:20260309
DTEND;VALUE=DATE:20260310
DTSTAMP:20260421T162319
CREATED:20260225T175955Z
LAST-MODIFIED:20260310T185606Z
UID:10003915-1773014400-1773100799@www.legionmemoriallibrary.org
SUMMARY:National Napping Day
DESCRIPTION:National Napping Day \n“Loving ourselves and each other deepens our disruption of the dominant systems.  They want us unwell\, fearful\, exhausted\, and without deep self-love because you are easier to manipulate when you are distracted by what is not real or true.” -Tricia Hershey\, Rest is Resistance: A Manifesto
URL:https://www.legionmemoriallibrary.org/event/national-napping-day/
LOCATION:Legion Memorial Library\, 106 Iron Street\, Mellen\, WI\, 54546\, United States
GEO:46.32721;-90.658573
X-APPLE-STRUCTURED-LOCATION;VALUE=URI;X-ADDRESS=Legion Memorial Library 106 Iron Street Mellen WI 54546 United States;X-APPLE-RADIUS=500;X-TITLE=106 Iron Street:geo:-90.658573,46.32721
END:VEVENT
BEGIN:VEVENT
DTSTART;TZID=America/Chicago:20260309T090000
DTEND;TZID=America/Chicago:20260309T120000
DTSTAMP:20260421T162319
CREATED:20260302T180121Z
LAST-MODIFIED:20260302T180121Z
UID:10003947-1773046800-1773057600@www.legionmemoriallibrary.org
SUMMARY:Elder Benefit Specialish
DESCRIPTION:
URL:https://www.legionmemoriallibrary.org/event/elder-benefit-specialish/
LOCATION:Legion Memorial Library\, 106 Iron Street\, Mellen\, WI\, 54546\, United States
GEO:46.32721;-90.658573
X-APPLE-STRUCTURED-LOCATION;VALUE=URI;X-ADDRESS=Legion Memorial Library 106 Iron Street Mellen WI 54546 United States;X-APPLE-RADIUS=500;X-TITLE=106 Iron Street:geo:-90.658573,46.32721
END:VEVENT
BEGIN:VEVENT
DTSTART;TZID=America/Chicago:20260309T180000
DTEND;TZID=America/Chicago:20260309T190000
DTSTAMP:20260421T162319
CREATED:20260302T180235Z
LAST-MODIFIED:20260302T180235Z
UID:10003948-1773079200-1773082800@www.legionmemoriallibrary.org
SUMMARY:Book Club
DESCRIPTION:What Kind of Book Club Is This?!?! will meet to discuss “The Vanishing” by Brit Bennett.
URL:https://www.legionmemoriallibrary.org/event/book-club-61/
LOCATION:Legion Memorial Library\, 106 Iron Street\, Mellen\, WI\, 54546\, United States
GEO:46.32721;-90.658573
X-APPLE-STRUCTURED-LOCATION;VALUE=URI;X-ADDRESS=Legion Memorial Library 106 Iron Street Mellen WI 54546 United States;X-APPLE-RADIUS=500;X-TITLE=106 Iron Street:geo:-90.658573,46.32721
END:VEVENT
BEGIN:VEVENT
DTSTART;VALUE=DATE:20260310
DTEND;VALUE=DATE:20260311
DTSTAMP:20260421T162319
CREATED:20260225T180052Z
LAST-MODIFIED:20260225T180052Z
UID:10003916-1773100800-1773187199@www.legionmemoriallibrary.org
SUMMARY:National Day of Awesomeness!
DESCRIPTION:National Day of Awesomeness!  \n“Let’s summarize. What is awesomeness? Awesomeness happens when thick-real\, meaningful-value is created by people who love what they do\, added to the insanely great stuff\, and multiplied by communities who are delighted and inspired because they are authentically better off.  That’s a better kind of innovation\, built for 21st century economics.” -Umair Haque
URL:https://www.legionmemoriallibrary.org/event/national-day-of-awesomeness/
LOCATION:Legion Memorial Library\, 106 Iron Street\, Mellen\, WI\, 54546\, United States
GEO:46.32721;-90.658573
X-APPLE-STRUCTURED-LOCATION;VALUE=URI;X-ADDRESS=Legion Memorial Library 106 Iron Street Mellen WI 54546 United States;X-APPLE-RADIUS=500;X-TITLE=106 Iron Street:geo:-90.658573,46.32721
END:VEVENT
END:VCALENDAR