BEGIN:VCALENDAR
VERSION:2.0
PRODID:-//Legion Memorial Library - ECPv6.15.20//NONSGML v1.0//EN
CALSCALE:GREGORIAN
METHOD:PUBLISH
X-WR-CALNAME:Legion Memorial Library
X-ORIGINAL-URL:https://www.legionmemoriallibrary.org
X-WR-CALDESC:Events for Legion Memorial Library
REFRESH-INTERVAL;VALUE=DURATION:PT1H
X-Robots-Tag:noindex
X-PUBLISHED-TTL:PT1H
BEGIN:VTIMEZONE
TZID:America/Chicago
BEGIN:DAYLIGHT
TZOFFSETFROM:-0600
TZOFFSETTO:-0500
TZNAME:CDT
DTSTART:20240310T080000
END:DAYLIGHT
BEGIN:STANDARD
TZOFFSETFROM:-0500
TZOFFSETTO:-0600
TZNAME:CST
DTSTART:20241103T070000
END:STANDARD
BEGIN:DAYLIGHT
TZOFFSETFROM:-0600
TZOFFSETTO:-0500
TZNAME:CDT
DTSTART:20250309T080000
END:DAYLIGHT
BEGIN:STANDARD
TZOFFSETFROM:-0500
TZOFFSETTO:-0600
TZNAME:CST
DTSTART:20251102T070000
END:STANDARD
BEGIN:DAYLIGHT
TZOFFSETFROM:-0600
TZOFFSETTO:-0500
TZNAME:CDT
DTSTART:20260308T080000
END:DAYLIGHT
BEGIN:STANDARD
TZOFFSETFROM:-0500
TZOFFSETTO:-0600
TZNAME:CST
DTSTART:20261101T070000
END:STANDARD
BEGIN:DAYLIGHT
TZOFFSETFROM:-0600
TZOFFSETTO:-0500
TZNAME:CDT
DTSTART:20270314T080000
END:DAYLIGHT
BEGIN:STANDARD
TZOFFSETFROM:-0500
TZOFFSETTO:-0600
TZNAME:CST
DTSTART:20271107T070000
END:STANDARD
END:VTIMEZONE
BEGIN:VEVENT
DTSTART;VALUE=DATE:20260109
DTEND;VALUE=DATE:20260110
DTSTAMP:20260421T170431
CREATED:20251222T195602Z
LAST-MODIFIED:20251222T195602Z
UID:10003824-1767916800-1768003199@www.legionmemoriallibrary.org
SUMMARY:Law Enforcement Appreciation Day
DESCRIPTION:National Law Enforcement Appreciation Day \n“You may never need them\, but if you do\, they’ll be there.  It’s that bedrock promise of protection that makes our public safety officials the unsung heroes that they are.”  Ajit Pai
URL:https://www.legionmemoriallibrary.org/event/law-enforcement-appreciation-day/
LOCATION:Legion Memorial Library\, 106 Iron Street\, Mellen\, WI\, 54546\, United States
GEO:46.32721;-90.658573
X-APPLE-STRUCTURED-LOCATION;VALUE=URI;X-ADDRESS=Legion Memorial Library 106 Iron Street Mellen WI 54546 United States;X-APPLE-RADIUS=500;X-TITLE=106 Iron Street:geo:-90.658573,46.32721
END:VEVENT
BEGIN:VEVENT
DTSTART;TZID=America/Chicago:20260108T170000
DTEND;TZID=America/Chicago:20260108T170000
DTSTAMP:20260421T170431
CREATED:20251222T202022Z
LAST-MODIFIED:20251222T202022Z
UID:10003847-1767891600-1767891600@www.legionmemoriallibrary.org
SUMMARY:Friends of the Library Meeting
DESCRIPTION:
URL:https://www.legionmemoriallibrary.org/event/friends-of-the-library-meeting-18/
LOCATION:Legion Memorial Library\, 106 Iron Street\, Mellen\, WI\, 54546\, United States
GEO:46.32721;-90.658573
X-APPLE-STRUCTURED-LOCATION;VALUE=URI;X-ADDRESS=Legion Memorial Library 106 Iron Street Mellen WI 54546 United States;X-APPLE-RADIUS=500;X-TITLE=106 Iron Street:geo:-90.658573,46.32721
END:VEVENT
BEGIN:VEVENT
DTSTART;VALUE=DATE:20260108
DTEND;VALUE=DATE:20260109
DTSTAMP:20260421T170431
CREATED:20251222T195513Z
LAST-MODIFIED:20251222T195513Z
UID:10003823-1767830400-1767916799@www.legionmemoriallibrary.org
SUMMARY:Argyle Day
DESCRIPTION:National Argyle Day \nThe tartan of the Clan of Campbell of Argyll in Scotland is where the argyle pattern originated.  The design was used on the kilts worn by the Scottish Highlanders.
URL:https://www.legionmemoriallibrary.org/event/argyle-day/
LOCATION:Legion Memorial Library\, 106 Iron Street\, Mellen\, WI\, 54546\, United States
GEO:46.32721;-90.658573
X-APPLE-STRUCTURED-LOCATION;VALUE=URI;X-ADDRESS=Legion Memorial Library 106 Iron Street Mellen WI 54546 United States;X-APPLE-RADIUS=500;X-TITLE=106 Iron Street:geo:-90.658573,46.32721
END:VEVENT
BEGIN:VEVENT
DTSTART;TZID=America/Chicago:20260107T160000
DTEND;TZID=America/Chicago:20260107T170000
DTSTAMP:20260421T170431
CREATED:20251222T202537Z
LAST-MODIFIED:20251222T202537Z
UID:10003853-1767801600-1767805200@www.legionmemoriallibrary.org
SUMMARY:Asahi Nordic Exercise
DESCRIPTION:
URL:https://www.legionmemoriallibrary.org/event/asahi-nordic-exercise-51/
LOCATION:Legion Memorial Library\, 106 Iron Street\, Mellen\, WI\, 54546\, United States
GEO:46.32721;-90.658573
X-APPLE-STRUCTURED-LOCATION;VALUE=URI;X-ADDRESS=Legion Memorial Library 106 Iron Street Mellen WI 54546 United States;X-APPLE-RADIUS=500;X-TITLE=106 Iron Street:geo:-90.658573,46.32721
END:VEVENT
BEGIN:VEVENT
DTSTART;VALUE=DATE:20260107
DTEND;VALUE=DATE:20260108
DTSTAMP:20260421T170431
CREATED:20251222T195419Z
LAST-MODIFIED:20251222T195419Z
UID:10003822-1767744000-1767830399@www.legionmemoriallibrary.org
SUMMARY:National Bobblehead Day
DESCRIPTION:National Bobblehead Day  The National Bobblehead Hall of Fame and Museum is located in Milwaukee\, Wisconsin.
URL:https://www.legionmemoriallibrary.org/event/national-bobblehead-day-2/
LOCATION:Legion Memorial Library\, 106 Iron Street\, Mellen\, WI\, 54546\, United States
GEO:46.32721;-90.658573
X-APPLE-STRUCTURED-LOCATION;VALUE=URI;X-ADDRESS=Legion Memorial Library 106 Iron Street Mellen WI 54546 United States;X-APPLE-RADIUS=500;X-TITLE=106 Iron Street:geo:-90.658573,46.32721
END:VEVENT
BEGIN:VEVENT
DTSTART;VALUE=DATE:20260106
DTEND;VALUE=DATE:20260107
DTSTAMP:20260421T170431
CREATED:20251222T195326Z
LAST-MODIFIED:20251222T195326Z
UID:10003821-1767657600-1767743999@www.legionmemoriallibrary.org
SUMMARY:Cuddle Up Day
DESCRIPTION:Cuddle Up Day  “Petting and scratching and cuddling a dog could be as soothing to the mind and heart ad deep meditation and almost as good for the soul as prayer.”  Dean Koontz
URL:https://www.legionmemoriallibrary.org/event/cuddle-up-day/
LOCATION:Legion Memorial Library\, 106 Iron Street\, Mellen\, WI\, 54546\, United States
GEO:46.32721;-90.658573
X-APPLE-STRUCTURED-LOCATION;VALUE=URI;X-ADDRESS=Legion Memorial Library 106 Iron Street Mellen WI 54546 United States;X-APPLE-RADIUS=500;X-TITLE=106 Iron Street:geo:-90.658573,46.32721
END:VEVENT
BEGIN:VEVENT
DTSTART;VALUE=DATE:20260105
DTEND;VALUE=DATE:20260106
DTSTAMP:20260421T170431
CREATED:20251222T195249Z
LAST-MODIFIED:20251222T195249Z
UID:10003820-1767571200-1767657599@www.legionmemoriallibrary.org
SUMMARY:Bird Day
DESCRIPTION:National Bird Day  “Pan\, who and what art thou?” he cried huskily.  “I’m youth\, I’m joy\,” Peter answered at a venture\, “I’m a little bird that has broken out of the egg.”  J.M. Berrie\, Peter Pan
URL:https://www.legionmemoriallibrary.org/event/bird-day/
LOCATION:Legion Memorial Library\, 106 Iron Street\, Mellen\, WI\, 54546\, United States
GEO:46.32721;-90.658573
X-APPLE-STRUCTURED-LOCATION;VALUE=URI;X-ADDRESS=Legion Memorial Library 106 Iron Street Mellen WI 54546 United States;X-APPLE-RADIUS=500;X-TITLE=106 Iron Street:geo:-90.658573,46.32721
END:VEVENT
BEGIN:VEVENT
DTSTART;VALUE=DATE:20260104
DTEND;VALUE=DATE:20260105
DTSTAMP:20260421T170431
CREATED:20251222T195155Z
LAST-MODIFIED:20251222T195155Z
UID:10003819-1767484800-1767571199@www.legionmemoriallibrary.org
SUMMARY:World Braille Day
DESCRIPTION:World Braille Day  “There is a wonder in reading in Braille that the sighted will never know: to touch words and have them touch you back.” Jim Fiebig
URL:https://www.legionmemoriallibrary.org/event/world-braille-day/
LOCATION:Legion Memorial Library\, 106 Iron Street\, Mellen\, WI\, 54546\, United States
GEO:46.32721;-90.658573
X-APPLE-STRUCTURED-LOCATION;VALUE=URI;X-ADDRESS=Legion Memorial Library 106 Iron Street Mellen WI 54546 United States;X-APPLE-RADIUS=500;X-TITLE=106 Iron Street:geo:-90.658573,46.32721
END:VEVENT
BEGIN:VEVENT
DTSTART;VALUE=DATE:20260103
DTEND;VALUE=DATE:20260104
DTSTAMP:20260421T170431
CREATED:20251222T195117Z
LAST-MODIFIED:20251222T195117Z
UID:10003818-1767398400-1767484799@www.legionmemoriallibrary.org
SUMMARY:J.R.R.Tolkien Day
DESCRIPTION:J.R.R.Tolkien Day  “If more of us valued food and cheer and song above hoarded gold\, it would be a merrier world.”  J.R.R. Tolkien
URL:https://www.legionmemoriallibrary.org/event/j-r-r-tolkien-day/
LOCATION:Legion Memorial Library\, 106 Iron Street\, Mellen\, WI\, 54546\, United States
GEO:46.32721;-90.658573
X-APPLE-STRUCTURED-LOCATION;VALUE=URI;X-ADDRESS=Legion Memorial Library 106 Iron Street Mellen WI 54546 United States;X-APPLE-RADIUS=500;X-TITLE=106 Iron Street:geo:-90.658573,46.32721
END:VEVENT
BEGIN:VEVENT
DTSTART;VALUE=DATE:20260102
DTEND;VALUE=DATE:20260103
DTSTAMP:20260421T170431
CREATED:20251222T195012Z
LAST-MODIFIED:20251222T195012Z
UID:10003817-1767312000-1767398399@www.legionmemoriallibrary.org
SUMMARY:Science Fiction Day
DESCRIPTION:National Science Fiction Day  “Isn’t that what it means to be a scientist?  To push the boundaries of the unknown?  To bravely\, actively explore the enormity of our universe?”  Robyn Mundell\, Brainwalker
URL:https://www.legionmemoriallibrary.org/event/science-fiction-day/
LOCATION:Legion Memorial Library\, 106 Iron Street\, Mellen\, WI\, 54546\, United States
GEO:46.32721;-90.658573
X-APPLE-STRUCTURED-LOCATION;VALUE=URI;X-ADDRESS=Legion Memorial Library 106 Iron Street Mellen WI 54546 United States;X-APPLE-RADIUS=500;X-TITLE=106 Iron Street:geo:-90.658573,46.32721
END:VEVENT
BEGIN:VEVENT
DTSTART;VALUE=DATE:20260101
DTEND;VALUE=DATE:20260102
DTSTAMP:20260421T170431
CREATED:20251222T194934Z
LAST-MODIFIED:20251222T194934Z
UID:10003816-1767225600-1767311999@www.legionmemoriallibrary.org
SUMMARY:World Day of Peace
DESCRIPTION:World Day of Peace \nWorld Peace Day is envisioned to become of moment of global unity – it is up to each and everyone of us to make this a reality”  Jeremy Gilley
URL:https://www.legionmemoriallibrary.org/event/world-day-of-peace/
LOCATION:Legion Memorial Library\, 106 Iron Street\, Mellen\, WI\, 54546\, United States
GEO:46.32721;-90.658573
X-APPLE-STRUCTURED-LOCATION;VALUE=URI;X-ADDRESS=Legion Memorial Library 106 Iron Street Mellen WI 54546 United States;X-APPLE-RADIUS=500;X-TITLE=106 Iron Street:geo:-90.658573,46.32721
END:VEVENT
BEGIN:VEVENT
DTSTART;VALUE=DATE:20260101
DTEND;VALUE=DATE:20260102
DTSTAMP:20260421T170431
CREATED:20251201T161446Z
LAST-MODIFIED:20251201T161446Z
UID:10003783-1767225600-1767311999@www.legionmemoriallibrary.org
SUMMARY:New Year's Day-Library Closed
DESCRIPTION:
URL:https://www.legionmemoriallibrary.org/event/new-years-day-library-closed/
LOCATION:Legion Memorial Library\, 106 Iron Street\, Mellen\, WI\, 54546\, United States
GEO:46.32721;-90.658573
X-APPLE-STRUCTURED-LOCATION;VALUE=URI;X-ADDRESS=Legion Memorial Library 106 Iron Street Mellen WI 54546 United States;X-APPLE-RADIUS=500;X-TITLE=106 Iron Street:geo:-90.658573,46.32721
END:VEVENT
BEGIN:VEVENT
DTSTART;VALUE=DATE:20251231
DTEND;VALUE=DATE:20260101
DTSTAMP:20260421T170431
CREATED:20251201T163955Z
LAST-MODIFIED:20251201T163955Z
UID:10003813-1767139200-1767225599@www.legionmemoriallibrary.org
SUMMARY:Make Up Your Mind Day
DESCRIPTION:
URL:https://www.legionmemoriallibrary.org/event/make-up-your-mind-day/
LOCATION:Legion Memorial Library\, 106 Iron Street\, Mellen\, WI\, 54546\, United States
GEO:46.32721;-90.658573
X-APPLE-STRUCTURED-LOCATION;VALUE=URI;X-ADDRESS=Legion Memorial Library 106 Iron Street Mellen WI 54546 United States;X-APPLE-RADIUS=500;X-TITLE=106 Iron Street:geo:-90.658573,46.32721
END:VEVENT
BEGIN:VEVENT
DTSTART;VALUE=DATE:20251231
DTEND;VALUE=DATE:20260101
DTSTAMP:20260421T170431
CREATED:20251201T161404Z
LAST-MODIFIED:20251201T161404Z
UID:10003782-1767139200-1767225599@www.legionmemoriallibrary.org
SUMMARY:New Year's Eve-Library Closed
DESCRIPTION:
URL:https://www.legionmemoriallibrary.org/event/new-years-eve-library-closed/
LOCATION:Legion Memorial Library\, 106 Iron Street\, Mellen\, WI\, 54546\, United States
GEO:46.32721;-90.658573
X-APPLE-STRUCTURED-LOCATION;VALUE=URI;X-ADDRESS=Legion Memorial Library 106 Iron Street Mellen WI 54546 United States;X-APPLE-RADIUS=500;X-TITLE=106 Iron Street:geo:-90.658573,46.32721
END:VEVENT
BEGIN:VEVENT
DTSTART;VALUE=DATE:20251230
DTEND;VALUE=DATE:20251231
DTSTAMP:20260421T170431
CREATED:20251201T164207Z
LAST-MODIFIED:20251201T164207Z
UID:10003815-1767052800-1767139199@www.legionmemoriallibrary.org
SUMMARY:Bacon Day
DESCRIPTION:
URL:https://www.legionmemoriallibrary.org/event/bacon-day-3/
LOCATION:Legion Memorial Library\, 106 Iron Street\, Mellen\, WI\, 54546\, United States
GEO:46.32721;-90.658573
X-APPLE-STRUCTURED-LOCATION;VALUE=URI;X-ADDRESS=Legion Memorial Library 106 Iron Street Mellen WI 54546 United States;X-APPLE-RADIUS=500;X-TITLE=106 Iron Street:geo:-90.658573,46.32721
END:VEVENT
BEGIN:VEVENT
DTSTART;VALUE=DATE:20251229
DTEND;VALUE=DATE:20251230
DTSTAMP:20260421T170431
CREATED:20251229T142930Z
LAST-MODIFIED:20251229T142930Z
UID:10003857-1766966400-1767052799@www.legionmemoriallibrary.org
SUMMARY:Library Closed
DESCRIPTION:The library will be closed today due to the blizzard (Wrapping up soon\, I hope.)  And then the clean-up.  Stay safe & warm.
URL:https://www.legionmemoriallibrary.org/event/library-closed-51/
LOCATION:Legion Memorial Library\, 106 Iron Street\, Mellen\, WI\, 54546\, United States
GEO:46.32721;-90.658573
X-APPLE-STRUCTURED-LOCATION;VALUE=URI;X-ADDRESS=Legion Memorial Library 106 Iron Street Mellen WI 54546 United States;X-APPLE-RADIUS=500;X-TITLE=106 Iron Street:geo:-90.658573,46.32721
END:VEVENT
BEGIN:VEVENT
DTSTART;VALUE=DATE:20251229
DTEND;VALUE=DATE:20251230
DTSTAMP:20260421T170431
CREATED:20251201T163715Z
LAST-MODIFIED:20251201T163715Z
UID:10003812-1766966400-1767052799@www.legionmemoriallibrary.org
SUMMARY:Tick Tock Day
DESCRIPTION:
URL:https://www.legionmemoriallibrary.org/event/tick-tock-day/
LOCATION:Legion Memorial Library\, 106 Iron Street\, Mellen\, WI\, 54546\, United States
GEO:46.32721;-90.658573
X-APPLE-STRUCTURED-LOCATION;VALUE=URI;X-ADDRESS=Legion Memorial Library 106 Iron Street Mellen WI 54546 United States;X-APPLE-RADIUS=500;X-TITLE=106 Iron Street:geo:-90.658573,46.32721
END:VEVENT
BEGIN:VEVENT
DTSTART;VALUE=DATE:20251228
DTEND;VALUE=DATE:20251229
DTSTAMP:20260421T170431
CREATED:20251201T163637Z
LAST-MODIFIED:20251201T163637Z
UID:10003811-1766880000-1766966399@www.legionmemoriallibrary.org
SUMMARY:Call a Friend Day
DESCRIPTION:
URL:https://www.legionmemoriallibrary.org/event/call-a-friend-day/
LOCATION:Legion Memorial Library\, 106 Iron Street\, Mellen\, WI\, 54546\, United States
GEO:46.32721;-90.658573
X-APPLE-STRUCTURED-LOCATION;VALUE=URI;X-ADDRESS=Legion Memorial Library 106 Iron Street Mellen WI 54546 United States;X-APPLE-RADIUS=500;X-TITLE=106 Iron Street:geo:-90.658573,46.32721
END:VEVENT
BEGIN:VEVENT
DTSTART;VALUE=DATE:20251227
DTEND;VALUE=DATE:20251228
DTSTAMP:20260421T170431
CREATED:20251201T163608Z
LAST-MODIFIED:20251201T163608Z
UID:10003810-1766793600-1766879999@www.legionmemoriallibrary.org
SUMMARY:Make Cut-Out Snowflakes Day
DESCRIPTION:
URL:https://www.legionmemoriallibrary.org/event/make-cut-out-snowflakes-day/
LOCATION:Legion Memorial Library\, 106 Iron Street\, Mellen\, WI\, 54546\, United States
GEO:46.32721;-90.658573
X-APPLE-STRUCTURED-LOCATION;VALUE=URI;X-ADDRESS=Legion Memorial Library 106 Iron Street Mellen WI 54546 United States;X-APPLE-RADIUS=500;X-TITLE=106 Iron Street:geo:-90.658573,46.32721
END:VEVENT
BEGIN:VEVENT
DTSTART;VALUE=DATE:20251226
DTEND;VALUE=DATE:20251227
DTSTAMP:20260421T170431
CREATED:20251201T163408Z
LAST-MODIFIED:20251201T163408Z
UID:10003809-1766707200-1766793599@www.legionmemoriallibrary.org
SUMMARY:First Day of Kwanzaa
DESCRIPTION:
URL:https://www.legionmemoriallibrary.org/event/first-day-of-kwanzaa/
LOCATION:Legion Memorial Library\, 106 Iron Street\, Mellen\, WI\, 54546\, United States
GEO:46.32721;-90.658573
X-APPLE-STRUCTURED-LOCATION;VALUE=URI;X-ADDRESS=Legion Memorial Library 106 Iron Street Mellen WI 54546 United States;X-APPLE-RADIUS=500;X-TITLE=106 Iron Street:geo:-90.658573,46.32721
END:VEVENT
BEGIN:VEVENT
DTSTART;VALUE=DATE:20251225
DTEND;VALUE=DATE:20251226
DTSTAMP:20260421T170431
CREATED:20251201T163334Z
LAST-MODIFIED:20251201T163334Z
UID:10003808-1766620800-1766707199@www.legionmemoriallibrary.org
SUMMARY:Christmas Day
DESCRIPTION:
URL:https://www.legionmemoriallibrary.org/event/christmas-day-4/
LOCATION:Legion Memorial Library\, 106 Iron Street\, Mellen\, WI\, 54546\, United States
GEO:46.32721;-90.658573
X-APPLE-STRUCTURED-LOCATION;VALUE=URI;X-ADDRESS=Legion Memorial Library 106 Iron Street Mellen WI 54546 United States;X-APPLE-RADIUS=500;X-TITLE=106 Iron Street:geo:-90.658573,46.32721
END:VEVENT
BEGIN:VEVENT
DTSTART;VALUE=DATE:20251225
DTEND;VALUE=DATE:20251226
DTSTAMP:20260421T170431
CREATED:20251201T161325Z
LAST-MODIFIED:20251201T161325Z
UID:10003781-1766620800-1766707199@www.legionmemoriallibrary.org
SUMMARY:Christmas Day-Library Closed
DESCRIPTION:
URL:https://www.legionmemoriallibrary.org/event/christmas-day-library-closed/
LOCATION:Legion Memorial Library\, 106 Iron Street\, Mellen\, WI\, 54546\, United States
GEO:46.32721;-90.658573
X-APPLE-STRUCTURED-LOCATION;VALUE=URI;X-ADDRESS=Legion Memorial Library 106 Iron Street Mellen WI 54546 United States;X-APPLE-RADIUS=500;X-TITLE=106 Iron Street:geo:-90.658573,46.32721
END:VEVENT
BEGIN:VEVENT
DTSTART;VALUE=DATE:20251224
DTEND;VALUE=DATE:20251225
DTSTAMP:20260421T170431
CREATED:20251201T163305Z
LAST-MODIFIED:20251201T163305Z
UID:10003807-1766534400-1766620799@www.legionmemoriallibrary.org
SUMMARY:Last-Minute Shoppers Day
DESCRIPTION:
URL:https://www.legionmemoriallibrary.org/event/last-minute-shoppers-day/
LOCATION:Legion Memorial Library\, 106 Iron Street\, Mellen\, WI\, 54546\, United States
GEO:46.32721;-90.658573
X-APPLE-STRUCTURED-LOCATION;VALUE=URI;X-ADDRESS=Legion Memorial Library 106 Iron Street Mellen WI 54546 United States;X-APPLE-RADIUS=500;X-TITLE=106 Iron Street:geo:-90.658573,46.32721
END:VEVENT
BEGIN:VEVENT
DTSTART;VALUE=DATE:20251224
DTEND;VALUE=DATE:20251225
DTSTAMP:20260421T170431
CREATED:20251201T161300Z
LAST-MODIFIED:20251201T161300Z
UID:10003780-1766534400-1766620799@www.legionmemoriallibrary.org
SUMMARY:Christmas Eve-Library Closed
DESCRIPTION:
URL:https://www.legionmemoriallibrary.org/event/christmas-eve-library-closed/
LOCATION:Legion Memorial Library\, 106 Iron Street\, Mellen\, WI\, 54546\, United States
GEO:46.32721;-90.658573
X-APPLE-STRUCTURED-LOCATION;VALUE=URI;X-ADDRESS=Legion Memorial Library 106 Iron Street Mellen WI 54546 United States;X-APPLE-RADIUS=500;X-TITLE=106 Iron Street:geo:-90.658573,46.32721
END:VEVENT
BEGIN:VEVENT
DTSTART;VALUE=DATE:20251223
DTEND;VALUE=DATE:20251224
DTSTAMP:20260421T170431
CREATED:20251201T163241Z
LAST-MODIFIED:20251201T163241Z
UID:10003806-1766448000-1766534399@www.legionmemoriallibrary.org
SUMMARY:Festivus
DESCRIPTION:
URL:https://www.legionmemoriallibrary.org/event/festivus/
LOCATION:Legion Memorial Library\, 106 Iron Street\, Mellen\, WI\, 54546\, United States
GEO:46.32721;-90.658573
X-APPLE-STRUCTURED-LOCATION;VALUE=URI;X-ADDRESS=Legion Memorial Library 106 Iron Street Mellen WI 54546 United States;X-APPLE-RADIUS=500;X-TITLE=106 Iron Street:geo:-90.658573,46.32721
END:VEVENT
BEGIN:VEVENT
DTSTART;VALUE=DATE:20251222
DTEND;VALUE=DATE:20251223
DTSTAMP:20260421T170431
CREATED:20251201T163212Z
LAST-MODIFIED:20251201T163212Z
UID:10003805-1766361600-1766447999@www.legionmemoriallibrary.org
SUMMARY:Mathematics Day
DESCRIPTION:
URL:https://www.legionmemoriallibrary.org/event/mathematics-day/
LOCATION:Legion Memorial Library\, 106 Iron Street\, Mellen\, WI\, 54546\, United States
GEO:46.32721;-90.658573
X-APPLE-STRUCTURED-LOCATION;VALUE=URI;X-ADDRESS=Legion Memorial Library 106 Iron Street Mellen WI 54546 United States;X-APPLE-RADIUS=500;X-TITLE=106 Iron Street:geo:-90.658573,46.32721
END:VEVENT
BEGIN:VEVENT
DTSTART;VALUE=DATE:20251221
DTEND;VALUE=DATE:20251222
DTSTAMP:20260421T170431
CREATED:20251201T163120Z
LAST-MODIFIED:20251201T163120Z
UID:10003804-1766275200-1766361599@www.legionmemoriallibrary.org
SUMMARY:Short Story Day
DESCRIPTION:
URL:https://www.legionmemoriallibrary.org/event/short-story-day/
LOCATION:Legion Memorial Library\, 106 Iron Street\, Mellen\, WI\, 54546\, United States
GEO:46.32721;-90.658573
X-APPLE-STRUCTURED-LOCATION;VALUE=URI;X-ADDRESS=Legion Memorial Library 106 Iron Street Mellen WI 54546 United States;X-APPLE-RADIUS=500;X-TITLE=106 Iron Street:geo:-90.658573,46.32721
END:VEVENT
BEGIN:VEVENT
DTSTART;VALUE=DATE:20251220
DTEND;VALUE=DATE:20251221
DTSTAMP:20260421T170432
CREATED:20251201T163054Z
LAST-MODIFIED:20251201T163054Z
UID:10003803-1766188800-1766275199@www.legionmemoriallibrary.org
SUMMARY:Go Caroling Day
DESCRIPTION:
URL:https://www.legionmemoriallibrary.org/event/go-caroling-day-2/
LOCATION:Legion Memorial Library\, 106 Iron Street\, Mellen\, WI\, 54546\, United States
GEO:46.32721;-90.658573
X-APPLE-STRUCTURED-LOCATION;VALUE=URI;X-ADDRESS=Legion Memorial Library 106 Iron Street Mellen WI 54546 United States;X-APPLE-RADIUS=500;X-TITLE=106 Iron Street:geo:-90.658573,46.32721
END:VEVENT
BEGIN:VEVENT
DTSTART;VALUE=DATE:20251219
DTEND;VALUE=DATE:20251220
DTSTAMP:20260421T170432
CREATED:20251201T163029Z
LAST-MODIFIED:20251201T163029Z
UID:10003802-1766102400-1766188799@www.legionmemoriallibrary.org
SUMMARY:Ugly Christmas Sweater Day
DESCRIPTION:
URL:https://www.legionmemoriallibrary.org/event/ugly-christmas-sweater-day/
LOCATION:Legion Memorial Library\, 106 Iron Street\, Mellen\, WI\, 54546\, United States
GEO:46.32721;-90.658573
X-APPLE-STRUCTURED-LOCATION;VALUE=URI;X-ADDRESS=Legion Memorial Library 106 Iron Street Mellen WI 54546 United States;X-APPLE-RADIUS=500;X-TITLE=106 Iron Street:geo:-90.658573,46.32721
END:VEVENT
BEGIN:VEVENT
DTSTART;VALUE=DATE:20251218
DTEND;VALUE=DATE:20251219
DTSTAMP:20260421T170432
CREATED:20251201T162958Z
LAST-MODIFIED:20251201T162958Z
UID:10003801-1766016000-1766102399@www.legionmemoriallibrary.org
SUMMARY:Bake Cookies Day
DESCRIPTION:
URL:https://www.legionmemoriallibrary.org/event/bake-cookies-day/
LOCATION:Legion Memorial Library\, 106 Iron Street\, Mellen\, WI\, 54546\, United States
GEO:46.32721;-90.658573
X-APPLE-STRUCTURED-LOCATION;VALUE=URI;X-ADDRESS=Legion Memorial Library 106 Iron Street Mellen WI 54546 United States;X-APPLE-RADIUS=500;X-TITLE=106 Iron Street:geo:-90.658573,46.32721
END:VEVENT
END:VCALENDAR