BEGIN:VCALENDAR
VERSION:2.0
PRODID:-//Legion Memorial Library - ECPv6.15.20//NONSGML v1.0//EN
CALSCALE:GREGORIAN
METHOD:PUBLISH
X-WR-CALNAME:Legion Memorial Library
X-ORIGINAL-URL:https://www.legionmemoriallibrary.org
X-WR-CALDESC:Events for Legion Memorial Library
REFRESH-INTERVAL;VALUE=DURATION:PT1H
X-Robots-Tag:noindex
X-PUBLISHED-TTL:PT1H
BEGIN:VTIMEZONE
TZID:America/Chicago
BEGIN:DAYLIGHT
TZOFFSETFROM:-0600
TZOFFSETTO:-0500
TZNAME:CDT
DTSTART:20240310T080000
END:DAYLIGHT
BEGIN:STANDARD
TZOFFSETFROM:-0500
TZOFFSETTO:-0600
TZNAME:CST
DTSTART:20241103T070000
END:STANDARD
BEGIN:DAYLIGHT
TZOFFSETFROM:-0600
TZOFFSETTO:-0500
TZNAME:CDT
DTSTART:20250309T080000
END:DAYLIGHT
BEGIN:STANDARD
TZOFFSETFROM:-0500
TZOFFSETTO:-0600
TZNAME:CST
DTSTART:20251102T070000
END:STANDARD
BEGIN:DAYLIGHT
TZOFFSETFROM:-0600
TZOFFSETTO:-0500
TZNAME:CDT
DTSTART:20260308T080000
END:DAYLIGHT
BEGIN:STANDARD
TZOFFSETFROM:-0500
TZOFFSETTO:-0600
TZNAME:CST
DTSTART:20261101T070000
END:STANDARD
END:VTIMEZONE
BEGIN:VEVENT
DTSTART;VALUE=DATE:20250524
DTEND;VALUE=DATE:20250525
DTSTAMP:20260423T145326
CREATED:20250416T151348Z
LAST-MODIFIED:20250416T151348Z
UID:10003225-1748044800-1748131199@www.legionmemoriallibrary.org
SUMMARY:Asparagus Day
DESCRIPTION:National Asparagus Day \n“Asparagus inspires gentle thoughts.” —Charles Lamb
URL:https://www.legionmemoriallibrary.org/event/asparagus-day/
LOCATION:Legion Memorial Library\, 106 Iron Street\, Mellen\, WI\, 54546\, United States
GEO:46.32721;-90.658573
X-APPLE-STRUCTURED-LOCATION;VALUE=URI;X-ADDRESS=Legion Memorial Library 106 Iron Street Mellen WI 54546 United States;X-APPLE-RADIUS=500;X-TITLE=106 Iron Street:geo:-90.658573,46.32721
END:VEVENT
BEGIN:VEVENT
DTSTART;VALUE=DATE:20250523
DTEND;VALUE=DATE:20250524
DTSTAMP:20260423T145326
CREATED:20250416T151302Z
LAST-MODIFIED:20250416T151303Z
UID:10003224-1747958400-1748044799@www.legionmemoriallibrary.org
SUMMARY:Taffy Day
DESCRIPTION:National Taffy Day \n“Be like a taffy-sweet\, long-lasting\, tough\, flexible\, and colorful.” —Kailin Gow
URL:https://www.legionmemoriallibrary.org/event/taffy-day-2/
LOCATION:Legion Memorial Library\, 106 Iron Street\, Mellen\, WI\, 54546\, United States
GEO:46.32721;-90.658573
X-APPLE-STRUCTURED-LOCATION;VALUE=URI;X-ADDRESS=Legion Memorial Library 106 Iron Street Mellen WI 54546 United States;X-APPLE-RADIUS=500;X-TITLE=106 Iron Street:geo:-90.658573,46.32721
END:VEVENT
BEGIN:VEVENT
DTSTART;TZID=America/Chicago:20250522T090000
DTEND;TZID=America/Chicago:20250522T100000
DTSTAMP:20260423T145326
CREATED:20250522T192653Z
LAST-MODIFIED:20250522T192653Z
UID:10003414-1747904400-1747908000@www.legionmemoriallibrary.org
SUMMARY:Summer Reading Storytime for 3-5 yr. olds
DESCRIPTION:Programs are planned for 3-5 yr. olds.  Those a bit older & younger are welcome\, but not all activities will be suitable for the littlest of our littles.  Programs will last about an hour. \nJune 26th\, Thursday at 9am\nCelebrating the Color Green\n& Making Frogs on a Log
URL:https://www.legionmemoriallibrary.org/event/summer-reading-storytime-for-3-5-yr-olds-2/
LOCATION:Legion Memorial Library\, 106 Iron Street\, Mellen\, WI\, 54546\, United States
GEO:46.32721;-90.658573
X-APPLE-STRUCTURED-LOCATION;VALUE=URI;X-ADDRESS=Legion Memorial Library 106 Iron Street Mellen WI 54546 United States;X-APPLE-RADIUS=500;X-TITLE=106 Iron Street:geo:-90.658573,46.32721
END:VEVENT
BEGIN:VEVENT
DTSTART;VALUE=DATE:20250522
DTEND;VALUE=DATE:20250523
DTSTAMP:20260423T145326
CREATED:20250416T151224Z
LAST-MODIFIED:20250416T151224Z
UID:10003223-1747872000-1747958399@www.legionmemoriallibrary.org
SUMMARY:Vanilla Pudding Day
DESCRIPTION:National Vanilla Pudding Day \n“The man who invented instant pudding was moved to action by an inability to wait for pudding.” —Dana Gould
URL:https://www.legionmemoriallibrary.org/event/vanilla-pudding-day-3/
LOCATION:Legion Memorial Library\, 106 Iron Street\, Mellen\, WI\, 54546\, United States
GEO:46.32721;-90.658573
X-APPLE-STRUCTURED-LOCATION;VALUE=URI;X-ADDRESS=Legion Memorial Library 106 Iron Street Mellen WI 54546 United States;X-APPLE-RADIUS=500;X-TITLE=106 Iron Street:geo:-90.658573,46.32721
END:VEVENT
BEGIN:VEVENT
DTSTART;TZID=America/Chicago:20250521T160000
DTEND;TZID=America/Chicago:20250521T170000
DTSTAMP:20260423T145326
CREATED:20250416T153733Z
LAST-MODIFIED:20250416T153733Z
UID:10003236-1747843200-1747846800@www.legionmemoriallibrary.org
SUMMARY:Asahi Nordic Exercise
DESCRIPTION:Asahi Nordic Exercise meets weekly on Wednesdays at 4pm here at the Mellen Library.  Join us for this “A Simple And Healthy Idea” gathering.  No special equipment needed.  The focus is on movement\, breathing\, and balance.  We have been doing the exercises while standing.  You may choose to do exercises from a chair.  There is no need for a mat or getting up and down from the floor.  Come and see if this is something that would be a good fit for you.
URL:https://www.legionmemoriallibrary.org/event/asahi-nordic-exercise-40/
LOCATION:Legion Memorial Library\, 106 Iron Street\, Mellen\, WI\, 54546\, United States
GEO:46.32721;-90.658573
X-APPLE-STRUCTURED-LOCATION;VALUE=URI;X-ADDRESS=Legion Memorial Library 106 Iron Street Mellen WI 54546 United States;X-APPLE-RADIUS=500;X-TITLE=106 Iron Street:geo:-90.658573,46.32721
END:VEVENT
BEGIN:VEVENT
DTSTART;TZID=America/Chicago:20250521T090000
DTEND;TZID=America/Chicago:20250521T100000
DTSTAMP:20260423T145326
CREATED:20241009T165427Z
LAST-MODIFIED:20241009T165427Z
UID:10002955-1747818000-1747821600@www.legionmemoriallibrary.org
SUMMARY:Morning Book Club
DESCRIPTION:Lessons in Chemistry by Bonnie Garmus is our discussion book for May \nThe morning book club meets the third Wednesday of the month at the library at 9am.  A book list for the 2024-25 season may be found on this website.  Or you may pick-up a book mark with all the dates and titles on it at the library.  There is no need to purchase books.  They are ordered through interlibrary loan and available at the library.  You do need to register for the book club by contacting the library by phone\, 715-274-8331 or stopping by.  The library staff will then order copies for book club members.
URL:https://www.legionmemoriallibrary.org/event/morning-book-club-17/
LOCATION:Legion Memorial Library\, 106 Iron Street\, Mellen\, WI\, 54546\, United States
GEO:46.32721;-90.658573
X-APPLE-STRUCTURED-LOCATION;VALUE=URI;X-ADDRESS=Legion Memorial Library 106 Iron Street Mellen WI 54546 United States;X-APPLE-RADIUS=500;X-TITLE=106 Iron Street:geo:-90.658573,46.32721
END:VEVENT
BEGIN:VEVENT
DTSTART;VALUE=DATE:20250521
DTEND;VALUE=DATE:20250522
DTSTAMP:20260423T145326
CREATED:20250416T151128Z
LAST-MODIFIED:20250416T151128Z
UID:10003222-1747785600-1747871999@www.legionmemoriallibrary.org
SUMMARY:Strawberries and Cream Day
DESCRIPTION:National Strawberries and Cream Day \n“Personally\, I am very fond of strawberries and cream\, but I have found that for some strange reason\, fish prefer worms. I thought about what they wanted. I didn’t bait the hook with strawberries and cream.” —Dale Carnegie
URL:https://www.legionmemoriallibrary.org/event/strawberries-and-cream-day-2/
LOCATION:Legion Memorial Library\, 106 Iron Street\, Mellen\, WI\, 54546\, United States
GEO:46.32721;-90.658573
X-APPLE-STRUCTURED-LOCATION;VALUE=URI;X-ADDRESS=Legion Memorial Library 106 Iron Street Mellen WI 54546 United States;X-APPLE-RADIUS=500;X-TITLE=106 Iron Street:geo:-90.658573,46.32721
END:VEVENT
BEGIN:VEVENT
DTSTART;VALUE=DATE:20250520
DTEND;VALUE=DATE:20250521
DTSTAMP:20260423T145326
CREATED:20250416T151032Z
LAST-MODIFIED:20250416T151032Z
UID:10003221-1747699200-1747785599@www.legionmemoriallibrary.org
SUMMARY:Quiche Lorraine Day
DESCRIPTION:National Quiche Lorraine Day \n“I am convinced that I am the one who introduced quiche to America.” —James Beard
URL:https://www.legionmemoriallibrary.org/event/quiche-lorraine-day-2/
LOCATION:Legion Memorial Library\, 106 Iron Street\, Mellen\, WI\, 54546\, United States
GEO:46.32721;-90.658573
X-APPLE-STRUCTURED-LOCATION;VALUE=URI;X-ADDRESS=Legion Memorial Library 106 Iron Street Mellen WI 54546 United States;X-APPLE-RADIUS=500;X-TITLE=106 Iron Street:geo:-90.658573,46.32721
END:VEVENT
BEGIN:VEVENT
DTSTART;VALUE=DATE:20250519
DTEND;VALUE=DATE:20250520
DTSTAMP:20260423T145326
CREATED:20250416T143758Z
LAST-MODIFIED:20250416T143758Z
UID:10003220-1747612800-1747699199@www.legionmemoriallibrary.org
SUMMARY:Devil’s Food Cake Day
DESCRIPTION:National Devil’s Food Cake Day \n“I bake a chocolate cake from scratch every week.” —Victoria Osteen
URL:https://www.legionmemoriallibrary.org/event/devils-food-cake-day-3/
LOCATION:Legion Memorial Library\, 106 Iron Street\, Mellen\, WI\, 54546\, United States
GEO:46.32721;-90.658573
X-APPLE-STRUCTURED-LOCATION;VALUE=URI;X-ADDRESS=Legion Memorial Library 106 Iron Street Mellen WI 54546 United States;X-APPLE-RADIUS=500;X-TITLE=106 Iron Street:geo:-90.658573,46.32721
END:VEVENT
BEGIN:VEVENT
DTSTART;VALUE=DATE:20250518
DTEND;VALUE=DATE:20250519
DTSTAMP:20260423T145326
CREATED:20250416T143715Z
LAST-MODIFIED:20250416T143715Z
UID:10003219-1747526400-1747612799@www.legionmemoriallibrary.org
SUMMARY:Cheese Souffle Day
DESCRIPTION:National Cheese Souffle Day \n“Aspiring to a souffle\, he achieves a pancake at which the reader saws without much appetite.” —John Leonard
URL:https://www.legionmemoriallibrary.org/event/cheese-souffle-day-3/
LOCATION:Legion Memorial Library\, 106 Iron Street\, Mellen\, WI\, 54546\, United States
GEO:46.32721;-90.658573
X-APPLE-STRUCTURED-LOCATION;VALUE=URI;X-ADDRESS=Legion Memorial Library 106 Iron Street Mellen WI 54546 United States;X-APPLE-RADIUS=500;X-TITLE=106 Iron Street:geo:-90.658573,46.32721
END:VEVENT
BEGIN:VEVENT
DTSTART;VALUE=DATE:20250517
DTEND;VALUE=DATE:20250518
DTSTAMP:20260423T145326
CREATED:20250416T143624Z
LAST-MODIFIED:20250416T143624Z
UID:10003218-1747440000-1747526399@www.legionmemoriallibrary.org
SUMMARY:Walnut Day
DESCRIPTION:National Walnut Day \n“They say that there are moments that open up your life like a walnut cracked\, that change your point of view so that you never look at things the same way again.” —Jodi Picoult
URL:https://www.legionmemoriallibrary.org/event/walnut-day/
LOCATION:Legion Memorial Library\, 106 Iron Street\, Mellen\, WI\, 54546\, United States
GEO:46.32721;-90.658573
X-APPLE-STRUCTURED-LOCATION;VALUE=URI;X-ADDRESS=Legion Memorial Library 106 Iron Street Mellen WI 54546 United States;X-APPLE-RADIUS=500;X-TITLE=106 Iron Street:geo:-90.658573,46.32721
END:VEVENT
BEGIN:VEVENT
DTSTART;TZID=America/Chicago:20250516T100000
DTEND;TZID=America/Chicago:20250516T230000
DTSTAMP:20260423T145326
CREATED:20250416T153951Z
LAST-MODIFIED:20250416T153951Z
UID:10003238-1747389600-1747436400@www.legionmemoriallibrary.org
SUMMARY:Wills & Trusts with Ryan Long
DESCRIPTION:
URL:https://www.legionmemoriallibrary.org/event/wills-trusts-with-ryan-long/
LOCATION:Legion Memorial Library\, 106 Iron Street\, Mellen\, WI\, 54546\, United States
GEO:46.32721;-90.658573
X-APPLE-STRUCTURED-LOCATION;VALUE=URI;X-ADDRESS=Legion Memorial Library 106 Iron Street Mellen WI 54546 United States;X-APPLE-RADIUS=500;X-TITLE=106 Iron Street:geo:-90.658573,46.32721
END:VEVENT
BEGIN:VEVENT
DTSTART;VALUE=DATE:20250516
DTEND;VALUE=DATE:20250517
DTSTAMP:20260423T145326
CREATED:20250416T143543Z
LAST-MODIFIED:20250416T143543Z
UID:10003217-1747353600-1747439999@www.legionmemoriallibrary.org
SUMMARY:Mimosa Day
DESCRIPTION:National Mimosa Day \n“Champagne and orange juice is a great drink. The orange improves the champagne. The Champagne definitely improves the orange.” —Philip the Apostle
URL:https://www.legionmemoriallibrary.org/event/mimosa-day/
LOCATION:Legion Memorial Library\, 106 Iron Street\, Mellen\, WI\, 54546\, United States
GEO:46.32721;-90.658573
X-APPLE-STRUCTURED-LOCATION;VALUE=URI;X-ADDRESS=Legion Memorial Library 106 Iron Street Mellen WI 54546 United States;X-APPLE-RADIUS=500;X-TITLE=106 Iron Street:geo:-90.658573,46.32721
END:VEVENT
BEGIN:VEVENT
DTSTART;VALUE=DATE:20250515
DTEND;VALUE=DATE:20250516
DTSTAMP:20260423T145326
CREATED:20250416T143446Z
LAST-MODIFIED:20250416T143446Z
UID:10003216-1747267200-1747353599@www.legionmemoriallibrary.org
SUMMARY:Bread Pudding Day
DESCRIPTION:National Bread Pudding Day \n“You feel sorry for ME? I am not the one who has never tasted bread pudding.” —Stephanie Perkins
URL:https://www.legionmemoriallibrary.org/event/bread-pudding-day-2/
LOCATION:Legion Memorial Library\, 106 Iron Street\, Mellen\, WI\, 54546\, United States
GEO:46.32721;-90.658573
X-APPLE-STRUCTURED-LOCATION;VALUE=URI;X-ADDRESS=Legion Memorial Library 106 Iron Street Mellen WI 54546 United States;X-APPLE-RADIUS=500;X-TITLE=106 Iron Street:geo:-90.658573,46.32721
END:VEVENT
BEGIN:VEVENT
DTSTART;TZID=America/Chicago:20250514T160000
DTEND;TZID=America/Chicago:20250514T170000
DTSTAMP:20260423T145326
CREATED:20250416T153705Z
LAST-MODIFIED:20250416T153705Z
UID:10003235-1747238400-1747242000@www.legionmemoriallibrary.org
SUMMARY:Asahi Nordic Exercise
DESCRIPTION:Asahi Nordic Exercise meets weekly on Wednesdays at 4pm here at the Mellen Library.  Join us for this “A Simple And Healthy Idea” gathering.  No special equipment needed.  The focus is on movement\, breathing\, and balance.  We have been doing the exercises while standing.  You may choose to do exercises from a chair.  There is no need for a mat or getting up and down from the floor.  Come and see if this is something that would be a good fit for you.
URL:https://www.legionmemoriallibrary.org/event/asahi-nordic-exercise-39/
LOCATION:Legion Memorial Library\, 106 Iron Street\, Mellen\, WI\, 54546\, United States
GEO:46.32721;-90.658573
X-APPLE-STRUCTURED-LOCATION;VALUE=URI;X-ADDRESS=Legion Memorial Library 106 Iron Street Mellen WI 54546 United States;X-APPLE-RADIUS=500;X-TITLE=106 Iron Street:geo:-90.658573,46.32721
END:VEVENT
BEGIN:VEVENT
DTSTART;VALUE=DATE:20250514
DTEND;VALUE=DATE:20250515
DTSTAMP:20260423T145326
CREATED:20250416T143356Z
LAST-MODIFIED:20250416T143356Z
UID:10003215-1747180800-1747267199@www.legionmemoriallibrary.org
SUMMARY:Buttermilk Biscuit Day
DESCRIPTION:National Buttermilk Biscuit Day \n“A positive attitude and a sense of humor go together like biscuits and gravy.” —Dolly Parton
URL:https://www.legionmemoriallibrary.org/event/buttermilk-biscuit-day-3/
LOCATION:Legion Memorial Library\, 106 Iron Street\, Mellen\, WI\, 54546\, United States
GEO:46.32721;-90.658573
X-APPLE-STRUCTURED-LOCATION;VALUE=URI;X-ADDRESS=Legion Memorial Library 106 Iron Street Mellen WI 54546 United States;X-APPLE-RADIUS=500;X-TITLE=106 Iron Street:geo:-90.658573,46.32721
END:VEVENT
BEGIN:VEVENT
DTSTART;VALUE=DATE:20250513
DTEND;VALUE=DATE:20250514
DTSTAMP:20260423T145326
CREATED:20250416T143303Z
LAST-MODIFIED:20250416T143303Z
UID:10003214-1747094400-1747180799@www.legionmemoriallibrary.org
SUMMARY:Fruit Cocktail Day
DESCRIPTION:National Fruit Cocktail Day \n“A fruit salad is delicious precisely because each fruit maintains its own flavor.” —Sean Covery
URL:https://www.legionmemoriallibrary.org/event/fruit-cocktail-day/
LOCATION:Legion Memorial Library\, 106 Iron Street\, Mellen\, WI\, 54546\, United States
GEO:46.32721;-90.658573
X-APPLE-STRUCTURED-LOCATION;VALUE=URI;X-ADDRESS=Legion Memorial Library 106 Iron Street Mellen WI 54546 United States;X-APPLE-RADIUS=500;X-TITLE=106 Iron Street:geo:-90.658573,46.32721
END:VEVENT
BEGIN:VEVENT
DTSTART;TZID=America/Chicago:20250512T180000
DTEND;TZID=America/Chicago:20250512T190000
DTSTAMP:20260423T145326
CREATED:20241009T164252Z
LAST-MODIFIED:20250416T153914Z
UID:10002948-1747072800-1747076400@www.legionmemoriallibrary.org
SUMMARY:Evening Book Club
DESCRIPTION:“Hang the Moon” by Jennette Walls is our discussion book for May \nThe evening book club meets the second Monday of the month at the library at 6pm.  A book list for the 2024-25 season may be found on this website.  Or you may pick-up a book mark with all the dates and titles on it at the library.  There is no need to purchase books.  They are ordered through interlibrary loan and available at the library.  You do need to register for the book club by contacting the library by phone\, 715-274-8331 or stopping by.  The library staff will then order copies for book club members.
URL:https://www.legionmemoriallibrary.org/event/evening-book-club-6/
LOCATION:Legion Memorial Library\, 106 Iron Street\, Mellen\, WI\, 54546\, United States
GEO:46.32721;-90.658573
X-APPLE-STRUCTURED-LOCATION;VALUE=URI;X-ADDRESS=Legion Memorial Library 106 Iron Street Mellen WI 54546 United States;X-APPLE-RADIUS=500;X-TITLE=106 Iron Street:geo:-90.658573,46.32721
END:VEVENT
BEGIN:VEVENT
DTSTART;VALUE=DATE:20250512
DTEND;VALUE=DATE:20250513
DTSTAMP:20260423T145326
CREATED:20250416T142955Z
LAST-MODIFIED:20250416T142955Z
UID:10003213-1747008000-1747094399@www.legionmemoriallibrary.org
SUMMARY:Nutty Fudge Day
DESCRIPTION:National Nutty Fudge Day \n“Families are like fudge-mostly sweet\, with a few nuts.” —Les Dawson
URL:https://www.legionmemoriallibrary.org/event/nutty-fudge-day-2/
LOCATION:Legion Memorial Library\, 106 Iron Street\, Mellen\, WI\, 54546\, United States
GEO:46.32721;-90.658573
X-APPLE-STRUCTURED-LOCATION;VALUE=URI;X-ADDRESS=Legion Memorial Library 106 Iron Street Mellen WI 54546 United States;X-APPLE-RADIUS=500;X-TITLE=106 Iron Street:geo:-90.658573,46.32721
END:VEVENT
BEGIN:VEVENT
DTSTART;VALUE=DATE:20250511
DTEND;VALUE=DATE:20250512
DTSTAMP:20260423T145326
CREATED:20250416T142911Z
LAST-MODIFIED:20250416T142911Z
UID:10003212-1746921600-1747007999@www.legionmemoriallibrary.org
SUMMARY:Eat What You Want Day
DESCRIPTION:National Eat What You Want Day \nPart of the secret of success in life is to eat what you like and let the food fight it out inside.” —Mark Twain
URL:https://www.legionmemoriallibrary.org/event/eat-what-you-want-day-3/
LOCATION:Legion Memorial Library\, 106 Iron Street\, Mellen\, WI\, 54546\, United States
GEO:46.32721;-90.658573
X-APPLE-STRUCTURED-LOCATION;VALUE=URI;X-ADDRESS=Legion Memorial Library 106 Iron Street Mellen WI 54546 United States;X-APPLE-RADIUS=500;X-TITLE=106 Iron Street:geo:-90.658573,46.32721
END:VEVENT
BEGIN:VEVENT
DTSTART;VALUE=DATE:20250510
DTEND;VALUE=DATE:20250511
DTSTAMP:20260423T145326
CREATED:20250416T142732Z
LAST-MODIFIED:20250416T142732Z
UID:10003211-1746835200-1746921599@www.legionmemoriallibrary.org
SUMMARY:Shrimp Day
DESCRIPTION:National \n“To go in the water and stare at shrimp for three minutes and not think about anything else in the world\, it’s just euphoric.” —Ashlan Gorse Cousteau
URL:https://www.legionmemoriallibrary.org/event/shrimp-day-2/
LOCATION:Legion Memorial Library\, 106 Iron Street\, Mellen\, WI\, 54546\, United States
GEO:46.32721;-90.658573
X-APPLE-STRUCTURED-LOCATION;VALUE=URI;X-ADDRESS=Legion Memorial Library 106 Iron Street Mellen WI 54546 United States;X-APPLE-RADIUS=500;X-TITLE=106 Iron Street:geo:-90.658573,46.32721
END:VEVENT
BEGIN:VEVENT
DTSTART;VALUE=DATE:20250509
DTEND;VALUE=DATE:20250510
DTSTAMP:20260423T145326
CREATED:20250416T142626Z
LAST-MODIFIED:20250416T142626Z
UID:10003210-1746748800-1746835199@www.legionmemoriallibrary.org
SUMMARY:Foodies Day
DESCRIPTION:National Foodies Day \n“The only thing I like better than talking about food is eating.” —John Walters
URL:https://www.legionmemoriallibrary.org/event/foodies-day/
LOCATION:Legion Memorial Library\, 106 Iron Street\, Mellen\, WI\, 54546\, United States
GEO:46.32721;-90.658573
X-APPLE-STRUCTURED-LOCATION;VALUE=URI;X-ADDRESS=Legion Memorial Library 106 Iron Street Mellen WI 54546 United States;X-APPLE-RADIUS=500;X-TITLE=106 Iron Street:geo:-90.658573,46.32721
END:VEVENT
BEGIN:VEVENT
DTSTART;VALUE=DATE:20250508
DTEND;VALUE=DATE:20250509
DTSTAMP:20260423T145326
CREATED:20250416T142525Z
LAST-MODIFIED:20250416T142525Z
UID:10003209-1746662400-1746748799@www.legionmemoriallibrary.org
SUMMARY:Coconut Cream Pie Day
DESCRIPTION:National Coconut Cream Pie Day \n“Give everyone a chance to have a piece of the pie. If the pie’s not big enough\, make a bigger pie.” —Dave Thomas
URL:https://www.legionmemoriallibrary.org/event/coconut-cream-pie-day/
LOCATION:Legion Memorial Library\, 106 Iron Street\, Mellen\, WI\, 54546\, United States
GEO:46.32721;-90.658573
X-APPLE-STRUCTURED-LOCATION;VALUE=URI;X-ADDRESS=Legion Memorial Library 106 Iron Street Mellen WI 54546 United States;X-APPLE-RADIUS=500;X-TITLE=106 Iron Street:geo:-90.658573,46.32721
END:VEVENT
BEGIN:VEVENT
DTSTART;TZID=America/Chicago:20250507T160000
DTEND;TZID=America/Chicago:20250507T170000
DTSTAMP:20260423T145326
CREATED:20250416T153637Z
LAST-MODIFIED:20250416T153637Z
UID:10003234-1746633600-1746637200@www.legionmemoriallibrary.org
SUMMARY:Asahi Nordic Exercise
DESCRIPTION:Asahi Nordic Exercise meets weekly on Wednesdays at 4pm here at the Mellen Library.  Join us for this “A Simple And Healthy Idea” gathering.  No special equipment needed.  The focus is on movement\, breathing\, and balance.  We have been doing the exercises while standing.  You may choose to do exercises from a chair.  There is no need for a mat or getting up and down from the floor.  Come and see if this is something that would be a good fit for you.
URL:https://www.legionmemoriallibrary.org/event/asahi-nordic-exercise-38/
LOCATION:Legion Memorial Library\, 106 Iron Street\, Mellen\, WI\, 54546\, United States
GEO:46.32721;-90.658573
X-APPLE-STRUCTURED-LOCATION;VALUE=URI;X-ADDRESS=Legion Memorial Library 106 Iron Street Mellen WI 54546 United States;X-APPLE-RADIUS=500;X-TITLE=106 Iron Street:geo:-90.658573,46.32721
END:VEVENT
BEGIN:VEVENT
DTSTART;VALUE=DATE:20250507
DTEND;VALUE=DATE:20250508
DTSTAMP:20260423T145326
CREATED:20250416T142439Z
LAST-MODIFIED:20250416T142439Z
UID:10003208-1746576000-1746662399@www.legionmemoriallibrary.org
SUMMARY:Roast Leg of Lamb Day
DESCRIPTION:National Roast Leg of Lamb Day \n“My wife and I use a lot of garlic and rosemary with roast lamb. It has to be New Zealand lamb. The domestic variety is too gamy\, in my experience.” —Alfred Molina
URL:https://www.legionmemoriallibrary.org/event/roast-leg-of-lamb-day/
LOCATION:Legion Memorial Library\, 106 Iron Street\, Mellen\, WI\, 54546\, United States
GEO:46.32721;-90.658573
X-APPLE-STRUCTURED-LOCATION;VALUE=URI;X-ADDRESS=Legion Memorial Library 106 Iron Street Mellen WI 54546 United States;X-APPLE-RADIUS=500;X-TITLE=106 Iron Street:geo:-90.658573,46.32721
END:VEVENT
BEGIN:VEVENT
DTSTART;VALUE=DATE:20250506
DTEND;VALUE=DATE:20250507
DTSTAMP:20260423T145326
CREATED:20250416T142352Z
LAST-MODIFIED:20250416T142352Z
UID:10003207-1746489600-1746575999@www.legionmemoriallibrary.org
SUMMARY:Beverage Day
DESCRIPTION:National Beverage Day \n“There is not a man\, woman or child on the face of the earth who doesn’t enjoy a tasty beverage.” —David Letterman
URL:https://www.legionmemoriallibrary.org/event/beverage-day/
LOCATION:Legion Memorial Library\, 106 Iron Street\, Mellen\, WI\, 54546\, United States
GEO:46.32721;-90.658573
X-APPLE-STRUCTURED-LOCATION;VALUE=URI;X-ADDRESS=Legion Memorial Library 106 Iron Street Mellen WI 54546 United States;X-APPLE-RADIUS=500;X-TITLE=106 Iron Street:geo:-90.658573,46.32721
END:VEVENT
BEGIN:VEVENT
DTSTART;VALUE=DATE:20250505
DTEND;VALUE=DATE:20250506
DTSTAMP:20260423T145326
CREATED:20250416T142311Z
LAST-MODIFIED:20250416T142311Z
UID:10003206-1746403200-1746489599@www.legionmemoriallibrary.org
SUMMARY:Enchilada Day
DESCRIPTION:National Enchilada Day \n“My mom cooked the same food everyday-tortillas\, beans and meat. If it was enchiladas\, it was tortillas\, beans and meat. If it was burritos\, it was still-tortillas\, beans and meat.” —Felipe Esparza
URL:https://www.legionmemoriallibrary.org/event/enchilada-day-2/
LOCATION:Legion Memorial Library\, 106 Iron Street\, Mellen\, WI\, 54546\, United States
GEO:46.32721;-90.658573
X-APPLE-STRUCTURED-LOCATION;VALUE=URI;X-ADDRESS=Legion Memorial Library 106 Iron Street Mellen WI 54546 United States;X-APPLE-RADIUS=500;X-TITLE=106 Iron Street:geo:-90.658573,46.32721
END:VEVENT
BEGIN:VEVENT
DTSTART;VALUE=DATE:20250504
DTEND;VALUE=DATE:20250505
DTSTAMP:20260423T145326
CREATED:20250416T142220Z
LAST-MODIFIED:20250416T142220Z
UID:10003205-1746316800-1746403199@www.legionmemoriallibrary.org
SUMMARY:Orange Juice Day
DESCRIPTION:National Orange Juice Day \n“Breakfast without orange juice is like a day without sunshine.” —Anita Bryant
URL:https://www.legionmemoriallibrary.org/event/orange-juice-day-2/
LOCATION:Legion Memorial Library\, 106 Iron Street\, Mellen\, WI\, 54546\, United States
GEO:46.32721;-90.658573
X-APPLE-STRUCTURED-LOCATION;VALUE=URI;X-ADDRESS=Legion Memorial Library 106 Iron Street Mellen WI 54546 United States;X-APPLE-RADIUS=500;X-TITLE=106 Iron Street:geo:-90.658573,46.32721
END:VEVENT
BEGIN:VEVENT
DTSTART;VALUE=DATE:20250503
DTEND;VALUE=DATE:20250504
DTSTAMP:20260423T145326
CREATED:20250416T142139Z
LAST-MODIFIED:20250416T142139Z
UID:10003204-1746230400-1746316799@www.legionmemoriallibrary.org
SUMMARY:Raspberry Tart Day
DESCRIPTION:National Raspberry Tart Day \n“Every good jam tart deserves the finest preserve.” —Rachel Khoo
URL:https://www.legionmemoriallibrary.org/event/raspberry-tart-day-2/
LOCATION:Legion Memorial Library\, 106 Iron Street\, Mellen\, WI\, 54546\, United States
GEO:46.32721;-90.658573
X-APPLE-STRUCTURED-LOCATION;VALUE=URI;X-ADDRESS=Legion Memorial Library 106 Iron Street Mellen WI 54546 United States;X-APPLE-RADIUS=500;X-TITLE=106 Iron Street:geo:-90.658573,46.32721
END:VEVENT
BEGIN:VEVENT
DTSTART;VALUE=DATE:20250502
DTEND;VALUE=DATE:20250503
DTSTAMP:20260423T145326
CREATED:20250416T142043Z
LAST-MODIFIED:20250416T142043Z
UID:10003203-1746144000-1746230399@www.legionmemoriallibrary.org
SUMMARY:Truffles Day
DESCRIPTION:National Truffles Day \n“You gotta have swine to show you where the truffles are.” —Edward Albee
URL:https://www.legionmemoriallibrary.org/event/truffles-day/
LOCATION:Legion Memorial Library\, 106 Iron Street\, Mellen\, WI\, 54546\, United States
GEO:46.32721;-90.658573
X-APPLE-STRUCTURED-LOCATION;VALUE=URI;X-ADDRESS=Legion Memorial Library 106 Iron Street Mellen WI 54546 United States;X-APPLE-RADIUS=500;X-TITLE=106 Iron Street:geo:-90.658573,46.32721
END:VEVENT
END:VCALENDAR