BEGIN:VCALENDAR
VERSION:2.0
PRODID:-//Legion Memorial Library - ECPv6.15.20//NONSGML v1.0//EN
CALSCALE:GREGORIAN
METHOD:PUBLISH
X-ORIGINAL-URL:https://www.legionmemoriallibrary.org
X-WR-CALDESC:Events for Legion Memorial Library
REFRESH-INTERVAL;VALUE=DURATION:PT1H
X-Robots-Tag:noindex
X-PUBLISHED-TTL:PT1H
BEGIN:VTIMEZONE
TZID:America/Chicago
BEGIN:DAYLIGHT
TZOFFSETFROM:-0600
TZOFFSETTO:-0500
TZNAME:CDT
DTSTART:20240310T080000
END:DAYLIGHT
BEGIN:STANDARD
TZOFFSETFROM:-0500
TZOFFSETTO:-0600
TZNAME:CST
DTSTART:20241103T070000
END:STANDARD
BEGIN:DAYLIGHT
TZOFFSETFROM:-0600
TZOFFSETTO:-0500
TZNAME:CDT
DTSTART:20250309T080000
END:DAYLIGHT
BEGIN:STANDARD
TZOFFSETFROM:-0500
TZOFFSETTO:-0600
TZNAME:CST
DTSTART:20251102T070000
END:STANDARD
BEGIN:DAYLIGHT
TZOFFSETFROM:-0600
TZOFFSETTO:-0500
TZNAME:CDT
DTSTART:20260308T080000
END:DAYLIGHT
BEGIN:STANDARD
TZOFFSETFROM:-0500
TZOFFSETTO:-0600
TZNAME:CST
DTSTART:20261101T070000
END:STANDARD
END:VTIMEZONE
BEGIN:VEVENT
DTSTART;VALUE=DATE:20250809
DTEND;VALUE=DATE:20250810
DTSTAMP:20260422T231737
CREATED:20250715T140345Z
LAST-MODIFIED:20250715T140345Z
UID:10003609-1754697600-1754783999@www.legionmemoriallibrary.org
SUMMARY:Book Lovers Day
DESCRIPTION:National Book Lovers Day \n“Once you learn to read you will be forever free.” —Frederick Douglass
URL:https://www.legionmemoriallibrary.org/event/book-lovers-day-3/
LOCATION:Legion Memorial Library\, 106 Iron Street\, Mellen\, WI\, 54546\, United States
GEO:46.32721;-90.658573
X-APPLE-STRUCTURED-LOCATION;VALUE=URI;X-ADDRESS=Legion Memorial Library 106 Iron Street Mellen WI 54546 United States;X-APPLE-RADIUS=500;X-TITLE=106 Iron Street:geo:-90.658573,46.32721
END:VEVENT
BEGIN:VEVENT
DTSTART;VALUE=DATE:20250808
DTEND;VALUE=DATE:20250809
DTSTAMP:20260422T231737
CREATED:20250715T140248Z
LAST-MODIFIED:20250715T140248Z
UID:10003608-1754611200-1754697599@www.legionmemoriallibrary.org
SUMMARY:Frozen Custard Day
DESCRIPTION:National Frozen Custard Day \n“You eat\, in dreams\, the custard of the day.” —Alexander Pope
URL:https://www.legionmemoriallibrary.org/event/frozen-custard-day-2/
LOCATION:Legion Memorial Library\, 106 Iron Street\, Mellen\, WI\, 54546\, United States
GEO:46.32721;-90.658573
X-APPLE-STRUCTURED-LOCATION;VALUE=URI;X-ADDRESS=Legion Memorial Library 106 Iron Street Mellen WI 54546 United States;X-APPLE-RADIUS=500;X-TITLE=106 Iron Street:geo:-90.658573,46.32721
END:VEVENT
BEGIN:VEVENT
DTSTART;VALUE=DATE:20250807
DTEND;VALUE=DATE:20250808
DTSTAMP:20260422T231737
CREATED:20250715T140202Z
LAST-MODIFIED:20250715T140202Z
UID:10003607-1754524800-1754611199@www.legionmemoriallibrary.org
SUMMARY:Raspberries in Cream Day
DESCRIPTION:National Raspberries in Cream Day \n“Put cream and sugar on a fly and it tastes very much like a raspberry.” —E.W. Howe
URL:https://www.legionmemoriallibrary.org/event/raspberries-in-cream-day-2/
LOCATION:Legion Memorial Library\, 106 Iron Street\, Mellen\, WI\, 54546\, United States
GEO:46.32721;-90.658573
X-APPLE-STRUCTURED-LOCATION;VALUE=URI;X-ADDRESS=Legion Memorial Library 106 Iron Street Mellen WI 54546 United States;X-APPLE-RADIUS=500;X-TITLE=106 Iron Street:geo:-90.658573,46.32721
END:VEVENT
BEGIN:VEVENT
DTSTART;VALUE=DATE:20250806
DTEND;VALUE=DATE:20250807
DTSTAMP:20260422T231737
CREATED:20250715T140036Z
LAST-MODIFIED:20250715T140036Z
UID:10003606-1754438400-1754524799@www.legionmemoriallibrary.org
SUMMARY:Root Beer Float Day
DESCRIPTION:National Root Beer Float Day \n“…root beer floats are the stuff that toasts are made of.” —Sandra D. Bricker\, If the Shoe Fits
URL:https://www.legionmemoriallibrary.org/event/root-beer-float-day-4/
LOCATION:Legion Memorial Library\, 106 Iron Street\, Mellen\, WI\, 54546\, United States
GEO:46.32721;-90.658573
X-APPLE-STRUCTURED-LOCATION;VALUE=URI;X-ADDRESS=Legion Memorial Library 106 Iron Street Mellen WI 54546 United States;X-APPLE-RADIUS=500;X-TITLE=106 Iron Street:geo:-90.658573,46.32721
END:VEVENT
BEGIN:VEVENT
DTSTART;VALUE=DATE:20250805
DTEND;VALUE=DATE:20250806
DTSTAMP:20260422T231737
CREATED:20250715T135931Z
LAST-MODIFIED:20250715T135931Z
UID:10003605-1754352000-1754438399@www.legionmemoriallibrary.org
SUMMARY:Couscous Day
DESCRIPTION:National Couscous Day \n“One of the biggest dishes in Sicily is couscous\, and there’s always been a North African influence on Italian culture\, culinary culture there.” —Jonas Carpignano
URL:https://www.legionmemoriallibrary.org/event/couscous-day/
LOCATION:Legion Memorial Library\, 106 Iron Street\, Mellen\, WI\, 54546\, United States
GEO:46.32721;-90.658573
X-APPLE-STRUCTURED-LOCATION;VALUE=URI;X-ADDRESS=Legion Memorial Library 106 Iron Street Mellen WI 54546 United States;X-APPLE-RADIUS=500;X-TITLE=106 Iron Street:geo:-90.658573,46.32721
END:VEVENT
BEGIN:VEVENT
DTSTART;VALUE=DATE:20250804
DTEND;VALUE=DATE:20250805
DTSTAMP:20260422T231737
CREATED:20250715T135711Z
LAST-MODIFIED:20250715T135711Z
UID:10003604-1754265600-1754351999@www.legionmemoriallibrary.org
SUMMARY:Chocolate Chip Cookie Day
DESCRIPTION:National Chocolate Chip Cookie Day \n“In the cookie of life\, friends are the chocolate chips.” —Salman Rushdie
URL:https://www.legionmemoriallibrary.org/event/chocolate-chip-cookie-day-3/
LOCATION:Legion Memorial Library\, 106 Iron Street\, Mellen\, WI\, 54546\, United States
GEO:46.32721;-90.658573
X-APPLE-STRUCTURED-LOCATION;VALUE=URI;X-ADDRESS=Legion Memorial Library 106 Iron Street Mellen WI 54546 United States;X-APPLE-RADIUS=500;X-TITLE=106 Iron Street:geo:-90.658573,46.32721
END:VEVENT
BEGIN:VEVENT
DTSTART;VALUE=DATE:20250803
DTEND;VALUE=DATE:20250804
DTSTAMP:20260422T231737
CREATED:20250715T135618Z
LAST-MODIFIED:20250715T135618Z
UID:10003603-1754179200-1754265599@www.legionmemoriallibrary.org
SUMMARY:Watermelon Day
DESCRIPTION:National Watermelon Day \n“When one has tasted watermelon\, he knows what the angels eat.” —Mark Twain
URL:https://www.legionmemoriallibrary.org/event/watermelon-day-4/
LOCATION:Legion Memorial Library\, 106 Iron Street\, Mellen\, WI\, 54546\, United States
GEO:46.32721;-90.658573
X-APPLE-STRUCTURED-LOCATION;VALUE=URI;X-ADDRESS=Legion Memorial Library 106 Iron Street Mellen WI 54546 United States;X-APPLE-RADIUS=500;X-TITLE=106 Iron Street:geo:-90.658573,46.32721
END:VEVENT
BEGIN:VEVENT
DTSTART;VALUE=DATE:20250802
DTEND;VALUE=DATE:20250803
DTSTAMP:20260422T231737
CREATED:20250715T135538Z
LAST-MODIFIED:20250715T135538Z
UID:10003602-1754092800-1754179199@www.legionmemoriallibrary.org
SUMMARY:Ice Cream Sandwich Day
DESCRIPTION:National Ice Cream Sandwich Day \n“Ice cream is good for the soul.” —Adrienne Posey
URL:https://www.legionmemoriallibrary.org/event/ice-cream-sandwich-day-4/
LOCATION:Legion Memorial Library\, 106 Iron Street\, Mellen\, WI\, 54546\, United States
GEO:46.32721;-90.658573
X-APPLE-STRUCTURED-LOCATION;VALUE=URI;X-ADDRESS=Legion Memorial Library 106 Iron Street Mellen WI 54546 United States;X-APPLE-RADIUS=500;X-TITLE=106 Iron Street:geo:-90.658573,46.32721
END:VEVENT
BEGIN:VEVENT
DTSTART;VALUE=DATE:20250801
DTEND;VALUE=DATE:20250802
DTSTAMP:20260422T231737
CREATED:20250715T135453Z
LAST-MODIFIED:20250715T135453Z
UID:10003601-1754006400-1754092799@www.legionmemoriallibrary.org
SUMMARY:Raspberry Pie Day
DESCRIPTION:National Raspberry Pie Day \n“The world was her oyster; except she didn’t care for oysters. Better yet\, the world was her raspberry. She liked raspberries.” —Kevin J. Anderson
URL:https://www.legionmemoriallibrary.org/event/raspberry-pie-day-2/
LOCATION:Legion Memorial Library\, 106 Iron Street\, Mellen\, WI\, 54546\, United States
GEO:46.32721;-90.658573
X-APPLE-STRUCTURED-LOCATION;VALUE=URI;X-ADDRESS=Legion Memorial Library 106 Iron Street Mellen WI 54546 United States;X-APPLE-RADIUS=500;X-TITLE=106 Iron Street:geo:-90.658573,46.32721
END:VEVENT
BEGIN:VEVENT
DTSTART;VALUE=DATE:20250731
DTEND;VALUE=DATE:20250801
DTSTAMP:20260422T231737
CREATED:20250630T204644Z
LAST-MODIFIED:20250630T204644Z
UID:10003600-1753920000-1754006399@www.legionmemoriallibrary.org
SUMMARY:Avocado Day
DESCRIPTION:National Avocado Day \n“I love things that are indescribable\, like the taste of an avocado or the smell of a gardenia.” —Barbara Streisand
URL:https://www.legionmemoriallibrary.org/event/avocado-day-3/
LOCATION:Legion Memorial Library\, 106 Iron Street\, Mellen\, WI\, 54546\, United States
GEO:46.32721;-90.658573
X-APPLE-STRUCTURED-LOCATION;VALUE=URI;X-ADDRESS=Legion Memorial Library 106 Iron Street Mellen WI 54546 United States;X-APPLE-RADIUS=500;X-TITLE=106 Iron Street:geo:-90.658573,46.32721
END:VEVENT
BEGIN:VEVENT
DTSTART;VALUE=DATE:20250731
DTEND;VALUE=DATE:20250801
DTSTAMP:20260422T231737
CREATED:20250630T193721Z
LAST-MODIFIED:20250630T193721Z
UID:10003570-1753920000-1754006399@www.legionmemoriallibrary.org
SUMMARY:And the Winners Are . . .
DESCRIPTION:Kids entering 6th Grade this fall through those entering as Seniors were given challenges at the beginning of Summer. \nEnter a Book Merge Photo\, Book Spine Poem and/or a Recycle Book Art piece.  Prizes:  1st Place $15\, 2nd Place $10\, and 3rd Place $5. \nWinners will be announced today!
URL:https://www.legionmemoriallibrary.org/event/and-the-winners-are/
LOCATION:Legion Memorial Library\, 106 Iron Street\, Mellen\, WI\, 54546\, United States
GEO:46.32721;-90.658573
X-APPLE-STRUCTURED-LOCATION;VALUE=URI;X-ADDRESS=Legion Memorial Library 106 Iron Street Mellen WI 54546 United States;X-APPLE-RADIUS=500;X-TITLE=106 Iron Street:geo:-90.658573,46.32721
END:VEVENT
BEGIN:VEVENT
DTSTART;VALUE=DATE:20250730
DTEND;VALUE=DATE:20250731
DTSTAMP:20260422T231737
CREATED:20250630T204612Z
LAST-MODIFIED:20250630T204612Z
UID:10003599-1753833600-1753919999@www.legionmemoriallibrary.org
SUMMARY:Cheesecake Day
DESCRIPTION:National Cheesecake Day \n“My mother made wonderful cheesecake. She loved cheesecake. She ate it every day of her life.” —June Carter Cash
URL:https://www.legionmemoriallibrary.org/event/cheesecake-day-3/
LOCATION:Legion Memorial Library\, 106 Iron Street\, Mellen\, WI\, 54546\, United States
GEO:46.32721;-90.658573
X-APPLE-STRUCTURED-LOCATION;VALUE=URI;X-ADDRESS=Legion Memorial Library 106 Iron Street Mellen WI 54546 United States;X-APPLE-RADIUS=500;X-TITLE=106 Iron Street:geo:-90.658573,46.32721
END:VEVENT
BEGIN:VEVENT
DTSTART;VALUE=DATE:20250729
DTEND;VALUE=DATE:20250730
DTSTAMP:20260422T231737
CREATED:20250630T204537Z
LAST-MODIFIED:20250630T204537Z
UID:10003598-1753747200-1753833599@www.legionmemoriallibrary.org
SUMMARY:Chicken Wing Day
DESCRIPTION:National Chicken Wing Day \n“I have mostly been eating chicken wings. I only stick to things I can spell.” —Boo Weekley
URL:https://www.legionmemoriallibrary.org/event/chicken-wing-day-2/
LOCATION:Legion Memorial Library\, 106 Iron Street\, Mellen\, WI\, 54546\, United States
GEO:46.32721;-90.658573
X-APPLE-STRUCTURED-LOCATION;VALUE=URI;X-ADDRESS=Legion Memorial Library 106 Iron Street Mellen WI 54546 United States;X-APPLE-RADIUS=500;X-TITLE=106 Iron Street:geo:-90.658573,46.32721
END:VEVENT
BEGIN:VEVENT
DTSTART;VALUE=DATE:20250728
DTEND;VALUE=DATE:20250729
DTSTAMP:20260422T231737
CREATED:20250630T204458Z
LAST-MODIFIED:20250630T204458Z
UID:10003597-1753660800-1753747199@www.legionmemoriallibrary.org
SUMMARY:Hamburger Day
DESCRIPTION:National Hamburger Day \n“I still love making hamburgers on the grill. I guess whenever I eat them childhood memories come up for me.” —Bobby Flay
URL:https://www.legionmemoriallibrary.org/event/hamburger-day-2/
LOCATION:Legion Memorial Library\, 106 Iron Street\, Mellen\, WI\, 54546\, United States
GEO:46.32721;-90.658573
X-APPLE-STRUCTURED-LOCATION;VALUE=URI;X-ADDRESS=Legion Memorial Library 106 Iron Street Mellen WI 54546 United States;X-APPLE-RADIUS=500;X-TITLE=106 Iron Street:geo:-90.658573,46.32721
END:VEVENT
BEGIN:VEVENT
DTSTART;VALUE=DATE:20250727
DTEND;VALUE=DATE:20250728
DTSTAMP:20260422T231737
CREATED:20250630T204414Z
LAST-MODIFIED:20250630T204414Z
UID:10003596-1753574400-1753660799@www.legionmemoriallibrary.org
SUMMARY:Creme Brulee
DESCRIPTION:National Creme Brulee \nEverything French is amazing\, especially creme brulee\, but then burnt sugar works for me in any capacity.” –Rashida Jones
URL:https://www.legionmemoriallibrary.org/event/creme-brulee-2/
LOCATION:Legion Memorial Library\, 106 Iron Street\, Mellen\, WI\, 54546\, United States
GEO:46.32721;-90.658573
X-APPLE-STRUCTURED-LOCATION;VALUE=URI;X-ADDRESS=Legion Memorial Library 106 Iron Street Mellen WI 54546 United States;X-APPLE-RADIUS=500;X-TITLE=106 Iron Street:geo:-90.658573,46.32721
END:VEVENT
BEGIN:VEVENT
DTSTART;VALUE=DATE:20250726
DTEND;VALUE=DATE:20250727
DTSTAMP:20260422T231737
CREATED:20250630T204340Z
LAST-MODIFIED:20250630T204340Z
UID:10003595-1753488000-1753574399@www.legionmemoriallibrary.org
SUMMARY:Bagelfest Day
DESCRIPTION:National Bagelfest Day \n“Bagel in the morning is the ultimate breakfast for me; they’re just good.” —Lee DeWyze
URL:https://www.legionmemoriallibrary.org/event/bagelfest-day-2/
LOCATION:Legion Memorial Library\, 106 Iron Street\, Mellen\, WI\, 54546\, United States
GEO:46.32721;-90.658573
X-APPLE-STRUCTURED-LOCATION;VALUE=URI;X-ADDRESS=Legion Memorial Library 106 Iron Street Mellen WI 54546 United States;X-APPLE-RADIUS=500;X-TITLE=106 Iron Street:geo:-90.658573,46.32721
END:VEVENT
BEGIN:VEVENT
DTSTART;TZID=America/Chicago:20250725T123000
DTEND;TZID=America/Chicago:20250725T153000
DTSTAMP:20260422T231737
CREATED:20250630T194049Z
LAST-MODIFIED:20250630T194049Z
UID:10003571-1753446600-1753457400@www.legionmemoriallibrary.org
SUMMARY:Teen Paint Afternoon
DESCRIPTION:Come paint with YouTube’s Painting with Skye to create her “Campfire”.  Sign-up at the library all supplies will be provided.  Wear a paint shirt and bring a can for water to clean your brushes.
URL:https://www.legionmemoriallibrary.org/event/teen-paint-afternoon/
LOCATION:Legion Memorial Library\, 106 Iron Street\, Mellen\, WI\, 54546\, United States
GEO:46.32721;-90.658573
X-APPLE-STRUCTURED-LOCATION;VALUE=URI;X-ADDRESS=Legion Memorial Library 106 Iron Street Mellen WI 54546 United States;X-APPLE-RADIUS=500;X-TITLE=106 Iron Street:geo:-90.658573,46.32721
END:VEVENT
BEGIN:VEVENT
DTSTART;VALUE=DATE:20250725
DTEND;VALUE=DATE:20250726
DTSTAMP:20260422T231737
CREATED:20250630T204309Z
LAST-MODIFIED:20250630T204309Z
UID:10003594-1753401600-1753487999@www.legionmemoriallibrary.org
SUMMARY:Hot Fudge Sundae Day
DESCRIPTION:National Hot Fudge Sundae Day \n“A hot fudge sundae and a trashy novel is my idea of heaven.” —Barbara Walter
URL:https://www.legionmemoriallibrary.org/event/hot-fudge-sundae-day-3/
LOCATION:Legion Memorial Library\, 106 Iron Street\, Mellen\, WI\, 54546\, United States
GEO:46.32721;-90.658573
X-APPLE-STRUCTURED-LOCATION;VALUE=URI;X-ADDRESS=Legion Memorial Library 106 Iron Street Mellen WI 54546 United States;X-APPLE-RADIUS=500;X-TITLE=106 Iron Street:geo:-90.658573,46.32721
END:VEVENT
BEGIN:VEVENT
DTSTART;TZID=America/Chicago:20250724T090000
DTEND;TZID=America/Chicago:20250724T100000
DTSTAMP:20260422T231737
CREATED:20250522T193214Z
LAST-MODIFIED:20250522T193214Z
UID:10003418-1753347600-1753351200@www.legionmemoriallibrary.org
SUMMARY:Summer Reading Storytime for 3-5 yr. olds
DESCRIPTION:Programs are planned for 3-5 yr. olds.  Those a bit older & younger are welcome\, but not all activities will be suitable for the littlest of our littles.  Programs will last about an hour. \nJuly 24th\, Thursday at 9am\nCelebrating Your Favorite Color\n& Painting ‘Summer Memories’
URL:https://www.legionmemoriallibrary.org/event/summer-reading-storytime-for-3-5-yr-olds-6/
LOCATION:Legion Memorial Library\, 106 Iron Street\, Mellen\, WI\, 54546\, United States
GEO:46.32721;-90.658573
X-APPLE-STRUCTURED-LOCATION;VALUE=URI;X-ADDRESS=Legion Memorial Library 106 Iron Street Mellen WI 54546 United States;X-APPLE-RADIUS=500;X-TITLE=106 Iron Street:geo:-90.658573,46.32721
END:VEVENT
BEGIN:VEVENT
DTSTART;VALUE=DATE:20250724
DTEND;VALUE=DATE:20250725
DTSTAMP:20260422T231737
CREATED:20250630T204238Z
LAST-MODIFIED:20250630T204238Z
UID:10003593-1753315200-1753401599@www.legionmemoriallibrary.org
SUMMARY:Drive-Thru Day
DESCRIPTION:National Drive-Thru Day \n“Life’s a drive-thru\, bud. Keep moving forward.” —Jared Keeso
URL:https://www.legionmemoriallibrary.org/event/drive-thru-day-3/
LOCATION:Legion Memorial Library\, 106 Iron Street\, Mellen\, WI\, 54546\, United States
GEO:46.32721;-90.658573
X-APPLE-STRUCTURED-LOCATION;VALUE=URI;X-ADDRESS=Legion Memorial Library 106 Iron Street Mellen WI 54546 United States;X-APPLE-RADIUS=500;X-TITLE=106 Iron Street:geo:-90.658573,46.32721
END:VEVENT
BEGIN:VEVENT
DTSTART;VALUE=DATE:20250724
DTEND;VALUE=DATE:20250725
DTSTAMP:20260422T231737
CREATED:20250630T193600Z
LAST-MODIFIED:20250630T193746Z
UID:10003569-1753315200-1753401599@www.legionmemoriallibrary.org
SUMMARY:Last Day to Enter Teen Challenges Contests
DESCRIPTION:Kids entering 6th Grade this fall through those entering as Seniors were given challenges at the beginning of Summer. \nEnter a Book Merge Photo\, Book Spine Poem and/or a Recycle Book Art piece.  Prizes:  1st Place $15\, 2nd Place $10\, and 3rd Place $5. \nThis is the last day to enter.  Winners will be announced next week\, July 31st. \n 
URL:https://www.legionmemoriallibrary.org/event/last-day-to-enter-teen-challenges-contests/
LOCATION:Legion Memorial Library\, 106 Iron Street\, Mellen\, WI\, 54546\, United States
GEO:46.32721;-90.658573
X-APPLE-STRUCTURED-LOCATION;VALUE=URI;X-ADDRESS=Legion Memorial Library 106 Iron Street Mellen WI 54546 United States;X-APPLE-RADIUS=500;X-TITLE=106 Iron Street:geo:-90.658573,46.32721
END:VEVENT
BEGIN:VEVENT
DTSTART;VALUE=DATE:20250723
DTEND;VALUE=DATE:20250724
DTSTAMP:20260422T231737
CREATED:20250630T204144Z
LAST-MODIFIED:20250630T204144Z
UID:10003592-1753228800-1753315199@www.legionmemoriallibrary.org
SUMMARY:Vanilla Ice Cream Day
DESCRIPTION:National Vanilla Ice Cream Day \n“My advice to you is not to inquire why or whither\, but just enjoy your ice cream while it’s on your plate.” —Thornton Wilder
URL:https://www.legionmemoriallibrary.org/event/vanilla-ice-cream-day-2/
LOCATION:Legion Memorial Library\, 106 Iron Street\, Mellen\, WI\, 54546\, United States
GEO:46.32721;-90.658573
X-APPLE-STRUCTURED-LOCATION;VALUE=URI;X-ADDRESS=Legion Memorial Library 106 Iron Street Mellen WI 54546 United States;X-APPLE-RADIUS=500;X-TITLE=106 Iron Street:geo:-90.658573,46.32721
END:VEVENT
BEGIN:VEVENT
DTSTART;TZID=America/Chicago:20250722T103000
DTEND;TZID=America/Chicago:20250722T113000
DTSTAMP:20260422T231737
CREATED:20250522T192145Z
LAST-MODIFIED:20250522T192145Z
UID:10003412-1753180200-1753183800@www.legionmemoriallibrary.org
SUMMARY:Summer Reading Program for 1st-5th Graders
DESCRIPTION:
URL:https://www.legionmemoriallibrary.org/event/summer-reading-program-for-1st-5th-graders-6/
LOCATION:Legion Memorial Library\, 106 Iron Street\, Mellen\, WI\, 54546\, United States
GEO:46.32721;-90.658573
X-APPLE-STRUCTURED-LOCATION;VALUE=URI;X-ADDRESS=Legion Memorial Library 106 Iron Street Mellen WI 54546 United States;X-APPLE-RADIUS=500;X-TITLE=106 Iron Street:geo:-90.658573,46.32721
END:VEVENT
BEGIN:VEVENT
DTSTART;VALUE=DATE:20250722
DTEND;VALUE=DATE:20250723
DTSTAMP:20260422T231737
CREATED:20250630T204103Z
LAST-MODIFIED:20250630T204103Z
UID:10003591-1753142400-1753228799@www.legionmemoriallibrary.org
SUMMARY:Mango Day
DESCRIPTION:National Mango Day \n“Meditation is not just blissing out under a mango tree. It completely changes your brain and therefore changes what you are.” —Matthieu Ricard
URL:https://www.legionmemoriallibrary.org/event/mango-day/
LOCATION:Legion Memorial Library\, 106 Iron Street\, Mellen\, WI\, 54546\, United States
GEO:46.32721;-90.658573
X-APPLE-STRUCTURED-LOCATION;VALUE=URI;X-ADDRESS=Legion Memorial Library 106 Iron Street Mellen WI 54546 United States;X-APPLE-RADIUS=500;X-TITLE=106 Iron Street:geo:-90.658573,46.32721
END:VEVENT
BEGIN:VEVENT
DTSTART;TZID=America/Chicago:20250721T180000
DTEND;TZID=America/Chicago:20250721T190000
DTSTAMP:20260422T231737
CREATED:20250630T193124Z
LAST-MODIFIED:20250630T193124Z
UID:10003568-1753120800-1753124400@www.legionmemoriallibrary.org
SUMMARY:Book Club
DESCRIPTION:Book Club will meet to discuss “Violeta” by Isabel Allende at the Library.  Our August book is “The Lioness” by Chris Bohjalian.  Let us know if you’re interested in joining us.  We order our books through interlibrary loan so there is no need to purchase a book.
URL:https://www.legionmemoriallibrary.org/event/book-club-50/
LOCATION:Legion Memorial Library\, 106 Iron Street\, Mellen\, WI\, 54546\, United States
GEO:46.32721;-90.658573
X-APPLE-STRUCTURED-LOCATION;VALUE=URI;X-ADDRESS=Legion Memorial Library 106 Iron Street Mellen WI 54546 United States;X-APPLE-RADIUS=500;X-TITLE=106 Iron Street:geo:-90.658573,46.32721
END:VEVENT
BEGIN:VEVENT
DTSTART;TZID=America/Chicago:20250721T110000
DTEND;TZID=America/Chicago:20250721T120000
DTSTAMP:20260422T231737
CREATED:20250630T183531Z
LAST-MODIFIED:20250630T184008Z
UID:10003559-1753095600-1753099200@www.legionmemoriallibrary.org
SUMMARY:Fraud Prevention Workshop
DESCRIPTION:Scams & Frauds Workshop with CLICK’s Digital Navigator\, Jay Seppanen.
URL:https://www.legionmemoriallibrary.org/event/fraud-prevention-workshop/
LOCATION:Legion Memorial Library\, 106 Iron Street\, Mellen\, WI\, 54546\, United States
GEO:46.32721;-90.658573
X-APPLE-STRUCTURED-LOCATION;VALUE=URI;X-ADDRESS=Legion Memorial Library 106 Iron Street Mellen WI 54546 United States;X-APPLE-RADIUS=500;X-TITLE=106 Iron Street:geo:-90.658573,46.32721
END:VEVENT
BEGIN:VEVENT
DTSTART;VALUE=DATE:20250721
DTEND;VALUE=DATE:20250722
DTSTAMP:20260422T231737
CREATED:20250630T204019Z
LAST-MODIFIED:20250630T204019Z
UID:10003590-1753056000-1753142399@www.legionmemoriallibrary.org
SUMMARY:Junk Food Day
DESCRIPTION:National Junk Food Day \n“I love sitcoms\, and I grew up on sitcoms. That’s my tasty junk food.” —Felicia Day
URL:https://www.legionmemoriallibrary.org/event/junk-food-day-4/
LOCATION:Legion Memorial Library\, 106 Iron Street\, Mellen\, WI\, 54546\, United States
GEO:46.32721;-90.658573
X-APPLE-STRUCTURED-LOCATION;VALUE=URI;X-ADDRESS=Legion Memorial Library 106 Iron Street Mellen WI 54546 United States;X-APPLE-RADIUS=500;X-TITLE=106 Iron Street:geo:-90.658573,46.32721
END:VEVENT
BEGIN:VEVENT
DTSTART;VALUE=DATE:20250720
DTEND;VALUE=DATE:20250721
DTSTAMP:20260422T231737
CREATED:20250630T203946Z
LAST-MODIFIED:20250630T203946Z
UID:10003589-1752969600-1753055999@www.legionmemoriallibrary.org
SUMMARY:Lollipop Day
DESCRIPTION:National Lollipop Day \n“Sunshine\, lollipops\, and rainbows\, everything that’s wonderful\, is sure to come your way.” —Lesley Gore
URL:https://www.legionmemoriallibrary.org/event/lollipop-day/
LOCATION:Legion Memorial Library\, 106 Iron Street\, Mellen\, WI\, 54546\, United States
GEO:46.32721;-90.658573
X-APPLE-STRUCTURED-LOCATION;VALUE=URI;X-ADDRESS=Legion Memorial Library 106 Iron Street Mellen WI 54546 United States;X-APPLE-RADIUS=500;X-TITLE=106 Iron Street:geo:-90.658573,46.32721
END:VEVENT
BEGIN:VEVENT
DTSTART;VALUE=DATE:20250719
DTEND;VALUE=DATE:20250720
DTSTAMP:20260422T231737
CREATED:20250630T203904Z
LAST-MODIFIED:20250630T203904Z
UID:10003588-1752883200-1752969599@www.legionmemoriallibrary.org
SUMMARY:Urban Beekeeping Day
DESCRIPTION:Urban Beekeeping Day \n“The hum of bees is the voice of the garden.” —Elizabeth Lawrence
URL:https://www.legionmemoriallibrary.org/event/urban-beekeeping-day/
LOCATION:Legion Memorial Library\, 106 Iron Street\, Mellen\, WI\, 54546\, United States
GEO:46.32721;-90.658573
X-APPLE-STRUCTURED-LOCATION;VALUE=URI;X-ADDRESS=Legion Memorial Library 106 Iron Street Mellen WI 54546 United States;X-APPLE-RADIUS=500;X-TITLE=106 Iron Street:geo:-90.658573,46.32721
END:VEVENT
BEGIN:VEVENT
DTSTART;TZID=America/Chicago:20250718T180000
DTEND;TZID=America/Chicago:20250718T210000
DTSTAMP:20260422T231737
CREATED:20250630T192316Z
LAST-MODIFIED:20250630T192316Z
UID:10003567-1752861600-1752872400@www.legionmemoriallibrary.org
SUMMARY:Paint Night
DESCRIPTION:We will get together to paint with The Art Sherpa to create her “Bowl of Cherries”.  Connect with the library to register and we will share the supply list.
URL:https://www.legionmemoriallibrary.org/event/paint-night-9/
LOCATION:Legion Memorial Library\, 106 Iron Street\, Mellen\, WI\, 54546\, United States
GEO:46.32721;-90.658573
X-APPLE-STRUCTURED-LOCATION;VALUE=URI;X-ADDRESS=Legion Memorial Library 106 Iron Street Mellen WI 54546 United States;X-APPLE-RADIUS=500;X-TITLE=106 Iron Street:geo:-90.658573,46.32721
END:VEVENT
END:VCALENDAR