BEGIN:VCALENDAR
VERSION:2.0
PRODID:-//Legion Memorial Library - ECPv6.15.20//NONSGML v1.0//EN
CALSCALE:GREGORIAN
METHOD:PUBLISH
X-WR-CALNAME:Legion Memorial Library
X-ORIGINAL-URL:https://www.legionmemoriallibrary.org
X-WR-CALDESC:Events for Legion Memorial Library
REFRESH-INTERVAL;VALUE=DURATION:PT1H
X-Robots-Tag:noindex
X-PUBLISHED-TTL:PT1H
BEGIN:VTIMEZONE
TZID:America/Chicago
BEGIN:DAYLIGHT
TZOFFSETFROM:-0600
TZOFFSETTO:-0500
TZNAME:CDT
DTSTART:20240310T080000
END:DAYLIGHT
BEGIN:STANDARD
TZOFFSETFROM:-0500
TZOFFSETTO:-0600
TZNAME:CST
DTSTART:20241103T070000
END:STANDARD
BEGIN:DAYLIGHT
TZOFFSETFROM:-0600
TZOFFSETTO:-0500
TZNAME:CDT
DTSTART:20250309T080000
END:DAYLIGHT
BEGIN:STANDARD
TZOFFSETFROM:-0500
TZOFFSETTO:-0600
TZNAME:CST
DTSTART:20251102T070000
END:STANDARD
BEGIN:DAYLIGHT
TZOFFSETFROM:-0600
TZOFFSETTO:-0500
TZNAME:CDT
DTSTART:20260308T080000
END:DAYLIGHT
BEGIN:STANDARD
TZOFFSETFROM:-0500
TZOFFSETTO:-0600
TZNAME:CST
DTSTART:20261101T070000
END:STANDARD
END:VTIMEZONE
BEGIN:VEVENT
DTSTART;VALUE=DATE:20251116
DTEND;VALUE=DATE:20251117
DTSTAMP:20260422T051818
CREATED:20251105T171346Z
LAST-MODIFIED:20251105T171346Z
UID:10003744-1763251200-1763337599@www.legionmemoriallibrary.org
SUMMARY:Button Day
DESCRIPTION:National Button Day \n“Most everything in Grandma’s house had a story\, but the basket was full of them!  The basket contained buttons . . . all sizes\, shapes\, colors\, and kinds.”  Arlet Richardson
URL:https://www.legionmemoriallibrary.org/event/button-day/
LOCATION:Legion Memorial Library\, 106 Iron Street\, Mellen\, WI\, 54546\, United States
GEO:46.32721;-90.658573
X-APPLE-STRUCTURED-LOCATION;VALUE=URI;X-ADDRESS=Legion Memorial Library 106 Iron Street Mellen WI 54546 United States;X-APPLE-RADIUS=500;X-TITLE=106 Iron Street:geo:-90.658573,46.32721
END:VEVENT
BEGIN:VEVENT
DTSTART;VALUE=DATE:20251115
DTEND;VALUE=DATE:20251116
DTSTAMP:20260422T051818
CREATED:20251105T171050Z
LAST-MODIFIED:20251105T171050Z
UID:10003743-1763164800-1763251199@www.legionmemoriallibrary.org
SUMMARY:Clean Out Your Refrigerator Day
DESCRIPTION:National Clean Out Your Refrigerator Day \n“The fridge is a clear example that what matters is on the inside.”
URL:https://www.legionmemoriallibrary.org/event/clean-out-your-refrigerator-day-2/
LOCATION:Legion Memorial Library\, 106 Iron Street\, Mellen\, WI\, 54546\, United States
GEO:46.32721;-90.658573
X-APPLE-STRUCTURED-LOCATION;VALUE=URI;X-ADDRESS=Legion Memorial Library 106 Iron Street Mellen WI 54546 United States;X-APPLE-RADIUS=500;X-TITLE=106 Iron Street:geo:-90.658573,46.32721
END:VEVENT
BEGIN:VEVENT
DTSTART;TZID=America/Chicago:20251114T150000
DTEND;TZID=America/Chicago:20251114T160000
DTSTAMP:20260422T051818
CREATED:20251105T174925Z
LAST-MODIFIED:20251105T174925Z
UID:10003766-1763132400-1763136000@www.legionmemoriallibrary.org
SUMMARY:Q&A about Medicare Part C & D
DESCRIPTION:Amy Janecek\, the Ashland County Elder Benefit Specialist will be here for a Q&A session about Medicare Parts C & D.  The Friends of the Library will be our hosts and serve refreshments.
URL:https://www.legionmemoriallibrary.org/event/qa-about-medicare-part-c-d/
LOCATION:Legion Memorial Library\, 106 Iron Street\, Mellen\, WI\, 54546\, United States
GEO:46.32721;-90.658573
X-APPLE-STRUCTURED-LOCATION;VALUE=URI;X-ADDRESS=Legion Memorial Library 106 Iron Street Mellen WI 54546 United States;X-APPLE-RADIUS=500;X-TITLE=106 Iron Street:geo:-90.658573,46.32721
END:VEVENT
BEGIN:VEVENT
DTSTART;VALUE=DATE:20251114
DTEND;VALUE=DATE:20251115
DTSTAMP:20260422T051818
CREATED:20251105T171007Z
LAST-MODIFIED:20251105T171007Z
UID:10003742-1763078400-1763164799@www.legionmemoriallibrary.org
SUMMARY:Teddy Bear Day
DESCRIPTION:National American Teddy Bear Day \n“A teddy bear does not depend upon mechanics to give him the semblance of life.  He is loved – and therefore he lives.”  Pam Brown
URL:https://www.legionmemoriallibrary.org/event/teddy-bear-day/
LOCATION:Legion Memorial Library\, 106 Iron Street\, Mellen\, WI\, 54546\, United States
GEO:46.32721;-90.658573
X-APPLE-STRUCTURED-LOCATION;VALUE=URI;X-ADDRESS=Legion Memorial Library 106 Iron Street Mellen WI 54546 United States;X-APPLE-RADIUS=500;X-TITLE=106 Iron Street:geo:-90.658573,46.32721
END:VEVENT
BEGIN:VEVENT
DTSTART;TZID=America/Chicago:20251113T090000
DTEND;TZID=America/Chicago:20251113T100000
DTSTAMP:20260422T051819
CREATED:20251105T174006Z
LAST-MODIFIED:20251105T174006Z
UID:10003760-1763024400-1763028000@www.legionmemoriallibrary.org
SUMMARY:Library School Storytime
DESCRIPTION:This program is planned for children around age 3 to attend with an adult caregiver.  We take time to sing\, read\, play\, create\, and check out books.  Today’s theme is:  Vegetables.  If you are unable to join us Thursday mornings\, remember we do have a 1000 Books Before Kindergarten program\, patch program\, and Take & Make crafts available.  Stop in the library with your youngsters play with the puzzles\, Legos\, or trains.  Then find some books to take home and share. \n 
URL:https://www.legionmemoriallibrary.org/event/library-school-storytime-31/
LOCATION:Legion Memorial Library\, 106 Iron Street\, Mellen\, WI\, 54546\, United States
GEO:46.32721;-90.658573
X-APPLE-STRUCTURED-LOCATION;VALUE=URI;X-ADDRESS=Legion Memorial Library 106 Iron Street Mellen WI 54546 United States;X-APPLE-RADIUS=500;X-TITLE=106 Iron Street:geo:-90.658573,46.32721
END:VEVENT
BEGIN:VEVENT
DTSTART;VALUE=DATE:20251113
DTEND;VALUE=DATE:20251114
DTSTAMP:20260422T051819
CREATED:20251105T170925Z
LAST-MODIFIED:20251105T170925Z
UID:10003741-1762992000-1763078399@www.legionmemoriallibrary.org
SUMMARY:Kindness Day
DESCRIPTION:World Kindness Day \n“Kindness is the language which the deaf can hear and the blind can see.”  Mark Twain
URL:https://www.legionmemoriallibrary.org/event/kindness-day/
LOCATION:Legion Memorial Library\, 106 Iron Street\, Mellen\, WI\, 54546\, United States
GEO:46.32721;-90.658573
X-APPLE-STRUCTURED-LOCATION;VALUE=URI;X-ADDRESS=Legion Memorial Library 106 Iron Street Mellen WI 54546 United States;X-APPLE-RADIUS=500;X-TITLE=106 Iron Street:geo:-90.658573,46.32721
END:VEVENT
BEGIN:VEVENT
DTSTART;TZID=America/Chicago:20251112T160000
DTEND;TZID=America/Chicago:20251112T170000
DTSTAMP:20260422T051819
CREATED:20251015T174020Z
LAST-MODIFIED:20251015T174020Z
UID:10003726-1762963200-1762966800@www.legionmemoriallibrary.org
SUMMARY:Asahi Nordic Exercise
DESCRIPTION:
URL:https://www.legionmemoriallibrary.org/event/asahi-nordic-exercise-49/
LOCATION:Legion Memorial Library\, 106 Iron Street\, Mellen\, WI\, 54546\, United States
GEO:46.32721;-90.658573
X-APPLE-STRUCTURED-LOCATION;VALUE=URI;X-ADDRESS=Legion Memorial Library 106 Iron Street Mellen WI 54546 United States;X-APPLE-RADIUS=500;X-TITLE=106 Iron Street:geo:-90.658573,46.32721
END:VEVENT
BEGIN:VEVENT
DTSTART;VALUE=DATE:20251112
DTEND;VALUE=DATE:20251113
DTSTAMP:20260422T051819
CREATED:20251105T170838Z
LAST-MODIFIED:20251105T170838Z
UID:10003740-1762905600-1762991999@www.legionmemoriallibrary.org
SUMMARY:Chicken Soup for the Soul Day
DESCRIPTION:Chicken Soup for the Soul Day \n“A little science.  A little magic.”  Diane Duane
URL:https://www.legionmemoriallibrary.org/event/chicken-soup-for-the-soul-day-3/
LOCATION:Legion Memorial Library\, 106 Iron Street\, Mellen\, WI\, 54546\, United States
GEO:46.32721;-90.658573
X-APPLE-STRUCTURED-LOCATION;VALUE=URI;X-ADDRESS=Legion Memorial Library 106 Iron Street Mellen WI 54546 United States;X-APPLE-RADIUS=500;X-TITLE=106 Iron Street:geo:-90.658573,46.32721
END:VEVENT
BEGIN:VEVENT
DTSTART;VALUE=DATE:20251111
DTEND;VALUE=DATE:20251112
DTSTAMP:20260422T051819
CREATED:20251105T170804Z
LAST-MODIFIED:20251105T170804Z
UID:10003739-1762819200-1762905599@www.legionmemoriallibrary.org
SUMMARY:Veterans Day
DESCRIPTION:Veterans Day \n“Honoring the sacrifices many have made for our country in the name of freedom and democracy is the very foundation of Veterans Day.”  Charles B. Rangel
URL:https://www.legionmemoriallibrary.org/event/veterans-day-4/
LOCATION:Legion Memorial Library\, 106 Iron Street\, Mellen\, WI\, 54546\, United States
GEO:46.32721;-90.658573
X-APPLE-STRUCTURED-LOCATION;VALUE=URI;X-ADDRESS=Legion Memorial Library 106 Iron Street Mellen WI 54546 United States;X-APPLE-RADIUS=500;X-TITLE=106 Iron Street:geo:-90.658573,46.32721
END:VEVENT
BEGIN:VEVENT
DTSTART;TZID=America/Chicago:20251110T180000
DTEND;TZID=America/Chicago:20251110T190000
DTSTAMP:20260422T051819
CREATED:20251105T174648Z
LAST-MODIFIED:20251105T174648Z
UID:10003765-1762797600-1762801200@www.legionmemoriallibrary.org
SUMMARY:Book Club
DESCRIPTION:
URL:https://www.legionmemoriallibrary.org/event/book-club-53/
LOCATION:Legion Memorial Library\, 106 Iron Street\, Mellen\, WI\, 54546\, United States
GEO:46.32721;-90.658573
X-APPLE-STRUCTURED-LOCATION;VALUE=URI;X-ADDRESS=Legion Memorial Library 106 Iron Street Mellen WI 54546 United States;X-APPLE-RADIUS=500;X-TITLE=106 Iron Street:geo:-90.658573,46.32721
END:VEVENT
BEGIN:VEVENT
DTSTART;TZID=America/Chicago:20251110T090000
DTEND;TZID=America/Chicago:20251110T120000
DTSTAMP:20260422T051819
CREATED:20251105T174622Z
LAST-MODIFIED:20251105T174622Z
UID:10003764-1762765200-1762776000@www.legionmemoriallibrary.org
SUMMARY:Elder Benefit Specialist at Senior Center
DESCRIPTION:
URL:https://www.legionmemoriallibrary.org/event/elder-benefit-specialist-at-senior-center/
LOCATION:Legion Memorial Library\, 106 Iron Street\, Mellen\, WI\, 54546\, United States
GEO:46.32721;-90.658573
X-APPLE-STRUCTURED-LOCATION;VALUE=URI;X-ADDRESS=Legion Memorial Library 106 Iron Street Mellen WI 54546 United States;X-APPLE-RADIUS=500;X-TITLE=106 Iron Street:geo:-90.658573,46.32721
END:VEVENT
BEGIN:VEVENT
DTSTART;VALUE=DATE:20251110
DTEND;VALUE=DATE:20251111
DTSTAMP:20260422T051819
CREATED:20251105T170731Z
LAST-MODIFIED:20251105T170731Z
UID:10003738-1762732800-1762819199@www.legionmemoriallibrary.org
SUMMARY:Sesame Street Day
DESCRIPTION:Sesame Street Day \n“Early bird get the worm. But cookie taste better than worm.  So\, me sleep in.”  Cookie Monster
URL:https://www.legionmemoriallibrary.org/event/sesame-street-day/
LOCATION:Legion Memorial Library\, 106 Iron Street\, Mellen\, WI\, 54546\, United States
GEO:46.32721;-90.658573
X-APPLE-STRUCTURED-LOCATION;VALUE=URI;X-ADDRESS=Legion Memorial Library 106 Iron Street Mellen WI 54546 United States;X-APPLE-RADIUS=500;X-TITLE=106 Iron Street:geo:-90.658573,46.32721
END:VEVENT
BEGIN:VEVENT
DTSTART;VALUE=DATE:20251109
DTEND;VALUE=DATE:20251110
DTSTAMP:20260422T051819
CREATED:20251105T170649Z
LAST-MODIFIED:20251105T170649Z
UID:10003737-1762646400-1762732799@www.legionmemoriallibrary.org
SUMMARY:Tongue Twister Day
DESCRIPTION:International Tongue Twister Day \n“Betty bought butter but the butter was bitter\, so Betty bought better butter to make the bitter butter better.”
URL:https://www.legionmemoriallibrary.org/event/tongue-twister-day/
LOCATION:Legion Memorial Library\, 106 Iron Street\, Mellen\, WI\, 54546\, United States
GEO:46.32721;-90.658573
X-APPLE-STRUCTURED-LOCATION;VALUE=URI;X-ADDRESS=Legion Memorial Library 106 Iron Street Mellen WI 54546 United States;X-APPLE-RADIUS=500;X-TITLE=106 Iron Street:geo:-90.658573,46.32721
END:VEVENT
BEGIN:VEVENT
DTSTART;VALUE=DATE:20251108
DTEND;VALUE=DATE:20251109
DTSTAMP:20260422T051819
CREATED:20251105T170608Z
LAST-MODIFIED:20251105T170608Z
UID:10003736-1762560000-1762646399@www.legionmemoriallibrary.org
SUMMARY:World Radiography Day
DESCRIPTION:World Radiography Day \n“Never lie to a radiologist.  They can see right through you.”
URL:https://www.legionmemoriallibrary.org/event/world-radiography-day/
LOCATION:Legion Memorial Library\, 106 Iron Street\, Mellen\, WI\, 54546\, United States
GEO:46.32721;-90.658573
X-APPLE-STRUCTURED-LOCATION;VALUE=URI;X-ADDRESS=Legion Memorial Library 106 Iron Street Mellen WI 54546 United States;X-APPLE-RADIUS=500;X-TITLE=106 Iron Street:geo:-90.658573,46.32721
END:VEVENT
BEGIN:VEVENT
DTSTART;VALUE=DATE:20251107
DTEND;VALUE=DATE:20251108
DTSTAMP:20260422T051819
CREATED:20251105T170515Z
LAST-MODIFIED:20251105T170515Z
UID:10003735-1762473600-1762559999@www.legionmemoriallibrary.org
SUMMARY:Cancer Awareness Day
DESCRIPTION:National Cancer Awareness Day \n“A positive attitude is good medicine.”
URL:https://www.legionmemoriallibrary.org/event/cancer-awareness-day/
LOCATION:Legion Memorial Library\, 106 Iron Street\, Mellen\, WI\, 54546\, United States
GEO:46.32721;-90.658573
X-APPLE-STRUCTURED-LOCATION;VALUE=URI;X-ADDRESS=Legion Memorial Library 106 Iron Street Mellen WI 54546 United States;X-APPLE-RADIUS=500;X-TITLE=106 Iron Street:geo:-90.658573,46.32721
END:VEVENT
BEGIN:VEVENT
DTSTART;TZID=America/Chicago:20251106T170000
DTEND;TZID=America/Chicago:20251106T180000
DTSTAMP:20260422T051819
CREATED:20251105T174534Z
LAST-MODIFIED:20251105T174534Z
UID:10003763-1762448400-1762452000@www.legionmemoriallibrary.org
SUMMARY:Friends of the Library Meeting
DESCRIPTION:
URL:https://www.legionmemoriallibrary.org/event/friends-of-the-library-meeting-17/
LOCATION:Legion Memorial Library\, 106 Iron Street\, Mellen\, WI\, 54546\, United States
GEO:46.32721;-90.658573
X-APPLE-STRUCTURED-LOCATION;VALUE=URI;X-ADDRESS=Legion Memorial Library 106 Iron Street Mellen WI 54546 United States;X-APPLE-RADIUS=500;X-TITLE=106 Iron Street:geo:-90.658573,46.32721
END:VEVENT
BEGIN:VEVENT
DTSTART;TZID=America/Chicago:20251106T090000
DTEND;TZID=America/Chicago:20251106T100000
DTSTAMP:20260422T051819
CREATED:20251105T173836Z
LAST-MODIFIED:20251105T173836Z
UID:10003759-1762419600-1762423200@www.legionmemoriallibrary.org
SUMMARY:Library School Storytime
DESCRIPTION:This program is planned for children around age 3 to attend with an adult caregiver.  We take time to sing\, read\, play\, create\, and check out books.  Today’s theme is:  Farms.  If you are unable to join us Thursday mornings\, remember we do have a 1000 Books Before Kindergarten program\, patch program\, and Take & Make crafts available.  Stop in the library with your youngsters play with the puzzles\, Legos\, or trains.  Then find some books to take home and share. \n 
URL:https://www.legionmemoriallibrary.org/event/library-school-storytime-30/
LOCATION:Legion Memorial Library\, 106 Iron Street\, Mellen\, WI\, 54546\, United States
GEO:46.32721;-90.658573
X-APPLE-STRUCTURED-LOCATION;VALUE=URI;X-ADDRESS=Legion Memorial Library 106 Iron Street Mellen WI 54546 United States;X-APPLE-RADIUS=500;X-TITLE=106 Iron Street:geo:-90.658573,46.32721
END:VEVENT
BEGIN:VEVENT
DTSTART;VALUE=DATE:20251106
DTEND;VALUE=DATE:20251107
DTSTAMP:20260422T051819
CREATED:20251105T170045Z
LAST-MODIFIED:20251105T170045Z
UID:10003734-1762387200-1762473599@www.legionmemoriallibrary.org
SUMMARY:Basketball Day
DESCRIPTION:National Basketball Day \n“Good teams become great ones when the members trust each other enough to surrender the Me for the We.”  Phil Jackson
URL:https://www.legionmemoriallibrary.org/event/basketball-day/
LOCATION:Legion Memorial Library\, 106 Iron Street\, Mellen\, WI\, 54546\, United States
GEO:46.32721;-90.658573
X-APPLE-STRUCTURED-LOCATION;VALUE=URI;X-ADDRESS=Legion Memorial Library 106 Iron Street Mellen WI 54546 United States;X-APPLE-RADIUS=500;X-TITLE=106 Iron Street:geo:-90.658573,46.32721
END:VEVENT
BEGIN:VEVENT
DTSTART;TZID=America/Chicago:20251105T160000
DTEND;TZID=America/Chicago:20251105T170000
DTSTAMP:20260422T051819
CREATED:20251015T173959Z
LAST-MODIFIED:20251015T173959Z
UID:10003725-1762358400-1762362000@www.legionmemoriallibrary.org
SUMMARY:Asahi Nordic Exercise
DESCRIPTION:
URL:https://www.legionmemoriallibrary.org/event/asahi-nordic-exercise-48/
LOCATION:Legion Memorial Library\, 106 Iron Street\, Mellen\, WI\, 54546\, United States
GEO:46.32721;-90.658573
X-APPLE-STRUCTURED-LOCATION;VALUE=URI;X-ADDRESS=Legion Memorial Library 106 Iron Street Mellen WI 54546 United States;X-APPLE-RADIUS=500;X-TITLE=106 Iron Street:geo:-90.658573,46.32721
END:VEVENT
BEGIN:VEVENT
DTSTART;VALUE=DATE:20251105
DTEND;VALUE=DATE:20251106
DTSTAMP:20260422T051819
CREATED:20251105T170010Z
LAST-MODIFIED:20251105T170010Z
UID:10003733-1762300800-1762387199@www.legionmemoriallibrary.org
SUMMARY:Bonfire Night
DESCRIPTION:Bonfire Night \n“The setting of the sun on summer beach days brings the burning of bonfires on beautiful fall nights.”
URL:https://www.legionmemoriallibrary.org/event/bonfire-night/
LOCATION:Legion Memorial Library\, 106 Iron Street\, Mellen\, WI\, 54546\, United States
GEO:46.32721;-90.658573
X-APPLE-STRUCTURED-LOCATION;VALUE=URI;X-ADDRESS=Legion Memorial Library 106 Iron Street Mellen WI 54546 United States;X-APPLE-RADIUS=500;X-TITLE=106 Iron Street:geo:-90.658573,46.32721
END:VEVENT
BEGIN:VEVENT
DTSTART;VALUE=DATE:20251101
DTEND;VALUE=DATE:20251102
DTSTAMP:20260422T051819
CREATED:20251015T182717Z
LAST-MODIFIED:20251015T182717Z
UID:10003732-1761955200-1762041599@www.legionmemoriallibrary.org
SUMMARY:Family Literacy Day
DESCRIPTION:National Family Literacy Day \nChildren are made readers on the laps of their parents.”  Emilie Buchwald
URL:https://www.legionmemoriallibrary.org/event/family-literacy-day/
LOCATION:Legion Memorial Library\, 106 Iron Street\, Mellen\, WI\, 54546\, United States
GEO:46.32721;-90.658573
X-APPLE-STRUCTURED-LOCATION;VALUE=URI;X-ADDRESS=Legion Memorial Library 106 Iron Street Mellen WI 54546 United States;X-APPLE-RADIUS=500;X-TITLE=106 Iron Street:geo:-90.658573,46.32721
END:VEVENT
BEGIN:VEVENT
DTSTART;VALUE=DATE:20251031
DTEND;VALUE=DATE:20251101
DTSTAMP:20260422T051819
CREATED:20250911T215321Z
LAST-MODIFIED:20250911T215321Z
UID:10003705-1761868800-1761955199@www.legionmemoriallibrary.org
SUMMARY:Carve A Pumpkin Day
DESCRIPTION:National Carve A Pumpkin Day \n“Way out in the country tonight he could smell the pumpkins ripening toward the knife and the triangle eye and the singeing candle.” —Ray Bradbury
URL:https://www.legionmemoriallibrary.org/event/carve-a-pumpkin-day-2/
LOCATION:Legion Memorial Library\, 106 Iron Street\, Mellen\, WI\, 54546\, United States
GEO:46.32721;-90.658573
X-APPLE-STRUCTURED-LOCATION;VALUE=URI;X-ADDRESS=Legion Memorial Library 106 Iron Street Mellen WI 54546 United States;X-APPLE-RADIUS=500;X-TITLE=106 Iron Street:geo:-90.658573,46.32721
END:VEVENT
BEGIN:VEVENT
DTSTART;VALUE=DATE:20251030
DTEND;VALUE=DATE:20251031
DTSTAMP:20260422T051819
CREATED:20250911T215249Z
LAST-MODIFIED:20250911T215249Z
UID:10003704-1761782400-1761868799@www.legionmemoriallibrary.org
SUMMARY:Candy Corn Day
DESCRIPTION:National Candy Corn Day \n“Candy corn. For Halloween that is my favorite candy\, but it doesn’t come around that often and I like that.” —Daniel Jacobs
URL:https://www.legionmemoriallibrary.org/event/candy-corn-day-3/
LOCATION:Legion Memorial Library\, 106 Iron Street\, Mellen\, WI\, 54546\, United States
GEO:46.32721;-90.658573
X-APPLE-STRUCTURED-LOCATION;VALUE=URI;X-ADDRESS=Legion Memorial Library 106 Iron Street Mellen WI 54546 United States;X-APPLE-RADIUS=500;X-TITLE=106 Iron Street:geo:-90.658573,46.32721
END:VEVENT
BEGIN:VEVENT
DTSTART;TZID=America/Chicago:20251029T083000
DTEND;TZID=America/Chicago:20251029T093000
DTSTAMP:20260422T051819
CREATED:20251015T173938Z
LAST-MODIFIED:20251015T173938Z
UID:10003724-1761726600-1761730200@www.legionmemoriallibrary.org
SUMMARY:Asahi Nordic Exercise
DESCRIPTION:
URL:https://www.legionmemoriallibrary.org/event/asahi-nordic-exercise-47/
LOCATION:Legion Memorial Library\, 106 Iron Street\, Mellen\, WI\, 54546\, United States
GEO:46.32721;-90.658573
X-APPLE-STRUCTURED-LOCATION;VALUE=URI;X-ADDRESS=Legion Memorial Library 106 Iron Street Mellen WI 54546 United States;X-APPLE-RADIUS=500;X-TITLE=106 Iron Street:geo:-90.658573,46.32721
END:VEVENT
BEGIN:VEVENT
DTSTART;VALUE=DATE:20251029
DTEND;VALUE=DATE:20251030
DTSTAMP:20260422T051819
CREATED:20250911T215217Z
LAST-MODIFIED:20250911T215217Z
UID:10003703-1761696000-1761782399@www.legionmemoriallibrary.org
SUMMARY:Oatmeal Day
DESCRIPTION:National Oatmeal Day \n“Oatmeal tastes so good on its own\, you don’t even need to add sugar.” —Kristin Chenoweth
URL:https://www.legionmemoriallibrary.org/event/oatmeal-day-3/
LOCATION:Legion Memorial Library\, 106 Iron Street\, Mellen\, WI\, 54546\, United States
GEO:46.32721;-90.658573
X-APPLE-STRUCTURED-LOCATION;VALUE=URI;X-ADDRESS=Legion Memorial Library 106 Iron Street Mellen WI 54546 United States;X-APPLE-RADIUS=500;X-TITLE=106 Iron Street:geo:-90.658573,46.32721
END:VEVENT
BEGIN:VEVENT
DTSTART;VALUE=DATE:20251028
DTEND;VALUE=DATE:20251029
DTSTAMP:20260422T051819
CREATED:20250911T215134Z
LAST-MODIFIED:20250911T215134Z
UID:10003702-1761609600-1761695999@www.legionmemoriallibrary.org
SUMMARY:Chocolate Day
DESCRIPTION:National Chocolate Day \n“Chocolate is a gift of love to yourself.” —Sonja Blumenthal
URL:https://www.legionmemoriallibrary.org/event/chocolate-day-4/
LOCATION:Legion Memorial Library\, 106 Iron Street\, Mellen\, WI\, 54546\, United States
GEO:46.32721;-90.658573
X-APPLE-STRUCTURED-LOCATION;VALUE=URI;X-ADDRESS=Legion Memorial Library 106 Iron Street Mellen WI 54546 United States;X-APPLE-RADIUS=500;X-TITLE=106 Iron Street:geo:-90.658573,46.32721
END:VEVENT
BEGIN:VEVENT
DTSTART;VALUE=DATE:20251027
DTEND;VALUE=DATE:20251028
DTSTAMP:20260422T051819
CREATED:20250911T215104Z
LAST-MODIFIED:20250911T215104Z
UID:10003701-1761523200-1761609599@www.legionmemoriallibrary.org
SUMMARY:Potato Day
DESCRIPTION:National Potato Day \n“Every single diet I ever fell off of was because of potatoes and gravy of some sort.” —Dolly Parton
URL:https://www.legionmemoriallibrary.org/event/potato-day-5/
LOCATION:Legion Memorial Library\, 106 Iron Street\, Mellen\, WI\, 54546\, United States
GEO:46.32721;-90.658573
X-APPLE-STRUCTURED-LOCATION;VALUE=URI;X-ADDRESS=Legion Memorial Library 106 Iron Street Mellen WI 54546 United States;X-APPLE-RADIUS=500;X-TITLE=106 Iron Street:geo:-90.658573,46.32721
END:VEVENT
BEGIN:VEVENT
DTSTART;VALUE=DATE:20251026
DTEND;VALUE=DATE:20251027
DTSTAMP:20260422T051819
CREATED:20250911T215032Z
LAST-MODIFIED:20250911T215032Z
UID:10003700-1761436800-1761523199@www.legionmemoriallibrary.org
SUMMARY:Pumpkin Day
DESCRIPTION:National Pumpkin Day \n“Pumpkins\, in October\, as fat as the full moon\, they sit on our doorstep at night and glow.” —Richelle E. Goodrich
URL:https://www.legionmemoriallibrary.org/event/pumpkin-day-4/
LOCATION:Legion Memorial Library\, 106 Iron Street\, Mellen\, WI\, 54546\, United States
GEO:46.32721;-90.658573
X-APPLE-STRUCTURED-LOCATION;VALUE=URI;X-ADDRESS=Legion Memorial Library 106 Iron Street Mellen WI 54546 United States;X-APPLE-RADIUS=500;X-TITLE=106 Iron Street:geo:-90.658573,46.32721
END:VEVENT
BEGIN:VEVENT
DTSTART;VALUE=DATE:20251025
DTEND;VALUE=DATE:20251026
DTSTAMP:20260422T051819
CREATED:20250911T215000Z
LAST-MODIFIED:20250911T215000Z
UID:10003699-1761350400-1761436799@www.legionmemoriallibrary.org
SUMMARY:Greasy Foods Day
DESCRIPTION:National Greasy Foods Day \n“Greasy food might not be good for your body\, but it does wonders for the soul.” —Jessica Zafra
URL:https://www.legionmemoriallibrary.org/event/greasy-foods-day-3/
LOCATION:Legion Memorial Library\, 106 Iron Street\, Mellen\, WI\, 54546\, United States
GEO:46.32721;-90.658573
X-APPLE-STRUCTURED-LOCATION;VALUE=URI;X-ADDRESS=Legion Memorial Library 106 Iron Street Mellen WI 54546 United States;X-APPLE-RADIUS=500;X-TITLE=106 Iron Street:geo:-90.658573,46.32721
END:VEVENT
BEGIN:VEVENT
DTSTART;TZID=America/Chicago:20251024T190000
DTEND;TZID=America/Chicago:20251024T210000
DTSTAMP:20260422T051819
CREATED:20251001T175444Z
LAST-MODIFIED:20251001T175444Z
UID:10003721-1761332400-1761339600@www.legionmemoriallibrary.org
SUMMARY:Movie Night
DESCRIPTION:Harry Potter and the Sorcerer’s Stone \nYou are welcome to bring your own comfortable camp chairs\, beverages and snacks.  The library will provide popcorn. \nCostumes encouraged.
URL:https://www.legionmemoriallibrary.org/event/movie-night-5/
LOCATION:Legion Memorial Library\, 106 Iron Street\, Mellen\, WI\, 54546\, United States
GEO:46.32721;-90.658573
X-APPLE-STRUCTURED-LOCATION;VALUE=URI;X-ADDRESS=Legion Memorial Library 106 Iron Street Mellen WI 54546 United States;X-APPLE-RADIUS=500;X-TITLE=106 Iron Street:geo:-90.658573,46.32721
END:VEVENT
END:VCALENDAR