BEGIN:VCALENDAR
VERSION:2.0
PRODID:-//Legion Memorial Library - ECPv6.15.20//NONSGML v1.0//EN
CALSCALE:GREGORIAN
METHOD:PUBLISH
X-WR-CALNAME:Legion Memorial Library
X-ORIGINAL-URL:https://www.legionmemoriallibrary.org
X-WR-CALDESC:Events for Legion Memorial Library
REFRESH-INTERVAL;VALUE=DURATION:PT1H
X-Robots-Tag:noindex
X-PUBLISHED-TTL:PT1H
BEGIN:VTIMEZONE
TZID:America/Chicago
BEGIN:DAYLIGHT
TZOFFSETFROM:-0600
TZOFFSETTO:-0500
TZNAME:CDT
DTSTART:20250309T080000
END:DAYLIGHT
BEGIN:STANDARD
TZOFFSETFROM:-0500
TZOFFSETTO:-0600
TZNAME:CST
DTSTART:20251102T070000
END:STANDARD
BEGIN:DAYLIGHT
TZOFFSETFROM:-0600
TZOFFSETTO:-0500
TZNAME:CDT
DTSTART:20260308T080000
END:DAYLIGHT
BEGIN:STANDARD
TZOFFSETFROM:-0500
TZOFFSETTO:-0600
TZNAME:CST
DTSTART:20261101T070000
END:STANDARD
BEGIN:DAYLIGHT
TZOFFSETFROM:-0600
TZOFFSETTO:-0500
TZNAME:CDT
DTSTART:20270314T080000
END:DAYLIGHT
BEGIN:STANDARD
TZOFFSETFROM:-0500
TZOFFSETTO:-0600
TZNAME:CST
DTSTART:20271107T070000
END:STANDARD
END:VTIMEZONE
BEGIN:VEVENT
DTSTART;VALUE=DATE:20260210
DTEND;VALUE=DATE:20260211
DTSTAMP:20260421T153725
CREATED:20260203T155041Z
LAST-MODIFIED:20260203T155041Z
UID:10003890-1770681600-1770767999@www.legionmemoriallibrary.org
SUMMARY:Flannel Day
DESCRIPTION:
URL:https://www.legionmemoriallibrary.org/event/flannel-day-4/
LOCATION:Legion Memorial Library\, 106 Iron Street\, Mellen\, WI\, 54546\, United States
GEO:46.32721;-90.658573
X-APPLE-STRUCTURED-LOCATION;VALUE=URI;X-ADDRESS=Legion Memorial Library 106 Iron Street Mellen WI 54546 United States;X-APPLE-RADIUS=500;X-TITLE=106 Iron Street:geo:-90.658573,46.32721
END:VEVENT
BEGIN:VEVENT
DTSTART;TZID=America/Chicago:20260209T180000
DTEND;TZID=America/Chicago:20260209T190000
DTSTAMP:20260421T153725
CREATED:20260203T155222Z
LAST-MODIFIED:20260203T155222Z
UID:10003893-1770660000-1770663600@www.legionmemoriallibrary.org
SUMMARY:Book Club
DESCRIPTION:
URL:https://www.legionmemoriallibrary.org/event/book-club-59/
LOCATION:Legion Memorial Library\, 106 Iron Street\, Mellen\, WI\, 54546\, United States
GEO:46.32721;-90.658573
X-APPLE-STRUCTURED-LOCATION;VALUE=URI;X-ADDRESS=Legion Memorial Library 106 Iron Street Mellen WI 54546 United States;X-APPLE-RADIUS=500;X-TITLE=106 Iron Street:geo:-90.658573,46.32721
END:VEVENT
BEGIN:VEVENT
DTSTART;TZID=America/Chicago:20260209T090000
DTEND;TZID=America/Chicago:20260209T120000
DTSTAMP:20260421T153725
CREATED:20260203T155151Z
LAST-MODIFIED:20260203T155151Z
UID:10003892-1770627600-1770638400@www.legionmemoriallibrary.org
SUMMARY:Elder Benefit Specialist
DESCRIPTION:
URL:https://www.legionmemoriallibrary.org/event/elder-benefit-specialist-5/
LOCATION:Legion Memorial Library\, 106 Iron Street\, Mellen\, WI\, 54546\, United States
GEO:46.32721;-90.658573
X-APPLE-STRUCTURED-LOCATION;VALUE=URI;X-ADDRESS=Legion Memorial Library 106 Iron Street Mellen WI 54546 United States;X-APPLE-RADIUS=500;X-TITLE=106 Iron Street:geo:-90.658573,46.32721
END:VEVENT
BEGIN:VEVENT
DTSTART;VALUE=DATE:20260209
DTEND;VALUE=DATE:20260210
DTSTAMP:20260421T153725
CREATED:20260203T161643Z
LAST-MODIFIED:20260203T161643Z
UID:10003904-1770595200-1770681599@www.legionmemoriallibrary.org
SUMMARY:No CLICK & Learn
DESCRIPTION:
URL:https://www.legionmemoriallibrary.org/event/no-click-learn/
LOCATION:Legion Memorial Library\, 106 Iron Street\, Mellen\, WI\, 54546\, United States
GEO:46.32721;-90.658573
X-APPLE-STRUCTURED-LOCATION;VALUE=URI;X-ADDRESS=Legion Memorial Library 106 Iron Street Mellen WI 54546 United States;X-APPLE-RADIUS=500;X-TITLE=106 Iron Street:geo:-90.658573,46.32721
END:VEVENT
BEGIN:VEVENT
DTSTART;VALUE=DATE:20260209
DTEND;VALUE=DATE:20260210
DTSTAMP:20260421T153725
CREATED:20260203T144623Z
LAST-MODIFIED:20260203T144623Z
UID:10003870-1770595200-1770681599@www.legionmemoriallibrary.org
SUMMARY:Read in the Bathtub Day
DESCRIPTION:
URL:https://www.legionmemoriallibrary.org/event/read-in-the-bathtub-day-2/
LOCATION:Legion Memorial Library\, 106 Iron Street\, Mellen\, WI\, 54546\, United States
GEO:46.32721;-90.658573
X-APPLE-STRUCTURED-LOCATION;VALUE=URI;X-ADDRESS=Legion Memorial Library 106 Iron Street Mellen WI 54546 United States;X-APPLE-RADIUS=500;X-TITLE=106 Iron Street:geo:-90.658573,46.32721
END:VEVENT
BEGIN:VEVENT
DTSTART;VALUE=DATE:20260208
DTEND;VALUE=DATE:20260209
DTSTAMP:20260421T153725
CREATED:20260202T161803Z
LAST-MODIFIED:20260202T161803Z
UID:10003866-1770508800-1770595199@www.legionmemoriallibrary.org
SUMMARY:Super Bowl Sunday
DESCRIPTION:“The goal every year is to win the Super Bowl\, not just to get to the playoffs\, not just to win a few games.” Calvin Johnson\, Detroit Lions
URL:https://www.legionmemoriallibrary.org/event/super-bowl-sunday/
LOCATION:Legion Memorial Library\, 106 Iron Street\, Mellen\, WI\, 54546\, United States
GEO:46.32721;-90.658573
X-APPLE-STRUCTURED-LOCATION;VALUE=URI;X-ADDRESS=Legion Memorial Library 106 Iron Street Mellen WI 54546 United States;X-APPLE-RADIUS=500;X-TITLE=106 Iron Street:geo:-90.658573,46.32721
END:VEVENT
BEGIN:VEVENT
DTSTART;VALUE=DATE:20260207
DTEND;VALUE=DATE:20260208
DTSTAMP:20260421T153725
CREATED:20260202T161721Z
LAST-MODIFIED:20260202T161721Z
UID:10003865-1770422400-1770508799@www.legionmemoriallibrary.org
SUMMARY:Take Your Child to the Library Day
DESCRIPTION:“Library Storytimes and programs for babies and preschoolers teach social and academic skills that directly translate to early school success.”  Association for Children’s Library Services
URL:https://www.legionmemoriallibrary.org/event/take-your-child-to-the-library-day/
LOCATION:Legion Memorial Library\, 106 Iron Street\, Mellen\, WI\, 54546\, United States
GEO:46.32721;-90.658573
X-APPLE-STRUCTURED-LOCATION;VALUE=URI;X-ADDRESS=Legion Memorial Library 106 Iron Street Mellen WI 54546 United States;X-APPLE-RADIUS=500;X-TITLE=106 Iron Street:geo:-90.658573,46.32721
END:VEVENT
BEGIN:VEVENT
DTSTART;VALUE=DATE:20260206
DTEND;VALUE=DATE:20260207
DTSTAMP:20260421T153725
CREATED:20260202T161639Z
LAST-MODIFIED:20260202T161639Z
UID:10003864-1770336000-1770422399@www.legionmemoriallibrary.org
SUMMARY:National Wear Red Day
DESCRIPTION:National Wear Red Day “Wear red to be seen\, to be counted\, to be heard\, and to make an impact.  Together\, we are stronger than heart disease and stroke.” Go Red for Women
URL:https://www.legionmemoriallibrary.org/event/national-wear-red-day/
LOCATION:Legion Memorial Library\, 106 Iron Street\, Mellen\, WI\, 54546\, United States
GEO:46.32721;-90.658573
X-APPLE-STRUCTURED-LOCATION;VALUE=URI;X-ADDRESS=Legion Memorial Library 106 Iron Street Mellen WI 54546 United States;X-APPLE-RADIUS=500;X-TITLE=106 Iron Street:geo:-90.658573,46.32721
END:VEVENT
BEGIN:VEVENT
DTSTART;TZID=America/Chicago:20260205T170000
DTEND;TZID=America/Chicago:20260205T180000
DTSTAMP:20260421T153725
CREATED:20260202T161951Z
LAST-MODIFIED:20260202T161951Z
UID:10003869-1770310800-1770314400@www.legionmemoriallibrary.org
SUMMARY:Friends of the Library Meeting
DESCRIPTION:
URL:https://www.legionmemoriallibrary.org/event/friends-of-the-library-meeting-19/
LOCATION:Legion Memorial Library\, 106 Iron Street\, Mellen\, WI\, 54546\, United States
GEO:46.32721;-90.658573
X-APPLE-STRUCTURED-LOCATION;VALUE=URI;X-ADDRESS=Legion Memorial Library 106 Iron Street Mellen WI 54546 United States;X-APPLE-RADIUS=500;X-TITLE=106 Iron Street:geo:-90.658573,46.32721
END:VEVENT
BEGIN:VEVENT
DTSTART;TZID=America/Chicago:20260205T090000
DTEND;TZID=America/Chicago:20260205T100000
DTSTAMP:20260421T153725
CREATED:20260202T161904Z
LAST-MODIFIED:20260202T161904Z
UID:10003868-1770282000-1770285600@www.legionmemoriallibrary.org
SUMMARY:Storytime
DESCRIPTION:
URL:https://www.legionmemoriallibrary.org/event/storytime-6/
LOCATION:Legion Memorial Library\, 106 Iron Street\, Mellen\, WI\, 54546\, United States
GEO:46.32721;-90.658573
X-APPLE-STRUCTURED-LOCATION;VALUE=URI;X-ADDRESS=Legion Memorial Library 106 Iron Street Mellen WI 54546 United States;X-APPLE-RADIUS=500;X-TITLE=106 Iron Street:geo:-90.658573,46.32721
END:VEVENT
BEGIN:VEVENT
DTSTART;VALUE=DATE:20260205
DTEND;VALUE=DATE:20260206
DTSTAMP:20260421T153725
CREATED:20260202T161553Z
LAST-MODIFIED:20260202T161553Z
UID:10003863-1770249600-1770335999@www.legionmemoriallibrary.org
SUMMARY:Harry Potter Book Night
DESCRIPTION:“But you know happiness can be found even in the darkest of times\, if one only remembers to turn on the light.” Albus Dumbledore in Harry Potter and the Prisoner of Azkaban by J.K. Rowling
URL:https://www.legionmemoriallibrary.org/event/harry-potter-book-night/
LOCATION:Legion Memorial Library\, 106 Iron Street\, Mellen\, WI\, 54546\, United States
GEO:46.32721;-90.658573
X-APPLE-STRUCTURED-LOCATION;VALUE=URI;X-ADDRESS=Legion Memorial Library 106 Iron Street Mellen WI 54546 United States;X-APPLE-RADIUS=500;X-TITLE=106 Iron Street:geo:-90.658573,46.32721
END:VEVENT
BEGIN:VEVENT
DTSTART;TZID=America/Chicago:20260204T160000
DTEND;TZID=America/Chicago:20260204T170000
DTSTAMP:20260421T153725
CREATED:20260202T161833Z
LAST-MODIFIED:20260202T161833Z
UID:10003867-1770220800-1770224400@www.legionmemoriallibrary.org
SUMMARY:Asahi Nordic Exercise
DESCRIPTION:
URL:https://www.legionmemoriallibrary.org/event/asahi-nordic-exercise-58/
LOCATION:Legion Memorial Library\, 106 Iron Street\, Mellen\, WI\, 54546\, United States
GEO:46.32721;-90.658573
X-APPLE-STRUCTURED-LOCATION;VALUE=URI;X-ADDRESS=Legion Memorial Library 106 Iron Street Mellen WI 54546 United States;X-APPLE-RADIUS=500;X-TITLE=106 Iron Street:geo:-90.658573,46.32721
END:VEVENT
BEGIN:VEVENT
DTSTART;VALUE=DATE:20260204
DTEND;VALUE=DATE:20260205
DTSTAMP:20260421T153725
CREATED:20260202T161504Z
LAST-MODIFIED:20260202T161504Z
UID:10003862-1770163200-1770249599@www.legionmemoriallibrary.org
SUMMARY:World Read Aloud Day
DESCRIPTION:“Reading aloud with children is known to be the single most important activity for building the knowledge and skills thy will eventually require for learning to read.”  Marilyn Jager Adams
URL:https://www.legionmemoriallibrary.org/event/world-read-aloud-day/
LOCATION:Legion Memorial Library\, 106 Iron Street\, Mellen\, WI\, 54546\, United States
GEO:46.32721;-90.658573
X-APPLE-STRUCTURED-LOCATION;VALUE=URI;X-ADDRESS=Legion Memorial Library 106 Iron Street Mellen WI 54546 United States;X-APPLE-RADIUS=500;X-TITLE=106 Iron Street:geo:-90.658573,46.32721
END:VEVENT
BEGIN:VEVENT
DTSTART;VALUE=DATE:20260203
DTEND;VALUE=DATE:20260204
DTSTAMP:20260421T153725
CREATED:20260202T161413Z
LAST-MODIFIED:20260202T161413Z
UID:10003861-1770076800-1770163199@www.legionmemoriallibrary.org
SUMMARY:Optimist Day
DESCRIPTION:“My friends\, love is better than anger.  Hope is better than fear. Optimism is better than despair.  So let us be loving\, hopeful\, and optimistic.  And we’ll change the world.” Jack Layton
URL:https://www.legionmemoriallibrary.org/event/optimist-day/
LOCATION:Legion Memorial Library\, 106 Iron Street\, Mellen\, WI\, 54546\, United States
GEO:46.32721;-90.658573
X-APPLE-STRUCTURED-LOCATION;VALUE=URI;X-ADDRESS=Legion Memorial Library 106 Iron Street Mellen WI 54546 United States;X-APPLE-RADIUS=500;X-TITLE=106 Iron Street:geo:-90.658573,46.32721
END:VEVENT
BEGIN:VEVENT
DTSTART;VALUE=DATE:20260202
DTEND;VALUE=DATE:20260203
DTSTAMP:20260421T153725
CREATED:20260202T161332Z
LAST-MODIFIED:20260202T161332Z
UID:10003860-1769990400-1770076799@www.legionmemoriallibrary.org
SUMMARY:Groundhog Day
DESCRIPTION:“Turn your face to the sun and the shadows will fall behind you.” Maori Proverb
URL:https://www.legionmemoriallibrary.org/event/groundhog-day/
LOCATION:Legion Memorial Library\, 106 Iron Street\, Mellen\, WI\, 54546\, United States
GEO:46.32721;-90.658573
X-APPLE-STRUCTURED-LOCATION;VALUE=URI;X-ADDRESS=Legion Memorial Library 106 Iron Street Mellen WI 54546 United States;X-APPLE-RADIUS=500;X-TITLE=106 Iron Street:geo:-90.658573,46.32721
END:VEVENT
BEGIN:VEVENT
DTSTART;VALUE=DATE:20260201
DTEND;VALUE=DATE:20260202
DTSTAMP:20260421T153725
CREATED:20260202T161254Z
LAST-MODIFIED:20260202T161254Z
UID:10003859-1769904000-1769990399@www.legionmemoriallibrary.org
SUMMARY:Freedom Day
DESCRIPTION:“May we think of freedom\, not as the right to do as we please\, but as the opportunity to do what is right.”  Peter Marshall
URL:https://www.legionmemoriallibrary.org/event/freedom-day/
LOCATION:Legion Memorial Library\, 106 Iron Street\, Mellen\, WI\, 54546\, United States
GEO:46.32721;-90.658573
X-APPLE-STRUCTURED-LOCATION;VALUE=URI;X-ADDRESS=Legion Memorial Library 106 Iron Street Mellen WI 54546 United States;X-APPLE-RADIUS=500;X-TITLE=106 Iron Street:geo:-90.658573,46.32721
END:VEVENT
BEGIN:VEVENT
DTSTART;VALUE=DATE:20260131
DTEND;VALUE=DATE:20260201
DTSTAMP:20260421T153725
CREATED:20251222T201833Z
LAST-MODIFIED:20251222T201833Z
UID:10003846-1769817600-1769903999@www.legionmemoriallibrary.org
SUMMARY:Hot Chocolate Day
DESCRIPTION:National Hot Chocolate Day \n“Because the best gift in life\, is just having someone to drink hot chocolate with.”  Tessa Shaffer\, Heaven Has No Regrets
URL:https://www.legionmemoriallibrary.org/event/hot-chocolate-day-2/
LOCATION:Legion Memorial Library\, 106 Iron Street\, Mellen\, WI\, 54546\, United States
GEO:46.32721;-90.658573
X-APPLE-STRUCTURED-LOCATION;VALUE=URI;X-ADDRESS=Legion Memorial Library 106 Iron Street Mellen WI 54546 United States;X-APPLE-RADIUS=500;X-TITLE=106 Iron Street:geo:-90.658573,46.32721
END:VEVENT
BEGIN:VEVENT
DTSTART;VALUE=DATE:20260130
DTEND;VALUE=DATE:20260131
DTSTAMP:20260421T153725
CREATED:20251222T201741Z
LAST-MODIFIED:20251222T201741Z
UID:10003845-1769731200-1769817599@www.legionmemoriallibrary.org
SUMMARY:Draw a Dinosaur Day 
DESCRIPTION:National Draw a Dinosaur Day \n“In pre-school\, I was drawing dinosaurs – I was huge into dinosaurs.  I wanted to be a paleontologist\, not a cartoonist or filmmaker or anything like that – just a paleontologist.  So I would draw dinosaurs.”  Jhonen Vasquez
URL:https://www.legionmemoriallibrary.org/event/draw-a-dinosaur-day/
LOCATION:Legion Memorial Library\, 106 Iron Street\, Mellen\, WI\, 54546\, United States
GEO:46.32721;-90.658573
X-APPLE-STRUCTURED-LOCATION;VALUE=URI;X-ADDRESS=Legion Memorial Library 106 Iron Street Mellen WI 54546 United States;X-APPLE-RADIUS=500;X-TITLE=106 Iron Street:geo:-90.658573,46.32721
END:VEVENT
BEGIN:VEVENT
DTSTART;VALUE=DATE:20260129
DTEND;VALUE=DATE:20260130
DTSTAMP:20260421T153725
CREATED:20251222T201652Z
LAST-MODIFIED:20251222T201652Z
UID:10003844-1769644800-1769731199@www.legionmemoriallibrary.org
SUMMARY:Puzzle Day 
DESCRIPTION:National Puzzle Day \n“In life’s kaleidoscope\, we’re each a different piece of the puzzle.” Sarah Reinvalde
URL:https://www.legionmemoriallibrary.org/event/puzzle-day-2/
LOCATION:Legion Memorial Library\, 106 Iron Street\, Mellen\, WI\, 54546\, United States
GEO:46.32721;-90.658573
X-APPLE-STRUCTURED-LOCATION;VALUE=URI;X-ADDRESS=Legion Memorial Library 106 Iron Street Mellen WI 54546 United States;X-APPLE-RADIUS=500;X-TITLE=106 Iron Street:geo:-90.658573,46.32721
END:VEVENT
BEGIN:VEVENT
DTSTART;TZID=America/Chicago:20260128T160000
DTEND;TZID=America/Chicago:20260128T170000
DTSTAMP:20260421T153725
CREATED:20251222T202653Z
LAST-MODIFIED:20251222T202653Z
UID:10003856-1769616000-1769619600@www.legionmemoriallibrary.org
SUMMARY:Asahi Nordic Exercise
DESCRIPTION:
URL:https://www.legionmemoriallibrary.org/event/asahi-nordic-exercise-57/
LOCATION:Legion Memorial Library\, 106 Iron Street\, Mellen\, WI\, 54546\, United States
GEO:46.32721;-90.658573
X-APPLE-STRUCTURED-LOCATION;VALUE=URI;X-ADDRESS=Legion Memorial Library 106 Iron Street Mellen WI 54546 United States;X-APPLE-RADIUS=500;X-TITLE=106 Iron Street:geo:-90.658573,46.32721
END:VEVENT
BEGIN:VEVENT
DTSTART;VALUE=DATE:20260128
DTEND;VALUE=DATE:20260129
DTSTAMP:20260421T153725
CREATED:20251222T201602Z
LAST-MODIFIED:20251222T201602Z
UID:10003843-1769558400-1769644799@www.legionmemoriallibrary.org
SUMMARY:Kazoo Day
DESCRIPTION:National Kazoo Day \n“I think the kazoo and chocolate-chip cookies have a lot in common.  All you need is a mouth to appreciate either one.”  Wally Amos
URL:https://www.legionmemoriallibrary.org/event/kazoo-day-2/
LOCATION:Legion Memorial Library\, 106 Iron Street\, Mellen\, WI\, 54546\, United States
GEO:46.32721;-90.658573
X-APPLE-STRUCTURED-LOCATION;VALUE=URI;X-ADDRESS=Legion Memorial Library 106 Iron Street Mellen WI 54546 United States;X-APPLE-RADIUS=500;X-TITLE=106 Iron Street:geo:-90.658573,46.32721
END:VEVENT
BEGIN:VEVENT
DTSTART;TZID=America/Chicago:20260127T170500
DTEND;TZID=America/Chicago:20260127T180000
DTSTAMP:20260421T153725
CREATED:20251222T202449Z
LAST-MODIFIED:20251222T202449Z
UID:10003852-1769533500-1769536800@www.legionmemoriallibrary.org
SUMMARY:Library Board Meeting
DESCRIPTION:
URL:https://www.legionmemoriallibrary.org/event/library-board-meeting-21/
LOCATION:Legion Memorial Library\, 106 Iron Street\, Mellen\, WI\, 54546\, United States
GEO:46.32721;-90.658573
X-APPLE-STRUCTURED-LOCATION;VALUE=URI;X-ADDRESS=Legion Memorial Library 106 Iron Street Mellen WI 54546 United States;X-APPLE-RADIUS=500;X-TITLE=106 Iron Street:geo:-90.658573,46.32721
END:VEVENT
BEGIN:VEVENT
DTSTART;VALUE=DATE:20260127
DTEND;VALUE=DATE:20260128
DTSTAMP:20260421T153725
CREATED:20251222T201454Z
LAST-MODIFIED:20251222T201454Z
UID:10003842-1769472000-1769558399@www.legionmemoriallibrary.org
SUMMARY:Chocolate Cake Day
DESCRIPTION:National Chocolate Cake Day  “He showed the words ‘chocolate cake’ to a group of Americans and recorded their word associations.  ‘Guilt’ was the top response.  If that strikes you as unexceptional\, consider the response of French eaters to the same prompt: ‘celebration.’”  Michael Pollan\, In Defense of Food:  An Eater’s Manifesto
URL:https://www.legionmemoriallibrary.org/event/chocolate-cake-day-3/
LOCATION:Legion Memorial Library\, 106 Iron Street\, Mellen\, WI\, 54546\, United States
GEO:46.32721;-90.658573
X-APPLE-STRUCTURED-LOCATION;VALUE=URI;X-ADDRESS=Legion Memorial Library 106 Iron Street Mellen WI 54546 United States;X-APPLE-RADIUS=500;X-TITLE=106 Iron Street:geo:-90.658573,46.32721
END:VEVENT
BEGIN:VEVENT
DTSTART;VALUE=DATE:20260126
DTEND;VALUE=DATE:20260127
DTSTAMP:20260421T153725
CREATED:20251222T201407Z
LAST-MODIFIED:20251222T201407Z
UID:10003841-1769385600-1769471999@www.legionmemoriallibrary.org
SUMMARY:Spouses Day
DESCRIPTION:National Spouses Day \n“So it’s not gonna be easy.  It’s going to be really hard; we’re gonna have to work at this everyday\, but I want to do that because I want you.  I want all of you\, forever\, everyday.  You and me…everyday.”  Nicholas Sparks\, The Notebook
URL:https://www.legionmemoriallibrary.org/event/spouses-day/
LOCATION:Legion Memorial Library\, 106 Iron Street\, Mellen\, WI\, 54546\, United States
GEO:46.32721;-90.658573
X-APPLE-STRUCTURED-LOCATION;VALUE=URI;X-ADDRESS=Legion Memorial Library 106 Iron Street Mellen WI 54546 United States;X-APPLE-RADIUS=500;X-TITLE=106 Iron Street:geo:-90.658573,46.32721
END:VEVENT
BEGIN:VEVENT
DTSTART;VALUE=DATE:20260125
DTEND;VALUE=DATE:20260126
DTSTAMP:20260421T153725
CREATED:20251222T201316Z
LAST-MODIFIED:20251222T201316Z
UID:10003840-1769299200-1769385599@www.legionmemoriallibrary.org
SUMMARY:Observe the Weather Day 
DESCRIPTION:Observe the Weather Day \n“Sunshine is delicious\, rain is refreshing\, wind braces us up\, snow is exhilarating; there is really no such thing as bad weather\, only different kinds of good weather.  John Ruskin
URL:https://www.legionmemoriallibrary.org/event/observe-the-weather-day/
LOCATION:Legion Memorial Library\, 106 Iron Street\, Mellen\, WI\, 54546\, United States
GEO:46.32721;-90.658573
X-APPLE-STRUCTURED-LOCATION;VALUE=URI;X-ADDRESS=Legion Memorial Library 106 Iron Street Mellen WI 54546 United States;X-APPLE-RADIUS=500;X-TITLE=106 Iron Street:geo:-90.658573,46.32721
END:VEVENT
BEGIN:VEVENT
DTSTART;VALUE=DATE:20260124
DTEND;VALUE=DATE:20260125
DTSTAMP:20260421T153725
CREATED:20260123T151503Z
LAST-MODIFIED:20260123T151503Z
UID:10003858-1769212800-1769299199@www.legionmemoriallibrary.org
SUMMARY:Library Closed Due to Extreme Cold
DESCRIPTION:
URL:https://www.legionmemoriallibrary.org/event/library-closed-due-to-extreme-cold/
LOCATION:Legion Memorial Library\, 106 Iron Street\, Mellen\, WI\, 54546\, United States
GEO:46.32721;-90.658573
X-APPLE-STRUCTURED-LOCATION;VALUE=URI;X-ADDRESS=Legion Memorial Library 106 Iron Street Mellen WI 54546 United States;X-APPLE-RADIUS=500;X-TITLE=106 Iron Street:geo:-90.658573,46.32721
END:VEVENT
BEGIN:VEVENT
DTSTART;VALUE=DATE:20260124
DTEND;VALUE=DATE:20260125
DTSTAMP:20260421T153725
CREATED:20251222T201221Z
LAST-MODIFIED:20251222T201221Z
UID:10003839-1769212800-1769299199@www.legionmemoriallibrary.org
SUMMARY:Global Belly Laugh Day
DESCRIPTION:Global Belly Laugh Day \n“A belly laugh increases the ability of your immune system to fight infections.”  Elizabeth Taylor
URL:https://www.legionmemoriallibrary.org/event/global-belly-laugh-day/
LOCATION:Legion Memorial Library\, 106 Iron Street\, Mellen\, WI\, 54546\, United States
GEO:46.32721;-90.658573
X-APPLE-STRUCTURED-LOCATION;VALUE=URI;X-ADDRESS=Legion Memorial Library 106 Iron Street Mellen WI 54546 United States;X-APPLE-RADIUS=500;X-TITLE=106 Iron Street:geo:-90.658573,46.32721
END:VEVENT
BEGIN:VEVENT
DTSTART;VALUE=DATE:20260123
DTEND;VALUE=DATE:20260124
DTSTAMP:20260421T153725
CREATED:20251222T201131Z
LAST-MODIFIED:20251222T201131Z
UID:10003838-1769126400-1769212799@www.legionmemoriallibrary.org
SUMMARY:Handwriting Day 
DESCRIPTION:National Handwriting Day \n“I prefer the pen.  There is something elemental about the glide and flow of nib and ink on paper.”  James Robertson\, The Testament of Gideon Mack
URL:https://www.legionmemoriallibrary.org/event/handwriting-day-2/
LOCATION:Legion Memorial Library\, 106 Iron Street\, Mellen\, WI\, 54546\, United States
GEO:46.32721;-90.658573
X-APPLE-STRUCTURED-LOCATION;VALUE=URI;X-ADDRESS=Legion Memorial Library 106 Iron Street Mellen WI 54546 United States;X-APPLE-RADIUS=500;X-TITLE=106 Iron Street:geo:-90.658573,46.32721
END:VEVENT
BEGIN:VEVENT
DTSTART;VALUE=DATE:20260122
DTEND;VALUE=DATE:20260123
DTSTAMP:20260421T153725
CREATED:20251222T201045Z
LAST-MODIFIED:20251222T201045Z
UID:10003837-1769040000-1769126399@www.legionmemoriallibrary.org
SUMMARY:Library Shelfie Day
DESCRIPTION:Library Shelfie Day \n“My brother and I were able to fantasize far more extravagantly about our parents’ tastes and desires\, their aspirations and their vices\, by scanning their bookcases than by snooping in their closet.  Their selves were on their shelves.”  Anne Fadiman\, Ex Libris:  Confessions of a Common Reader
URL:https://www.legionmemoriallibrary.org/event/library-shelfie-day/
LOCATION:Legion Memorial Library\, 106 Iron Street\, Mellen\, WI\, 54546\, United States
GEO:46.32721;-90.658573
X-APPLE-STRUCTURED-LOCATION;VALUE=URI;X-ADDRESS=Legion Memorial Library 106 Iron Street Mellen WI 54546 United States;X-APPLE-RADIUS=500;X-TITLE=106 Iron Street:geo:-90.658573,46.32721
END:VEVENT
BEGIN:VEVENT
DTSTART;TZID=America/Chicago:20260121T160000
DTEND;TZID=America/Chicago:20260121T170000
DTSTAMP:20260421T153725
CREATED:20251222T202626Z
LAST-MODIFIED:20251222T202626Z
UID:10003855-1769011200-1769014800@www.legionmemoriallibrary.org
SUMMARY:Asahi Nordic Exercise
DESCRIPTION:
URL:https://www.legionmemoriallibrary.org/event/asahi-nordic-exercise-56/
LOCATION:Legion Memorial Library\, 106 Iron Street\, Mellen\, WI\, 54546\, United States
GEO:46.32721;-90.658573
X-APPLE-STRUCTURED-LOCATION;VALUE=URI;X-ADDRESS=Legion Memorial Library 106 Iron Street Mellen WI 54546 United States;X-APPLE-RADIUS=500;X-TITLE=106 Iron Street:geo:-90.658573,46.32721
END:VEVENT
END:VCALENDAR