BEGIN:VCALENDAR
VERSION:2.0
PRODID:-//Legion Memorial Library - ECPv6.15.20//NONSGML v1.0//EN
CALSCALE:GREGORIAN
METHOD:PUBLISH
X-WR-CALNAME:Legion Memorial Library
X-ORIGINAL-URL:https://www.legionmemoriallibrary.org
X-WR-CALDESC:Events for Legion Memorial Library
REFRESH-INTERVAL;VALUE=DURATION:PT1H
X-Robots-Tag:noindex
X-PUBLISHED-TTL:PT1H
BEGIN:VTIMEZONE
TZID:America/Chicago
BEGIN:DAYLIGHT
TZOFFSETFROM:-0600
TZOFFSETTO:-0500
TZNAME:CDT
DTSTART:20240310T080000
END:DAYLIGHT
BEGIN:STANDARD
TZOFFSETFROM:-0500
TZOFFSETTO:-0600
TZNAME:CST
DTSTART:20241103T070000
END:STANDARD
BEGIN:DAYLIGHT
TZOFFSETFROM:-0600
TZOFFSETTO:-0500
TZNAME:CDT
DTSTART:20250309T080000
END:DAYLIGHT
BEGIN:STANDARD
TZOFFSETFROM:-0500
TZOFFSETTO:-0600
TZNAME:CST
DTSTART:20251102T070000
END:STANDARD
BEGIN:DAYLIGHT
TZOFFSETFROM:-0600
TZOFFSETTO:-0500
TZNAME:CDT
DTSTART:20260308T080000
END:DAYLIGHT
BEGIN:STANDARD
TZOFFSETFROM:-0500
TZOFFSETTO:-0600
TZNAME:CST
DTSTART:20261101T070000
END:STANDARD
END:VTIMEZONE
BEGIN:VEVENT
DTSTART;VALUE=DATE:20250623
DTEND;VALUE=DATE:20250624
DTSTAMP:20260423T153208
CREATED:20250522T161022Z
LAST-MODIFIED:20250522T161022Z
UID:10003335-1750636800-1750723199@www.legionmemoriallibrary.org
SUMMARY:Hydration Day
DESCRIPTION:National Hydration Day \n“I try to start drinking water as soon as my feet hit the floor in the morning.” —Mary Kay Andrews
URL:https://www.legionmemoriallibrary.org/event/hydration-day/
LOCATION:Legion Memorial Library\, 106 Iron Street\, Mellen\, WI\, 54546\, United States
GEO:46.32721;-90.658573
X-APPLE-STRUCTURED-LOCATION;VALUE=URI;X-ADDRESS=Legion Memorial Library 106 Iron Street Mellen WI 54546 United States;X-APPLE-RADIUS=500;X-TITLE=106 Iron Street:geo:-90.658573,46.32721
END:VEVENT
BEGIN:VEVENT
DTSTART;VALUE=DATE:20250622
DTEND;VALUE=DATE:20250623
DTSTAMP:20260423T153208
CREATED:20250522T160941Z
LAST-MODIFIED:20250522T160941Z
UID:10003334-1750550400-1750636799@www.legionmemoriallibrary.org
SUMMARY:Onion Rings Day
DESCRIPTION:National Onion Rings Day \n“Onion rings in the car cushions do not improve with time.” —Erma Bombeck
URL:https://www.legionmemoriallibrary.org/event/onion-rings-day/
LOCATION:Legion Memorial Library\, 106 Iron Street\, Mellen\, WI\, 54546\, United States
GEO:46.32721;-90.658573
X-APPLE-STRUCTURED-LOCATION;VALUE=URI;X-ADDRESS=Legion Memorial Library 106 Iron Street Mellen WI 54546 United States;X-APPLE-RADIUS=500;X-TITLE=106 Iron Street:geo:-90.658573,46.32721
END:VEVENT
BEGIN:VEVENT
DTSTART;VALUE=DATE:20250621
DTEND;VALUE=DATE:20250622
DTSTAMP:20260423T153208
CREATED:20250522T160844Z
LAST-MODIFIED:20250522T160844Z
UID:10003333-1750464000-1750550399@www.legionmemoriallibrary.org
SUMMARY:Music Day
DESCRIPTION:World Music Day \n“Life seems to go on without effort when I am filled with music.” —George Eliot
URL:https://www.legionmemoriallibrary.org/event/music-day/
LOCATION:Legion Memorial Library\, 106 Iron Street\, Mellen\, WI\, 54546\, United States
GEO:46.32721;-90.658573
X-APPLE-STRUCTURED-LOCATION;VALUE=URI;X-ADDRESS=Legion Memorial Library 106 Iron Street Mellen WI 54546 United States;X-APPLE-RADIUS=500;X-TITLE=106 Iron Street:geo:-90.658573,46.32721
END:VEVENT
BEGIN:VEVENT
DTSTART;TZID=America/Chicago:20250620T180000
DTEND;TZID=America/Chicago:20250620T210000
DTSTAMP:20260423T153208
CREATED:20250522T195804Z
LAST-MODIFIED:20250522T195804Z
UID:10003420-1750442400-1750453200@www.legionmemoriallibrary.org
SUMMARY:Paint Night
DESCRIPTION:We’ll be Painting with Skye to create her “Rustic American Flag”.  Register at the library and receive a supply list.
URL:https://www.legionmemoriallibrary.org/event/paint-night-8/
LOCATION:Legion Memorial Library\, 106 Iron Street\, Mellen\, WI\, 54546\, United States
GEO:46.32721;-90.658573
X-APPLE-STRUCTURED-LOCATION;VALUE=URI;X-ADDRESS=Legion Memorial Library 106 Iron Street Mellen WI 54546 United States;X-APPLE-RADIUS=500;X-TITLE=106 Iron Street:geo:-90.658573,46.32721
END:VEVENT
BEGIN:VEVENT
DTSTART;TZID=America/Chicago:20250620T123000
DTEND;TZID=America/Chicago:20250620T150000
DTSTAMP:20260423T153208
CREATED:20250522T195632Z
LAST-MODIFIED:20250522T195632Z
UID:10003419-1750422600-1750431600@www.legionmemoriallibrary.org
SUMMARY:Teen Paint Day
DESCRIPTION:Those going into 6th Grade and above are welcome to join us to create “Rustic American Flag” with the YouTube program\, Painting with Skye.  All materials needed to complete this painting will be supplied. \nSign-up to attend at the library.
URL:https://www.legionmemoriallibrary.org/event/teen-paint-day/
LOCATION:Legion Memorial Library\, 106 Iron Street\, Mellen\, WI\, 54546\, United States
GEO:46.32721;-90.658573
X-APPLE-STRUCTURED-LOCATION;VALUE=URI;X-ADDRESS=Legion Memorial Library 106 Iron Street Mellen WI 54546 United States;X-APPLE-RADIUS=500;X-TITLE=106 Iron Street:geo:-90.658573,46.32721
END:VEVENT
BEGIN:VEVENT
DTSTART;VALUE=DATE:20250620
DTEND;VALUE=DATE:20250621
DTSTAMP:20260423T153208
CREATED:20250522T160804Z
LAST-MODIFIED:20250522T160804Z
UID:10003332-1750377600-1750463999@www.legionmemoriallibrary.org
SUMMARY:Vanilla Milk Shake Day
DESCRIPTION:National Vanilla Milk Shake Day \n“I blow up fireworks all the time\, and I love making milkshakes and banana splits.” —Chris Isaak
URL:https://www.legionmemoriallibrary.org/event/vanilla-milk-shake-day/
LOCATION:Legion Memorial Library\, 106 Iron Street\, Mellen\, WI\, 54546\, United States
GEO:46.32721;-90.658573
X-APPLE-STRUCTURED-LOCATION;VALUE=URI;X-ADDRESS=Legion Memorial Library 106 Iron Street Mellen WI 54546 United States;X-APPLE-RADIUS=500;X-TITLE=106 Iron Street:geo:-90.658573,46.32721
END:VEVENT
BEGIN:VEVENT
DTSTART;TZID=America/Chicago:20250619T090000
DTEND;TZID=America/Chicago:20250619T100000
DTSTAMP:20260423T153208
CREATED:20250522T192522Z
LAST-MODIFIED:20250522T192522Z
UID:10003413-1750323600-1750327200@www.legionmemoriallibrary.org
SUMMARY:Summer Reading Storytime for 3-5 yr. olds
DESCRIPTION:Programs are planned for 3-5 yr. olds.  Those a bit older & younger are welcome\, but not all activities will be suitable for the littlest of our littles.  Programs will last about an hour. \nJune 19th\, Thursday at 9am\nCelebrating the Color Yellow\n& Making a Mini-Garden\n 
URL:https://www.legionmemoriallibrary.org/event/summer-reading-storytime-for-3-5-yr-olds/
LOCATION:Legion Memorial Library\, 106 Iron Street\, Mellen\, WI\, 54546\, United States
GEO:46.32721;-90.658573
X-APPLE-STRUCTURED-LOCATION;VALUE=URI;X-ADDRESS=Legion Memorial Library 106 Iron Street Mellen WI 54546 United States;X-APPLE-RADIUS=500;X-TITLE=106 Iron Street:geo:-90.658573,46.32721
END:VEVENT
BEGIN:VEVENT
DTSTART;VALUE=DATE:20250619
DTEND;VALUE=DATE:20250620
DTSTAMP:20260423T153208
CREATED:20250522T160722Z
LAST-MODIFIED:20250522T160722Z
UID:10003331-1750291200-1750377599@www.legionmemoriallibrary.org
SUMMARY:Tapas Day
DESCRIPTION:World Tapas Day \n“Life without tapas\, is like a heart without love.” —BKS Iyengar
URL:https://www.legionmemoriallibrary.org/event/tapas-day/
LOCATION:Legion Memorial Library\, 106 Iron Street\, Mellen\, WI\, 54546\, United States
GEO:46.32721;-90.658573
X-APPLE-STRUCTURED-LOCATION;VALUE=URI;X-ADDRESS=Legion Memorial Library 106 Iron Street Mellen WI 54546 United States;X-APPLE-RADIUS=500;X-TITLE=106 Iron Street:geo:-90.658573,46.32721
END:VEVENT
BEGIN:VEVENT
DTSTART;VALUE=DATE:20250618
DTEND;VALUE=DATE:20250619
DTSTAMP:20260423T153208
CREATED:20250522T160632Z
LAST-MODIFIED:20250522T160632Z
UID:10003330-1750204800-1750291199@www.legionmemoriallibrary.org
SUMMARY:Go Fishing Day
DESCRIPTION:National Go Fishing Day \n“There’s a fine line between fishing and just standing on the shore like an idiot.” —Steven Wright
URL:https://www.legionmemoriallibrary.org/event/go-fishing-day-2/
LOCATION:Legion Memorial Library\, 106 Iron Street\, Mellen\, WI\, 54546\, United States
GEO:46.32721;-90.658573
X-APPLE-STRUCTURED-LOCATION;VALUE=URI;X-ADDRESS=Legion Memorial Library 106 Iron Street Mellen WI 54546 United States;X-APPLE-RADIUS=500;X-TITLE=106 Iron Street:geo:-90.658573,46.32721
END:VEVENT
BEGIN:VEVENT
DTSTART;TZID=America/Chicago:20250617T103000
DTEND;TZID=America/Chicago:20250617T233000
DTSTAMP:20260423T153208
CREATED:20250522T191621Z
LAST-MODIFIED:20250522T191621Z
UID:10003407-1750156200-1750203000@www.legionmemoriallibrary.org
SUMMARY:Summer Reading Program for 1st-5th Graders
DESCRIPTION:
URL:https://www.legionmemoriallibrary.org/event/summer-reading-program-for-1st-5th-graders/
LOCATION:Legion Memorial Library\, 106 Iron Street\, Mellen\, WI\, 54546\, United States
GEO:46.32721;-90.658573
X-APPLE-STRUCTURED-LOCATION;VALUE=URI;X-ADDRESS=Legion Memorial Library 106 Iron Street Mellen WI 54546 United States;X-APPLE-RADIUS=500;X-TITLE=106 Iron Street:geo:-90.658573,46.32721
END:VEVENT
BEGIN:VEVENT
DTSTART;VALUE=DATE:20250617
DTEND;VALUE=DATE:20250618
DTSTAMP:20260423T153208
CREATED:20250522T160546Z
LAST-MODIFIED:20250522T160546Z
UID:10003329-1750118400-1750204799@www.legionmemoriallibrary.org
SUMMARY:Apple Strudel Day
DESCRIPTION:National Apple Strudel Day \n“First bake the strudel\, then sit down and ponder.” —Austrian Proverb
URL:https://www.legionmemoriallibrary.org/event/apple-strudel-day/
LOCATION:Legion Memorial Library\, 106 Iron Street\, Mellen\, WI\, 54546\, United States
GEO:46.32721;-90.658573
X-APPLE-STRUCTURED-LOCATION;VALUE=URI;X-ADDRESS=Legion Memorial Library 106 Iron Street Mellen WI 54546 United States;X-APPLE-RADIUS=500;X-TITLE=106 Iron Street:geo:-90.658573,46.32721
END:VEVENT
BEGIN:VEVENT
DTSTART;TZID=America/Chicago:20250616T180000
DTEND;TZID=America/Chicago:20250616T190000
DTSTAMP:20260423T153208
CREATED:20250522T191515Z
LAST-MODIFIED:20250522T191515Z
UID:10003406-1750096800-1750100400@www.legionmemoriallibrary.org
SUMMARY:Book Club
DESCRIPTION:This month we will be discussing “Lady Tan’s Circle of Women” by Lisa See.  We plan to meet at The Friends Place at the library.  We can move indoors if the weather is poor.  If you’d like to join us you are welcome to do so.
URL:https://www.legionmemoriallibrary.org/event/book-club-49/
LOCATION:Legion Memorial Library\, 106 Iron Street\, Mellen\, WI\, 54546\, United States
GEO:46.32721;-90.658573
X-APPLE-STRUCTURED-LOCATION;VALUE=URI;X-ADDRESS=Legion Memorial Library 106 Iron Street Mellen WI 54546 United States;X-APPLE-RADIUS=500;X-TITLE=106 Iron Street:geo:-90.658573,46.32721
END:VEVENT
BEGIN:VEVENT
DTSTART;VALUE=DATE:20250616
DTEND;VALUE=DATE:20250617
DTSTAMP:20260423T153208
CREATED:20250522T160455Z
LAST-MODIFIED:20250522T160455Z
UID:10003328-1750032000-1750118399@www.legionmemoriallibrary.org
SUMMARY:Fudge Day
DESCRIPTION:National Fudge Day \n“Always serve too much hot fudge sauce on hot fudge sundaes. It makes people overjoyed and puts them in your debt.” —Judith Olney
URL:https://www.legionmemoriallibrary.org/event/fudge-day/
LOCATION:Legion Memorial Library\, 106 Iron Street\, Mellen\, WI\, 54546\, United States
GEO:46.32721;-90.658573
X-APPLE-STRUCTURED-LOCATION;VALUE=URI;X-ADDRESS=Legion Memorial Library 106 Iron Street Mellen WI 54546 United States;X-APPLE-RADIUS=500;X-TITLE=106 Iron Street:geo:-90.658573,46.32721
END:VEVENT
BEGIN:VEVENT
DTSTART;VALUE=DATE:20250615
DTEND;VALUE=DATE:20250616
DTSTAMP:20260423T153208
CREATED:20250522T160411Z
LAST-MODIFIED:20250522T160411Z
UID:10003327-1749945600-1750031999@www.legionmemoriallibrary.org
SUMMARY:Lobster Day
DESCRIPTION:National Lobster Day \n“A lobster roll and a few glasses of fizz and I’m happy.” —Zawe Ashton
URL:https://www.legionmemoriallibrary.org/event/lobster-day-4/
LOCATION:Legion Memorial Library\, 106 Iron Street\, Mellen\, WI\, 54546\, United States
GEO:46.32721;-90.658573
X-APPLE-STRUCTURED-LOCATION;VALUE=URI;X-ADDRESS=Legion Memorial Library 106 Iron Street Mellen WI 54546 United States;X-APPLE-RADIUS=500;X-TITLE=106 Iron Street:geo:-90.658573,46.32721
END:VEVENT
BEGIN:VEVENT
DTSTART;VALUE=DATE:20250614
DTEND;VALUE=DATE:20250615
DTSTAMP:20260423T153208
CREATED:20250522T160336Z
LAST-MODIFIED:20250522T160336Z
UID:10003326-1749859200-1749945599@www.legionmemoriallibrary.org
SUMMARY:Strawberry Shortcake Day
DESCRIPTION:National Strawberry Shortcake Day \n“Anyone who imagines that all fruits ripen at the same time as the strawberries knows nothing about grapes.” —Paracelsus
URL:https://www.legionmemoriallibrary.org/event/strawberry-shortcake-day/
LOCATION:Legion Memorial Library\, 106 Iron Street\, Mellen\, WI\, 54546\, United States
GEO:46.32721;-90.658573
X-APPLE-STRUCTURED-LOCATION;VALUE=URI;X-ADDRESS=Legion Memorial Library 106 Iron Street Mellen WI 54546 United States;X-APPLE-RADIUS=500;X-TITLE=106 Iron Street:geo:-90.658573,46.32721
END:VEVENT
BEGIN:VEVENT
DTSTART;TZID=America/Chicago:20250613T090000
DTEND;TZID=America/Chicago:20250613T120000
DTSTAMP:20260423T153208
CREATED:20250522T190844Z
LAST-MODIFIED:20250522T190844Z
UID:10003405-1749805200-1749816000@www.legionmemoriallibrary.org
SUMMARY:Bellringer T-shirt Order Deadline
DESCRIPTION:You may enter the Bellringer Run online here:  https://register.chronotrack.com/r/86087 \n\n\n\n\n\n\n\n\nOnline / Reg\nThis is a yearly fundraising event for Mellen Friends of Our Wonderful Library (FOWL)\nregister.chronotrack.com\n\n\n\n\n\nPrices go up $5. for registration on June 1st.  This includes the cost of t-shirts for the t-shirt only buyers.  Paper forms for t-shirt only buyers are available at the library\, or I can email you a copy to fill out.  Just let me know how I can help you.  The last time & day to order a t-shirt is before NOON on Friday\, June 13th.  This means all who wish to receive a t-shirt; those participating in the race and those that just want a shirt.  Race registration will be open through July 4th at 8am.  Register early\, receive a shirt and save money.
URL:https://www.legionmemoriallibrary.org/event/bellringer-t-shirt-order-deadline/
LOCATION:Legion Memorial Library\, 106 Iron Street\, Mellen\, WI\, 54546\, United States
GEO:46.32721;-90.658573
X-APPLE-STRUCTURED-LOCATION;VALUE=URI;X-ADDRESS=Legion Memorial Library 106 Iron Street Mellen WI 54546 United States;X-APPLE-RADIUS=500;X-TITLE=106 Iron Street:geo:-90.658573,46.32721
END:VEVENT
BEGIN:VEVENT
DTSTART;VALUE=DATE:20250613
DTEND;VALUE=DATE:20250614
DTSTAMP:20260423T153208
CREATED:20250522T160257Z
LAST-MODIFIED:20250522T160257Z
UID:10003325-1749772800-1749859199@www.legionmemoriallibrary.org
SUMMARY:Cucumber Day
DESCRIPTION:National Cucumber Day \n“It’s funny how cucumber water can taste so much better than pickle juice\, even though they come from the same source.” —Ellen DeGeneres
URL:https://www.legionmemoriallibrary.org/event/cucumber-day/
LOCATION:Legion Memorial Library\, 106 Iron Street\, Mellen\, WI\, 54546\, United States
GEO:46.32721;-90.658573
X-APPLE-STRUCTURED-LOCATION;VALUE=URI;X-ADDRESS=Legion Memorial Library 106 Iron Street Mellen WI 54546 United States;X-APPLE-RADIUS=500;X-TITLE=106 Iron Street:geo:-90.658573,46.32721
END:VEVENT
BEGIN:VEVENT
DTSTART;VALUE=DATE:20250612
DTEND;VALUE=DATE:20250613
DTSTAMP:20260423T153208
CREATED:20250522T160200Z
LAST-MODIFIED:20250522T160200Z
UID:10003324-1749686400-1749772799@www.legionmemoriallibrary.org
SUMMARY:Jerky Day
DESCRIPTION:National Jerky Day \n“You might be a redneck if you think that beef jerky and moon pies are two of the major food groups.” —Jeff Foxworthy
URL:https://www.legionmemoriallibrary.org/event/jerky-day/
LOCATION:Legion Memorial Library\, 106 Iron Street\, Mellen\, WI\, 54546\, United States
GEO:46.32721;-90.658573
X-APPLE-STRUCTURED-LOCATION;VALUE=URI;X-ADDRESS=Legion Memorial Library 106 Iron Street Mellen WI 54546 United States;X-APPLE-RADIUS=500;X-TITLE=106 Iron Street:geo:-90.658573,46.32721
END:VEVENT
BEGIN:VEVENT
DTSTART;VALUE=DATE:20250611
DTEND;VALUE=DATE:20250612
DTSTAMP:20260423T153208
CREATED:20250522T160116Z
LAST-MODIFIED:20250522T160116Z
UID:10003323-1749600000-1749686399@www.legionmemoriallibrary.org
SUMMARY:Corn on the Cob Day
DESCRIPTION:National Corn on the Cob Day \n“I have a love affair with tomatoes and corn. I remember them from childhood. I only had them in the summer. They were extraordinary.” —Alice Waters
URL:https://www.legionmemoriallibrary.org/event/corn-on-the-cob-day/
LOCATION:Legion Memorial Library\, 106 Iron Street\, Mellen\, WI\, 54546\, United States
GEO:46.32721;-90.658573
X-APPLE-STRUCTURED-LOCATION;VALUE=URI;X-ADDRESS=Legion Memorial Library 106 Iron Street Mellen WI 54546 United States;X-APPLE-RADIUS=500;X-TITLE=106 Iron Street:geo:-90.658573,46.32721
END:VEVENT
BEGIN:VEVENT
DTSTART;VALUE=DATE:20250610
DTEND;VALUE=DATE:20250611
DTSTAMP:20260423T153208
CREATED:20250522T160038Z
LAST-MODIFIED:20250522T160038Z
UID:10003322-1749513600-1749599999@www.legionmemoriallibrary.org
SUMMARY:Iced Tea Day
DESCRIPTION:National Iced Tea Day \n“Iced tea is too pure and natural a creation not to have been invented as soon as tea\, ice\, and hot weather crossed paths.” —John Egerton
URL:https://www.legionmemoriallibrary.org/event/iced-tea-day/
LOCATION:Legion Memorial Library\, 106 Iron Street\, Mellen\, WI\, 54546\, United States
GEO:46.32721;-90.658573
X-APPLE-STRUCTURED-LOCATION;VALUE=URI;X-ADDRESS=Legion Memorial Library 106 Iron Street Mellen WI 54546 United States;X-APPLE-RADIUS=500;X-TITLE=106 Iron Street:geo:-90.658573,46.32721
END:VEVENT
BEGIN:VEVENT
DTSTART;VALUE=DATE:20250609
DTEND;VALUE=DATE:20250610
DTSTAMP:20260423T153208
CREATED:20250522T155958Z
LAST-MODIFIED:20250522T155958Z
UID:10003321-1749427200-1749513599@www.legionmemoriallibrary.org
SUMMARY:Strawberry-Rhubarb Pie Day
DESCRIPTION:National Strawberry-Rhubarb Pie Day \n“I don’t want to spend my life not having good food going into my pie hole. That hole was made for pies.” —Paula Deen
URL:https://www.legionmemoriallibrary.org/event/strawberry-rhubarb-pie-day/
LOCATION:Legion Memorial Library\, 106 Iron Street\, Mellen\, WI\, 54546\, United States
GEO:46.32721;-90.658573
X-APPLE-STRUCTURED-LOCATION;VALUE=URI;X-ADDRESS=Legion Memorial Library 106 Iron Street Mellen WI 54546 United States;X-APPLE-RADIUS=500;X-TITLE=106 Iron Street:geo:-90.658573,46.32721
END:VEVENT
BEGIN:VEVENT
DTSTART;VALUE=DATE:20250608
DTEND;VALUE=DATE:20250609
DTSTAMP:20260423T153208
CREATED:20250522T155859Z
LAST-MODIFIED:20250522T155859Z
UID:10003320-1749340800-1749427199@www.legionmemoriallibrary.org
SUMMARY:Best Friends Day
DESCRIPTION:National Best Friends Day \n“Friendship improves happiness\, and abates misery\, by doubling our joys\, and dividing our grief.” —Marcus Tullius Cicero
URL:https://www.legionmemoriallibrary.org/event/best-friends-day-2/
LOCATION:Legion Memorial Library\, 106 Iron Street\, Mellen\, WI\, 54546\, United States
GEO:46.32721;-90.658573
X-APPLE-STRUCTURED-LOCATION;VALUE=URI;X-ADDRESS=Legion Memorial Library 106 Iron Street Mellen WI 54546 United States;X-APPLE-RADIUS=500;X-TITLE=106 Iron Street:geo:-90.658573,46.32721
END:VEVENT
BEGIN:VEVENT
DTSTART;VALUE=DATE:20250607
DTEND;VALUE=DATE:20250608
DTSTAMP:20260423T153208
CREATED:20250522T155825Z
LAST-MODIFIED:20250522T155825Z
UID:10003319-1749254400-1749340799@www.legionmemoriallibrary.org
SUMMARY:Chocolate Ice Cream Day
DESCRIPTION:National Chocolate Ice Cream Day \n“When I have bad days\, I just eat lots of chocolate ice cream and dance to the Lion King soundtrack. It’s really odd\, but it’s true.” —Blake Lively
URL:https://www.legionmemoriallibrary.org/event/chocolate-ice-cream-day/
LOCATION:Legion Memorial Library\, 106 Iron Street\, Mellen\, WI\, 54546\, United States
GEO:46.32721;-90.658573
X-APPLE-STRUCTURED-LOCATION;VALUE=URI;X-ADDRESS=Legion Memorial Library 106 Iron Street Mellen WI 54546 United States;X-APPLE-RADIUS=500;X-TITLE=106 Iron Street:geo:-90.658573,46.32721
END:VEVENT
BEGIN:VEVENT
DTSTART;VALUE=DATE:20250606
DTEND;VALUE=DATE:20250607
DTSTAMP:20260423T153208
CREATED:20250522T190527Z
LAST-MODIFIED:20250522T190527Z
UID:10003404-1749168000-1749254399@www.legionmemoriallibrary.org
SUMMARY:Bellringer T-shirt Sponsorship Deadline
DESCRIPTION:If you would like to be a sponsor of the race the cost is $100.  Your business or family name will appear on the back of the 2025 Bellringer t-shirt.  Thank you for your consideration and support of the Friends of the Library.
URL:https://www.legionmemoriallibrary.org/event/bellringer-t-shirt-sponsorship-deadline/
LOCATION:Legion Memorial Library\, 106 Iron Street\, Mellen\, WI\, 54546\, United States
GEO:46.32721;-90.658573
X-APPLE-STRUCTURED-LOCATION;VALUE=URI;X-ADDRESS=Legion Memorial Library 106 Iron Street Mellen WI 54546 United States;X-APPLE-RADIUS=500;X-TITLE=106 Iron Street:geo:-90.658573,46.32721
END:VEVENT
BEGIN:VEVENT
DTSTART;VALUE=DATE:20250606
DTEND;VALUE=DATE:20250607
DTSTAMP:20260423T153208
CREATED:20250522T155727Z
LAST-MODIFIED:20250522T155727Z
UID:10003318-1749168000-1749254399@www.legionmemoriallibrary.org
SUMMARY:Drive-in Movie Day
DESCRIPTION:National Drive-in Movie Day \n“When I was a kid\, the only way I saw movies was from the back seat of my family’s car at the drive-in.” —Forest Whitaker
URL:https://www.legionmemoriallibrary.org/event/drive-in-movie-day-2/
LOCATION:Legion Memorial Library\, 106 Iron Street\, Mellen\, WI\, 54546\, United States
GEO:46.32721;-90.658573
X-APPLE-STRUCTURED-LOCATION;VALUE=URI;X-ADDRESS=Legion Memorial Library 106 Iron Street Mellen WI 54546 United States;X-APPLE-RADIUS=500;X-TITLE=106 Iron Street:geo:-90.658573,46.32721
END:VEVENT
BEGIN:VEVENT
DTSTART;TZID=America/Chicago:20250605T170000
DTEND;TZID=America/Chicago:20250605T180000
DTSTAMP:20260423T153208
CREATED:20250522T190157Z
LAST-MODIFIED:20250522T190157Z
UID:10003403-1749142800-1749146400@www.legionmemoriallibrary.org
SUMMARY:Friends Meeting
DESCRIPTION:
URL:https://www.legionmemoriallibrary.org/event/friends-meeting-13/
LOCATION:Legion Memorial Library\, 106 Iron Street\, Mellen\, WI\, 54546\, United States
GEO:46.32721;-90.658573
X-APPLE-STRUCTURED-LOCATION;VALUE=URI;X-ADDRESS=Legion Memorial Library 106 Iron Street Mellen WI 54546 United States;X-APPLE-RADIUS=500;X-TITLE=106 Iron Street:geo:-90.658573,46.32721
END:VEVENT
BEGIN:VEVENT
DTSTART;TZID=America/Chicago:20250604T083000
DTEND;TZID=America/Chicago:20250604T093000
DTSTAMP:20260423T153208
CREATED:20250522T175822Z
LAST-MODIFIED:20250630T182048Z
UID:10003345-1749025800-1749029400@www.legionmemoriallibrary.org
SUMMARY:Asahi Nordic Exercise
DESCRIPTION:ASAHI-A Simple And Healthy Idea:   This exercise practice is for all ages and all abilities.  No special equipment needed.  Just come in comfortable clothes you can move in.  Movements are completed while standing\, although if you’d like to participate seated\, you are welcome to do so.  We’ll be meeting outdoors in The Friends Place at the library.  If the weather is poor or the bugs are too much we will move indoors.
URL:https://www.legionmemoriallibrary.org/event/asahi-nordic-exercise-42/2025-06-04/2/
LOCATION:Legion Memorial Library\, 106 Iron Street\, Mellen\, WI\, 54546\, United States
GEO:46.32721;-90.658573
X-APPLE-STRUCTURED-LOCATION;VALUE=URI;X-ADDRESS=Legion Memorial Library 106 Iron Street Mellen WI 54546 United States;X-APPLE-RADIUS=500;X-TITLE=106 Iron Street:geo:-90.658573,46.32721
END:VEVENT
BEGIN:VEVENT
DTSTART;TZID=America/Chicago:20250604T080000
DTEND;TZID=America/Chicago:20250604T170000
DTSTAMP:20260423T153208
CREATED:20250522T175822Z
LAST-MODIFIED:20250630T182048Z
UID:10003555-1749024000-1749056400@www.legionmemoriallibrary.org
SUMMARY:Asahi Nordic Exercise
DESCRIPTION:ASAHI-A Simple And Healthy Idea:   This exercise practice is for all ages and all abilities.  No special equipment needed.  Just come in comfortable clothes you can move in.  Movements are completed while standing\, although if you’d like to participate seated\, you are welcome to do so.  We’ll be meeting outdoors in The Friends Place at the library.  If the weather is poor or the bugs are too much we will move indoors.
URL:https://www.legionmemoriallibrary.org/event/asahi-nordic-exercise-42/2025-06-04/1/
LOCATION:Legion Memorial Library\, 106 Iron Street\, Mellen\, WI\, 54546\, United States
GEO:46.32721;-90.658573
X-APPLE-STRUCTURED-LOCATION;VALUE=URI;X-ADDRESS=Legion Memorial Library 106 Iron Street Mellen WI 54546 United States;X-APPLE-RADIUS=500;X-TITLE=106 Iron Street:geo:-90.658573,46.32721
END:VEVENT
BEGIN:VEVENT
DTSTART;VALUE=DATE:20250604
DTEND;VALUE=DATE:20250605
DTSTAMP:20260423T153208
CREATED:20250522T155602Z
LAST-MODIFIED:20250522T155602Z
UID:10003317-1748995200-1749081599@www.legionmemoriallibrary.org
SUMMARY:Cheese Day
DESCRIPTION:National Cheese Day \n“The poets have been mysteriously silent on the subject of cheese.” —Gilbert K. Chesterton
URL:https://www.legionmemoriallibrary.org/event/cheese-day/
LOCATION:Legion Memorial Library\, 106 Iron Street\, Mellen\, WI\, 54546\, United States
GEO:46.32721;-90.658573
X-APPLE-STRUCTURED-LOCATION;VALUE=URI;X-ADDRESS=Legion Memorial Library 106 Iron Street Mellen WI 54546 United States;X-APPLE-RADIUS=500;X-TITLE=106 Iron Street:geo:-90.658573,46.32721
END:VEVENT
BEGIN:VEVENT
DTSTART;VALUE=DATE:20250603
DTEND;VALUE=DATE:20250604
DTSTAMP:20260423T153208
CREATED:20250522T155528Z
LAST-MODIFIED:20250522T155528Z
UID:10003316-1748908800-1748995199@www.legionmemoriallibrary.org
SUMMARY:Bicycle Day
DESCRIPTION:National Bicycle Day \n“Life is like a ten-speed bicycle. Most of us have gears we never use.” —Charles M. Schulz
URL:https://www.legionmemoriallibrary.org/event/bicycle-day/
LOCATION:Legion Memorial Library\, 106 Iron Street\, Mellen\, WI\, 54546\, United States
GEO:46.32721;-90.658573
X-APPLE-STRUCTURED-LOCATION;VALUE=URI;X-ADDRESS=Legion Memorial Library 106 Iron Street Mellen WI 54546 United States;X-APPLE-RADIUS=500;X-TITLE=106 Iron Street:geo:-90.658573,46.32721
END:VEVENT
END:VCALENDAR