BEGIN:VCALENDAR
VERSION:2.0
PRODID:-//Legion Memorial Library - ECPv6.15.20//NONSGML v1.0//EN
CALSCALE:GREGORIAN
METHOD:PUBLISH
X-WR-CALNAME:Legion Memorial Library
X-ORIGINAL-URL:https://www.legionmemoriallibrary.org
X-WR-CALDESC:Events for Legion Memorial Library
REFRESH-INTERVAL;VALUE=DURATION:PT1H
X-Robots-Tag:noindex
X-PUBLISHED-TTL:PT1H
BEGIN:VTIMEZONE
TZID:America/Chicago
BEGIN:DAYLIGHT
TZOFFSETFROM:-0600
TZOFFSETTO:-0500
TZNAME:CDT
DTSTART:20240310T080000
END:DAYLIGHT
BEGIN:STANDARD
TZOFFSETFROM:-0500
TZOFFSETTO:-0600
TZNAME:CST
DTSTART:20241103T070000
END:STANDARD
BEGIN:DAYLIGHT
TZOFFSETFROM:-0600
TZOFFSETTO:-0500
TZNAME:CDT
DTSTART:20250309T080000
END:DAYLIGHT
BEGIN:STANDARD
TZOFFSETFROM:-0500
TZOFFSETTO:-0600
TZNAME:CST
DTSTART:20251102T070000
END:STANDARD
BEGIN:DAYLIGHT
TZOFFSETFROM:-0600
TZOFFSETTO:-0500
TZNAME:CDT
DTSTART:20260308T080000
END:DAYLIGHT
BEGIN:STANDARD
TZOFFSETFROM:-0500
TZOFFSETTO:-0600
TZNAME:CST
DTSTART:20261101T070000
END:STANDARD
END:VTIMEZONE
BEGIN:VEVENT
DTSTART;TZID=America/Chicago:20250710T090000
DTEND;TZID=America/Chicago:20250710T100000
DTSTAMP:20260423T063448
CREATED:20250522T192928Z
LAST-MODIFIED:20250522T192928Z
UID:10003416-1752138000-1752141600@www.legionmemoriallibrary.org
SUMMARY:Summer Reading Storytime for 3-5 yr. olds
DESCRIPTION:Programs are planned for 3-5 yr. olds.  Those a bit older & younger are welcome\, but not all activities will be suitable for the littlest of our littles.  Programs will last about an hour. \nJuly 10th\, Thursday at 9am\nCelebrating the Color Purple\n& Making an I Spy Bottle
URL:https://www.legionmemoriallibrary.org/event/summer-reading-storytime-for-3-5-yr-olds-4/
LOCATION:Legion Memorial Library\, 106 Iron Street\, Mellen\, WI\, 54546\, United States
GEO:46.32721;-90.658573
X-APPLE-STRUCTURED-LOCATION;VALUE=URI;X-ADDRESS=Legion Memorial Library 106 Iron Street Mellen WI 54546 United States;X-APPLE-RADIUS=500;X-TITLE=106 Iron Street:geo:-90.658573,46.32721
END:VEVENT
BEGIN:VEVENT
DTSTART;VALUE=DATE:20250710
DTEND;VALUE=DATE:20250711
DTSTAMP:20260423T063448
CREATED:20250630T203306Z
LAST-MODIFIED:20250630T203306Z
UID:10003579-1752105600-1752191999@www.legionmemoriallibrary.org
SUMMARY:Pick Blueberries Day
DESCRIPTION:National Pick Blueberries Day \n“You’ll never regret eating blueberries or working up a sweat.” —Jacquelyn Mitchard
URL:https://www.legionmemoriallibrary.org/event/pick-blueberries-day-2/
LOCATION:Legion Memorial Library\, 106 Iron Street\, Mellen\, WI\, 54546\, United States
GEO:46.32721;-90.658573
X-APPLE-STRUCTURED-LOCATION;VALUE=URI;X-ADDRESS=Legion Memorial Library 106 Iron Street Mellen WI 54546 United States;X-APPLE-RADIUS=500;X-TITLE=106 Iron Street:geo:-90.658573,46.32721
END:VEVENT
BEGIN:VEVENT
DTSTART;TZID=America/Chicago:20250709T083000
DTEND;TZID=America/Chicago:20250709T093000
DTSTAMP:20260423T063448
CREATED:20250630T182355Z
LAST-MODIFIED:20250630T182355Z
UID:10003557-1752049800-1752053400@www.legionmemoriallibrary.org
SUMMARY:Asahi Nordic Exercise
DESCRIPTION:ASAHI-A Simple And Healthy Idea:   This exercise practice is for all ages and all abilities.  No special equipment needed.  Just come in comfortable clothes you can move in.  Movements are completed while standing\, although if you’d like to participate seated\, you are welcome to do so.  We’ll be meeting outdoors in The Friends Place at the library.  If the weather is poor or the bugs are too much we will move indoors.
URL:https://www.legionmemoriallibrary.org/event/asahi-nordic-exercise-44/
LOCATION:Legion Memorial Library\, 106 Iron Street\, Mellen\, WI\, 54546\, United States
GEO:46.32721;-90.658573
X-APPLE-STRUCTURED-LOCATION;VALUE=URI;X-ADDRESS=Legion Memorial Library 106 Iron Street Mellen WI 54546 United States;X-APPLE-RADIUS=500;X-TITLE=106 Iron Street:geo:-90.658573,46.32721
END:VEVENT
BEGIN:VEVENT
DTSTART;VALUE=DATE:20250709
DTEND;VALUE=DATE:20250710
DTSTAMP:20260423T063448
CREATED:20250630T203229Z
LAST-MODIFIED:20250630T203229Z
UID:10003578-1752019200-1752105599@www.legionmemoriallibrary.org
SUMMARY:Sugar Cookie Day
DESCRIPTION:National Sugar Cookie Day \n“Sometimes no matter how hard you try\, no matter how good you are\, you still end up as a sugar cookie.” —William H. McRaven\, Author of ‘Make Your Bed’
URL:https://www.legionmemoriallibrary.org/event/sugar-cookie-day-4/
LOCATION:Legion Memorial Library\, 106 Iron Street\, Mellen\, WI\, 54546\, United States
GEO:46.32721;-90.658573
X-APPLE-STRUCTURED-LOCATION;VALUE=URI;X-ADDRESS=Legion Memorial Library 106 Iron Street Mellen WI 54546 United States;X-APPLE-RADIUS=500;X-TITLE=106 Iron Street:geo:-90.658573,46.32721
END:VEVENT
BEGIN:VEVENT
DTSTART;TZID=America/Chicago:20250708T103000
DTEND;TZID=America/Chicago:20250708T113000
DTSTAMP:20260423T063448
CREATED:20250522T192004Z
LAST-MODIFIED:20250522T192004Z
UID:10003410-1751970600-1751974200@www.legionmemoriallibrary.org
SUMMARY:Summer Reading Program for 1st-5th Graders
DESCRIPTION:
URL:https://www.legionmemoriallibrary.org/event/summer-reading-program-for-1st-5th-graders-4/
LOCATION:Legion Memorial Library\, 106 Iron Street\, Mellen\, WI\, 54546\, United States
GEO:46.32721;-90.658573
X-APPLE-STRUCTURED-LOCATION;VALUE=URI;X-ADDRESS=Legion Memorial Library 106 Iron Street Mellen WI 54546 United States;X-APPLE-RADIUS=500;X-TITLE=106 Iron Street:geo:-90.658573,46.32721
END:VEVENT
BEGIN:VEVENT
DTSTART;VALUE=DATE:20250708
DTEND;VALUE=DATE:20250709
DTSTAMP:20260423T063448
CREATED:20250630T203155Z
LAST-MODIFIED:20250630T203155Z
UID:10003577-1751932800-1752019199@www.legionmemoriallibrary.org
SUMMARY:Blueberry Day and National Raspberry Day
DESCRIPTION:National Blueberry Day and National Raspberry Day \n“I love berries\, Strawberries\, blueberries\, raspberries\, blackberries\, anything with an ‘errie’ in it!” —Jordin Sparks
URL:https://www.legionmemoriallibrary.org/event/blueberry-day-and-national-raspberry-day/
LOCATION:Legion Memorial Library\, 106 Iron Street\, Mellen\, WI\, 54546\, United States
GEO:46.32721;-90.658573
X-APPLE-STRUCTURED-LOCATION;VALUE=URI;X-ADDRESS=Legion Memorial Library 106 Iron Street Mellen WI 54546 United States;X-APPLE-RADIUS=500;X-TITLE=106 Iron Street:geo:-90.658573,46.32721
END:VEVENT
BEGIN:VEVENT
DTSTART;VALUE=DATE:20250707
DTEND;VALUE=DATE:20250708
DTSTAMP:20260423T063448
CREATED:20250630T203125Z
LAST-MODIFIED:20250630T203125Z
UID:10003576-1751846400-1751932799@www.legionmemoriallibrary.org
SUMMARY:Macaroni Day
DESCRIPTION:National Macaroni Day \n“Whatever makes a child want to glue macaroni on a paper plate and paint the assemblage and see it on the refrigerator – that has always been strong in me.” –Robert Pinsky
URL:https://www.legionmemoriallibrary.org/event/macaroni-day-2/
LOCATION:Legion Memorial Library\, 106 Iron Street\, Mellen\, WI\, 54546\, United States
GEO:46.32721;-90.658573
X-APPLE-STRUCTURED-LOCATION;VALUE=URI;X-ADDRESS=Legion Memorial Library 106 Iron Street Mellen WI 54546 United States;X-APPLE-RADIUS=500;X-TITLE=106 Iron Street:geo:-90.658573,46.32721
END:VEVENT
BEGIN:VEVENT
DTSTART;VALUE=DATE:20250706
DTEND;VALUE=DATE:20250707
DTSTAMP:20260423T063448
CREATED:20250630T203047Z
LAST-MODIFIED:20250630T203047Z
UID:10003575-1751760000-1751846399@www.legionmemoriallibrary.org
SUMMARY:Fried Chicken Day
DESCRIPTION:National Fried Chicken Day \n“Everyone loves fried chicken. Don’t ever make it. Ever. Buy it from a place that makes good fried chicken.” —Nora Ephron
URL:https://www.legionmemoriallibrary.org/event/fried-chicken-day-4/
LOCATION:Legion Memorial Library\, 106 Iron Street\, Mellen\, WI\, 54546\, United States
GEO:46.32721;-90.658573
X-APPLE-STRUCTURED-LOCATION;VALUE=URI;X-ADDRESS=Legion Memorial Library 106 Iron Street Mellen WI 54546 United States;X-APPLE-RADIUS=500;X-TITLE=106 Iron Street:geo:-90.658573,46.32721
END:VEVENT
BEGIN:VEVENT
DTSTART;TZID=America/Chicago:20250705T104500
DTEND;TZID=America/Chicago:20250705T231500
DTSTAMP:20260423T063448
CREATED:20250630T191409Z
LAST-MODIFIED:20250630T191649Z
UID:10003566-1751712300-1751757300@www.legionmemoriallibrary.org
SUMMARY:Friends Summer Raffle (Following Frog Jump)
DESCRIPTION:PLEASE NOTE the time given is an approximation.  The Friends of the Library’s Summer Raffle winners will be drawn for following their 51st Annual Frog Jump on Saturday\, July 5th at Gilman Park.  The Frog Jump begins at 10am.  It is so well organized that it is usually less than an hour long.  You need not be present to win the raffle.  The prizes this year are $500\, $300\, $100\, and $100.  We sold out of tickets last year and hope to do so again.  You may purchase tickets from the Library during our open hours.  They are $5 each or 5 for $20.  Thank you for supporting our Friends of the Mellen Library!
URL:https://www.legionmemoriallibrary.org/event/friends-summer-raffle-following-frog-jump/
LOCATION:Legion Memorial Library\, 106 Iron Street\, Mellen\, WI\, 54546\, United States
GEO:46.32721;-90.658573
X-APPLE-STRUCTURED-LOCATION;VALUE=URI;X-ADDRESS=Legion Memorial Library 106 Iron Street Mellen WI 54546 United States;X-APPLE-RADIUS=500;X-TITLE=106 Iron Street:geo:-90.658573,46.32721
END:VEVENT
BEGIN:VEVENT
DTSTART;TZID=America/Chicago:20250705T100000
DTEND;TZID=America/Chicago:20250705T110000
DTSTAMP:20260423T063448
CREATED:20250630T190226Z
LAST-MODIFIED:20250630T190226Z
UID:10003565-1751709600-1751713200@www.legionmemoriallibrary.org
SUMMARY:Frog Jump
DESCRIPTION:The Frog Jump will be held on Saturday\, July 5th at Gilman Park at 10am.  This is a fun event for family & friends.  The frogs each get three hops.  Each hop is marked by a pebble.  The space between is measured and the longest hop wins the day.  The Friends of the Library’s Summer Raffle will follow the Frog Jump at Gilman Park.
URL:https://www.legionmemoriallibrary.org/event/frog-jump-2/
LOCATION:Legion Memorial Library\, 106 Iron Street\, Mellen\, WI\, 54546\, United States
GEO:46.32721;-90.658573
X-APPLE-STRUCTURED-LOCATION;VALUE=URI;X-ADDRESS=Legion Memorial Library 106 Iron Street Mellen WI 54546 United States;X-APPLE-RADIUS=500;X-TITLE=106 Iron Street:geo:-90.658573,46.32721
END:VEVENT
BEGIN:VEVENT
DTSTART;VALUE=DATE:20250705
DTEND;VALUE=DATE:20250706
DTSTAMP:20260423T063448
CREATED:20250630T203003Z
LAST-MODIFIED:20250630T203003Z
UID:10003574-1751673600-1751759999@www.legionmemoriallibrary.org
SUMMARY:Jam Day
DESCRIPTION:National Jam Day \n“Once it’s jam\, it can’t be strawberries anymore.” —Marilyn Wallace
URL:https://www.legionmemoriallibrary.org/event/jam-day-2/
LOCATION:Legion Memorial Library\, 106 Iron Street\, Mellen\, WI\, 54546\, United States
GEO:46.32721;-90.658573
X-APPLE-STRUCTURED-LOCATION;VALUE=URI;X-ADDRESS=Legion Memorial Library 106 Iron Street Mellen WI 54546 United States;X-APPLE-RADIUS=500;X-TITLE=106 Iron Street:geo:-90.658573,46.32721
END:VEVENT
BEGIN:VEVENT
DTSTART;VALUE=DATE:20250705
DTEND;VALUE=DATE:20250706
DTSTAMP:20260423T063448
CREATED:20250630T185359Z
LAST-MODIFIED:20250630T185359Z
UID:10003564-1751673600-1751759999@www.legionmemoriallibrary.org
SUMMARY:Library Closed
DESCRIPTION:
URL:https://www.legionmemoriallibrary.org/event/library-closed-48/
LOCATION:Legion Memorial Library\, 106 Iron Street\, Mellen\, WI\, 54546\, United States
GEO:46.32721;-90.658573
X-APPLE-STRUCTURED-LOCATION;VALUE=URI;X-ADDRESS=Legion Memorial Library 106 Iron Street Mellen WI 54546 United States;X-APPLE-RADIUS=500;X-TITLE=106 Iron Street:geo:-90.658573,46.32721
END:VEVENT
BEGIN:VEVENT
DTSTART;TZID=America/Chicago:20250704T083000
DTEND;TZID=America/Chicago:20250704T093000
DTSTAMP:20260423T063448
CREATED:20250630T185321Z
LAST-MODIFIED:20250630T185321Z
UID:10003562-1751617800-1751621400@www.legionmemoriallibrary.org
SUMMARY:Bellringer Run
DESCRIPTION:The Bellringer will begin at 8:30am with the ringing of the City Hall bell.  The start line is near the Mellen Post Office on Bennett and the finish line is near Northern State Bank on Bennett. Thank you to our sponsors\, volunteers\, and runners!
URL:https://www.legionmemoriallibrary.org/event/bellringer-run/
LOCATION:Legion Memorial Library\, 106 Iron Street\, Mellen\, WI\, 54546\, United States
GEO:46.32721;-90.658573
X-APPLE-STRUCTURED-LOCATION;VALUE=URI;X-ADDRESS=Legion Memorial Library 106 Iron Street Mellen WI 54546 United States;X-APPLE-RADIUS=500;X-TITLE=106 Iron Street:geo:-90.658573,46.32721
END:VEVENT
BEGIN:VEVENT
DTSTART;TZID=America/Chicago:20250704T070000
DTEND;TZID=America/Chicago:20250704T080000
DTSTAMP:20260423T063448
CREATED:20250630T185056Z
LAST-MODIFIED:20250630T185056Z
UID:10003561-1751612400-1751616000@www.legionmemoriallibrary.org
SUMMARY:Race Day Registration
DESCRIPTION:Stop by the library at 106 Iron Street\, Mellen to pick up your race packets between 7-8am on July 4th.  Additional registrations will be taken during this time.  The Bellringer will begin at 8:30am with the ringing of the City Hall bell.  The start line is near the Mellen Post Office on Bennett and ending near the Northern State Bank on Bennett. Thank you to our sponsors\, volunteers\, and runners!
URL:https://www.legionmemoriallibrary.org/event/race-day-registration/
LOCATION:Legion Memorial Library\, 106 Iron Street\, Mellen\, WI\, 54546\, United States
GEO:46.32721;-90.658573
X-APPLE-STRUCTURED-LOCATION;VALUE=URI;X-ADDRESS=Legion Memorial Library 106 Iron Street Mellen WI 54546 United States;X-APPLE-RADIUS=500;X-TITLE=106 Iron Street:geo:-90.658573,46.32721
END:VEVENT
BEGIN:VEVENT
DTSTART;VALUE=DATE:20250704
DTEND;VALUE=DATE:20250705
DTSTAMP:20260423T063448
CREATED:20250630T202932Z
LAST-MODIFIED:20250630T202932Z
UID:10003573-1751587200-1751673599@www.legionmemoriallibrary.org
SUMMARY:Barbecued Spareribs Day
DESCRIPTION:National Barbecued Spareribs Day \n“Barbecue is a celebration of fire and smoke\, and the flavors they bring to the table.” —Chris Lilly
URL:https://www.legionmemoriallibrary.org/event/barbecued-spareribs-day/
LOCATION:Legion Memorial Library\, 106 Iron Street\, Mellen\, WI\, 54546\, United States
GEO:46.32721;-90.658573
X-APPLE-STRUCTURED-LOCATION;VALUE=URI;X-ADDRESS=Legion Memorial Library 106 Iron Street Mellen WI 54546 United States;X-APPLE-RADIUS=500;X-TITLE=106 Iron Street:geo:-90.658573,46.32721
END:VEVENT
BEGIN:VEVENT
DTSTART;VALUE=DATE:20250704
DTEND;VALUE=DATE:20250705
DTSTAMP:20260423T063448
CREATED:20250630T185341Z
LAST-MODIFIED:20250630T185341Z
UID:10003563-1751587200-1751673599@www.legionmemoriallibrary.org
SUMMARY:Library Closed
DESCRIPTION:
URL:https://www.legionmemoriallibrary.org/event/library-closed-47/
LOCATION:Legion Memorial Library\, 106 Iron Street\, Mellen\, WI\, 54546\, United States
GEO:46.32721;-90.658573
X-APPLE-STRUCTURED-LOCATION;VALUE=URI;X-ADDRESS=Legion Memorial Library 106 Iron Street Mellen WI 54546 United States;X-APPLE-RADIUS=500;X-TITLE=106 Iron Street:geo:-90.658573,46.32721
END:VEVENT
BEGIN:VEVENT
DTSTART;TZID=America/Chicago:20250703T160000
DTEND;TZID=America/Chicago:20250703T180000
DTSTAMP:20260423T063448
CREATED:20250630T184912Z
LAST-MODIFIED:20250630T184912Z
UID:10003560-1751558400-1751565600@www.legionmemoriallibrary.org
SUMMARY:Bellringer Early Bird Pick-up & Registration
DESCRIPTION:Stop by the library at 106 Iron Street\, Mellen to pick up your race packets between 4-6pm on Thursday\, July 3rd.  Additional registrations will be taken during this time and on Friday\, July 4th from 7-8am.  The Bellringer will begin at 8:30am with the ringing of the City Hall bell.  The start line is near the Mellen Post Office on Bennett and ending near the Northern State Bank on Bennett. Thank you to our sponsors\, volunteers\, and runners!
URL:https://www.legionmemoriallibrary.org/event/bellringer-early-bird-pick-up-registration/
LOCATION:Legion Memorial Library\, 106 Iron Street\, Mellen\, WI\, 54546\, United States
GEO:46.32721;-90.658573
X-APPLE-STRUCTURED-LOCATION;VALUE=URI;X-ADDRESS=Legion Memorial Library 106 Iron Street Mellen WI 54546 United States;X-APPLE-RADIUS=500;X-TITLE=106 Iron Street:geo:-90.658573,46.32721
END:VEVENT
BEGIN:VEVENT
DTSTART;TZID=America/Chicago:20250703T090000
DTEND;TZID=America/Chicago:20250703T100000
DTSTAMP:20260423T063448
CREATED:20250522T192822Z
LAST-MODIFIED:20250522T192822Z
UID:10003415-1751533200-1751536800@www.legionmemoriallibrary.org
SUMMARY:Summer Reading Storytime for 3-5 yr. olds
DESCRIPTION:Programs are planned for 3-5 yr. olds.  Those a bit older & younger are welcome\, but not all activities will be suitable for the littlest of our littles.  Programs will last about an hour. \nJuly 3rd\, Thursday at 9am\nCelebrating Red\, White\, and Blue & Making Play Clay
URL:https://www.legionmemoriallibrary.org/event/summer-reading-storytime-for-3-5-yr-olds-3/
LOCATION:Legion Memorial Library\, 106 Iron Street\, Mellen\, WI\, 54546\, United States
GEO:46.32721;-90.658573
X-APPLE-STRUCTURED-LOCATION;VALUE=URI;X-ADDRESS=Legion Memorial Library 106 Iron Street Mellen WI 54546 United States;X-APPLE-RADIUS=500;X-TITLE=106 Iron Street:geo:-90.658573,46.32721
END:VEVENT
BEGIN:VEVENT
DTSTART;VALUE=DATE:20250703
DTEND;VALUE=DATE:20250704
DTSTAMP:20260423T063448
CREATED:20250618T200254Z
LAST-MODIFIED:20250618T200254Z
UID:10003553-1751500800-1751587199@www.legionmemoriallibrary.org
SUMMARY:Eat Your Beans Day
DESCRIPTION:National Eat Your Beans Day \n“My two great treats in life are baked beans and vanilla ice-cream.” –Jonathan Dimbleby
URL:https://www.legionmemoriallibrary.org/event/eat-your-beans-day-2/
LOCATION:Legion Memorial Library\, 106 Iron Street\, Mellen\, WI\, 54546\, United States
GEO:46.32721;-90.658573
X-APPLE-STRUCTURED-LOCATION;VALUE=URI;X-ADDRESS=Legion Memorial Library 106 Iron Street Mellen WI 54546 United States;X-APPLE-RADIUS=500;X-TITLE=106 Iron Street:geo:-90.658573,46.32721
END:VEVENT
BEGIN:VEVENT
DTSTART;TZID=America/Chicago:20250702T083000
DTEND;TZID=America/Chicago:20250702T093000
DTSTAMP:20260423T063448
CREATED:20250630T182306Z
LAST-MODIFIED:20250630T182306Z
UID:10003556-1751445000-1751448600@www.legionmemoriallibrary.org
SUMMARY:Asahi Nordic Exercise
DESCRIPTION:ASAHI-A Simple And Healthy Idea:   This exercise practice is for all ages and all abilities.  No special equipment needed.  Just come in comfortable clothes you can move in.  Movements are completed while standing\, although if you’d like to participate seated\, you are welcome to do so.  We’ll be meeting outdoors in The Friends Place at the library.  If the weather is poor or the bugs are too much we will move indoors.
URL:https://www.legionmemoriallibrary.org/event/asahi-nordic-exercise-43/
LOCATION:Legion Memorial Library\, 106 Iron Street\, Mellen\, WI\, 54546\, United States
GEO:46.32721;-90.658573
X-APPLE-STRUCTURED-LOCATION;VALUE=URI;X-ADDRESS=Legion Memorial Library 106 Iron Street Mellen WI 54546 United States;X-APPLE-RADIUS=500;X-TITLE=106 Iron Street:geo:-90.658573,46.32721
END:VEVENT
BEGIN:VEVENT
DTSTART;VALUE=DATE:20250702
DTEND;VALUE=DATE:20250703
DTSTAMP:20260423T063448
CREATED:20250618T200120Z
LAST-MODIFIED:20250618T200120Z
UID:10003552-1751414400-1751500799@www.legionmemoriallibrary.org
SUMMARY:Chocolate Wafer Day
DESCRIPTION:National \n“The pleasure lies not in the cookies\, but in the pattern the crumbs make when the cookies crumble.” —Michael Korda
URL:https://www.legionmemoriallibrary.org/event/chocolate-wafer-day-2/
LOCATION:Legion Memorial Library\, 106 Iron Street\, Mellen\, WI\, 54546\, United States
GEO:46.32721;-90.658573
X-APPLE-STRUCTURED-LOCATION;VALUE=URI;X-ADDRESS=Legion Memorial Library 106 Iron Street Mellen WI 54546 United States;X-APPLE-RADIUS=500;X-TITLE=106 Iron Street:geo:-90.658573,46.32721
END:VEVENT
BEGIN:VEVENT
DTSTART;TZID=America/Chicago:20250701T103000
DTEND;TZID=America/Chicago:20250701T113000
DTSTAMP:20260423T063448
CREATED:20250522T191920Z
LAST-MODIFIED:20250522T191920Z
UID:10003409-1751365800-1751369400@www.legionmemoriallibrary.org
SUMMARY:Summer Reading Program for 1st-5th Graders
DESCRIPTION:
URL:https://www.legionmemoriallibrary.org/event/summer-reading-program-for-1st-5th-graders-3/
LOCATION:Legion Memorial Library\, 106 Iron Street\, Mellen\, WI\, 54546\, United States
GEO:46.32721;-90.658573
X-APPLE-STRUCTURED-LOCATION;VALUE=URI;X-ADDRESS=Legion Memorial Library 106 Iron Street Mellen WI 54546 United States;X-APPLE-RADIUS=500;X-TITLE=106 Iron Street:geo:-90.658573,46.32721
END:VEVENT
BEGIN:VEVENT
DTSTART;VALUE=DATE:20250701
DTEND;VALUE=DATE:20250702
DTSTAMP:20260423T063448
CREATED:20250618T165000Z
LAST-MODIFIED:20250618T165000Z
UID:10003551-1751328000-1751414399@www.legionmemoriallibrary.org
SUMMARY:Ginger Snap Day
DESCRIPTION:National Ginger Snap Day \n“I like cookies\, any cookie you put in front of me-animal cookies\, sugar cookies\, anything crunchy.” —Maria Shriver
URL:https://www.legionmemoriallibrary.org/event/ginger-snap-day-2/
LOCATION:Legion Memorial Library\, 106 Iron Street\, Mellen\, WI\, 54546\, United States
GEO:46.32721;-90.658573
X-APPLE-STRUCTURED-LOCATION;VALUE=URI;X-ADDRESS=Legion Memorial Library 106 Iron Street Mellen WI 54546 United States;X-APPLE-RADIUS=500;X-TITLE=106 Iron Street:geo:-90.658573,46.32721
END:VEVENT
BEGIN:VEVENT
DTSTART;VALUE=DATE:20250630
DTEND;VALUE=DATE:20250701
DTSTAMP:20260423T063448
CREATED:20250522T161511Z
LAST-MODIFIED:20250522T161511Z
UID:10003342-1751241600-1751327999@www.legionmemoriallibrary.org
SUMMARY:Meteor Watch Day
DESCRIPTION:National Meteor Watch Day \n“New ideas come into this world somewhat like falling meteors\, with a flash and an explosion.” —Henry David Thoreau
URL:https://www.legionmemoriallibrary.org/event/meteor-watch-day-2/
LOCATION:Legion Memorial Library\, 106 Iron Street\, Mellen\, WI\, 54546\, United States
GEO:46.32721;-90.658573
X-APPLE-STRUCTURED-LOCATION;VALUE=URI;X-ADDRESS=Legion Memorial Library 106 Iron Street Mellen WI 54546 United States;X-APPLE-RADIUS=500;X-TITLE=106 Iron Street:geo:-90.658573,46.32721
END:VEVENT
BEGIN:VEVENT
DTSTART;VALUE=DATE:20250629
DTEND;VALUE=DATE:20250630
DTSTAMP:20260423T063448
CREATED:20250522T161424Z
LAST-MODIFIED:20250522T161424Z
UID:10003341-1751155200-1751241599@www.legionmemoriallibrary.org
SUMMARY:Waffle Iron Day
DESCRIPTION:National Waffle Iron Day \n“Some days I feel like playing it smooth. Some days I feel like playing it like a waffle iron.” —Raymond Chandler
URL:https://www.legionmemoriallibrary.org/event/waffle-iron-day/
LOCATION:Legion Memorial Library\, 106 Iron Street\, Mellen\, WI\, 54546\, United States
GEO:46.32721;-90.658573
X-APPLE-STRUCTURED-LOCATION;VALUE=URI;X-ADDRESS=Legion Memorial Library 106 Iron Street Mellen WI 54546 United States;X-APPLE-RADIUS=500;X-TITLE=106 Iron Street:geo:-90.658573,46.32721
END:VEVENT
BEGIN:VEVENT
DTSTART;VALUE=DATE:20250628
DTEND;VALUE=DATE:20250629
DTSTAMP:20260423T063448
CREATED:20250522T161344Z
LAST-MODIFIED:20250522T161344Z
UID:10003340-1751068800-1751155199@www.legionmemoriallibrary.org
SUMMARY:Tapioca Day
DESCRIPTION:National Tapioca Day \n“When it’s raining pudding\, hold up your bowl.” —Sandra Dallas
URL:https://www.legionmemoriallibrary.org/event/tapioca-day/
LOCATION:Legion Memorial Library\, 106 Iron Street\, Mellen\, WI\, 54546\, United States
GEO:46.32721;-90.658573
X-APPLE-STRUCTURED-LOCATION;VALUE=URI;X-ADDRESS=Legion Memorial Library 106 Iron Street Mellen WI 54546 United States;X-APPLE-RADIUS=500;X-TITLE=106 Iron Street:geo:-90.658573,46.32721
END:VEVENT
BEGIN:VEVENT
DTSTART;VALUE=DATE:20250627
DTEND;VALUE=DATE:20250628
DTSTAMP:20260423T063448
CREATED:20250522T161305Z
LAST-MODIFIED:20250522T161305Z
UID:10003339-1750982400-1751068799@www.legionmemoriallibrary.org
SUMMARY:Onion Day
DESCRIPTION:National Onion Day \n“An onion can make people cry but there’s never been a vegetable that can make people laugh.” —Will Rogers
URL:https://www.legionmemoriallibrary.org/event/onion-day/
LOCATION:Legion Memorial Library\, 106 Iron Street\, Mellen\, WI\, 54546\, United States
GEO:46.32721;-90.658573
X-APPLE-STRUCTURED-LOCATION;VALUE=URI;X-ADDRESS=Legion Memorial Library 106 Iron Street Mellen WI 54546 United States;X-APPLE-RADIUS=500;X-TITLE=106 Iron Street:geo:-90.658573,46.32721
END:VEVENT
BEGIN:VEVENT
DTSTART;TZID=America/Chicago:20250626T190000
DTEND;TZID=America/Chicago:20250626T213000
DTSTAMP:20260423T063448
CREATED:20250522T201354Z
LAST-MODIFIED:20250522T201354Z
UID:10003421-1750964400-1750973400@www.legionmemoriallibrary.org
SUMMARY:Movie Night
DESCRIPTION:We’ll be showing “A Complete Unknown”.  This movie is about Bob Dylan\, born in Duluth and raised in Hibbing Minnesota and his rise to fame.  You are welcome to bring your own comfy camp chair\, beverage\, and snacks.  The library will supply popcorn.  This event is free.  The movie is two hours and twenty minutes long. \n 
URL:https://www.legionmemoriallibrary.org/event/movie-night-3/
LOCATION:Legion Memorial Library\, 106 Iron Street\, Mellen\, WI\, 54546\, United States
GEO:46.32721;-90.658573
X-APPLE-STRUCTURED-LOCATION;VALUE=URI;X-ADDRESS=Legion Memorial Library 106 Iron Street Mellen WI 54546 United States;X-APPLE-RADIUS=500;X-TITLE=106 Iron Street:geo:-90.658573,46.32721
END:VEVENT
BEGIN:VEVENT
DTSTART;TZID=America/Chicago:20250626T090000
DTEND;TZID=America/Chicago:20250626T100000
DTSTAMP:20260423T063448
CREATED:20250522T205300Z
LAST-MODIFIED:20250522T205300Z
UID:10003487-1750928400-1750932000@www.legionmemoriallibrary.org
SUMMARY:Summer Reading Storytime for 3-5 yr. olds
DESCRIPTION:Programs are planned for 3-5 yr. olds.  Those a bit older & younger are welcome\, but not all activities will be suitable for the littlest of our littles.  Programs will last about an hour. \nJune 26th\, Thursday at 9am\nCelebrating the Color Green\n& Making Frogs on a Log
URL:https://www.legionmemoriallibrary.org/event/summer-reading-storytime-for-3-5-yr-olds-7/
LOCATION:Legion Memorial Library\, 106 Iron Street\, Mellen\, WI\, 54546\, United States
GEO:46.32721;-90.658573
X-APPLE-STRUCTURED-LOCATION;VALUE=URI;X-ADDRESS=Legion Memorial Library 106 Iron Street Mellen WI 54546 United States;X-APPLE-RADIUS=500;X-TITLE=106 Iron Street:geo:-90.658573,46.32721
END:VEVENT
BEGIN:VEVENT
DTSTART;VALUE=DATE:20250626
DTEND;VALUE=DATE:20250627
DTSTAMP:20260423T063448
CREATED:20250522T161221Z
LAST-MODIFIED:20250522T161221Z
UID:10003338-1750896000-1750982399@www.legionmemoriallibrary.org
SUMMARY:Bomb Pop Day
DESCRIPTION:National Bomb Pop Day \n“Sundaes\, push-ups\, sugar cones\, bomb pops-red\, white\, blue. I love ice cream\, so do you. I scream-you scream- we all do! —David Anthony
URL:https://www.legionmemoriallibrary.org/event/bomb-pop-day/
LOCATION:Legion Memorial Library\, 106 Iron Street\, Mellen\, WI\, 54546\, United States
GEO:46.32721;-90.658573
X-APPLE-STRUCTURED-LOCATION;VALUE=URI;X-ADDRESS=Legion Memorial Library 106 Iron Street Mellen WI 54546 United States;X-APPLE-RADIUS=500;X-TITLE=106 Iron Street:geo:-90.658573,46.32721
END:VEVENT
END:VCALENDAR