BEGIN:VCALENDAR
VERSION:2.0
PRODID:-//Legion Memorial Library - ECPv6.15.20//NONSGML v1.0//EN
CALSCALE:GREGORIAN
METHOD:PUBLISH
X-WR-CALNAME:Legion Memorial Library
X-ORIGINAL-URL:https://www.legionmemoriallibrary.org
X-WR-CALDESC:Events for Legion Memorial Library
REFRESH-INTERVAL;VALUE=DURATION:PT1H
X-Robots-Tag:noindex
X-PUBLISHED-TTL:PT1H
BEGIN:VTIMEZONE
TZID:America/Chicago
BEGIN:DAYLIGHT
TZOFFSETFROM:-0600
TZOFFSETTO:-0500
TZNAME:CDT
DTSTART:20240310T080000
END:DAYLIGHT
BEGIN:STANDARD
TZOFFSETFROM:-0500
TZOFFSETTO:-0600
TZNAME:CST
DTSTART:20241103T070000
END:STANDARD
BEGIN:DAYLIGHT
TZOFFSETFROM:-0600
TZOFFSETTO:-0500
TZNAME:CDT
DTSTART:20250309T080000
END:DAYLIGHT
BEGIN:STANDARD
TZOFFSETFROM:-0500
TZOFFSETTO:-0600
TZNAME:CST
DTSTART:20251102T070000
END:STANDARD
BEGIN:DAYLIGHT
TZOFFSETFROM:-0600
TZOFFSETTO:-0500
TZNAME:CDT
DTSTART:20260308T080000
END:DAYLIGHT
BEGIN:STANDARD
TZOFFSETFROM:-0500
TZOFFSETTO:-0600
TZNAME:CST
DTSTART:20261101T070000
END:STANDARD
END:VTIMEZONE
BEGIN:VEVENT
DTSTART;VALUE=DATE:20251026
DTEND;VALUE=DATE:20251027
DTSTAMP:20260423T023552
CREATED:20250911T215032Z
LAST-MODIFIED:20250911T215032Z
UID:10003700-1761436800-1761523199@www.legionmemoriallibrary.org
SUMMARY:Pumpkin Day
DESCRIPTION:National Pumpkin Day \n“Pumpkins\, in October\, as fat as the full moon\, they sit on our doorstep at night and glow.” —Richelle E. Goodrich
URL:https://www.legionmemoriallibrary.org/event/pumpkin-day-4/
LOCATION:Legion Memorial Library\, 106 Iron Street\, Mellen\, WI\, 54546\, United States
GEO:46.32721;-90.658573
X-APPLE-STRUCTURED-LOCATION;VALUE=URI;X-ADDRESS=Legion Memorial Library 106 Iron Street Mellen WI 54546 United States;X-APPLE-RADIUS=500;X-TITLE=106 Iron Street:geo:-90.658573,46.32721
END:VEVENT
BEGIN:VEVENT
DTSTART;VALUE=DATE:20251025
DTEND;VALUE=DATE:20251026
DTSTAMP:20260423T023552
CREATED:20250911T215000Z
LAST-MODIFIED:20250911T215000Z
UID:10003699-1761350400-1761436799@www.legionmemoriallibrary.org
SUMMARY:Greasy Foods Day
DESCRIPTION:National Greasy Foods Day \n“Greasy food might not be good for your body\, but it does wonders for the soul.” —Jessica Zafra
URL:https://www.legionmemoriallibrary.org/event/greasy-foods-day-3/
LOCATION:Legion Memorial Library\, 106 Iron Street\, Mellen\, WI\, 54546\, United States
GEO:46.32721;-90.658573
X-APPLE-STRUCTURED-LOCATION;VALUE=URI;X-ADDRESS=Legion Memorial Library 106 Iron Street Mellen WI 54546 United States;X-APPLE-RADIUS=500;X-TITLE=106 Iron Street:geo:-90.658573,46.32721
END:VEVENT
BEGIN:VEVENT
DTSTART;TZID=America/Chicago:20251024T190000
DTEND;TZID=America/Chicago:20251024T210000
DTSTAMP:20260423T023552
CREATED:20251001T175444Z
LAST-MODIFIED:20251001T175444Z
UID:10003721-1761332400-1761339600@www.legionmemoriallibrary.org
SUMMARY:Movie Night
DESCRIPTION:Harry Potter and the Sorcerer’s Stone \nYou are welcome to bring your own comfortable camp chairs\, beverages and snacks.  The library will provide popcorn. \nCostumes encouraged.
URL:https://www.legionmemoriallibrary.org/event/movie-night-5/
LOCATION:Legion Memorial Library\, 106 Iron Street\, Mellen\, WI\, 54546\, United States
GEO:46.32721;-90.658573
X-APPLE-STRUCTURED-LOCATION;VALUE=URI;X-ADDRESS=Legion Memorial Library 106 Iron Street Mellen WI 54546 United States;X-APPLE-RADIUS=500;X-TITLE=106 Iron Street:geo:-90.658573,46.32721
END:VEVENT
BEGIN:VEVENT
DTSTART;VALUE=DATE:20251024
DTEND;VALUE=DATE:20251025
DTSTAMP:20260423T023552
CREATED:20250911T214929Z
LAST-MODIFIED:20250911T214929Z
UID:10003698-1761264000-1761350399@www.legionmemoriallibrary.org
SUMMARY:Bologna Day
DESCRIPTION:National Bologna Day \n“The sandwich he made was bologna and cheese\, his favorite. All the sandwiches he made were his favorites\, that was one of the advantages of being single.” —Stephen King
URL:https://www.legionmemoriallibrary.org/event/bologna-day-3/
LOCATION:Legion Memorial Library\, 106 Iron Street\, Mellen\, WI\, 54546\, United States
GEO:46.32721;-90.658573
X-APPLE-STRUCTURED-LOCATION;VALUE=URI;X-ADDRESS=Legion Memorial Library 106 Iron Street Mellen WI 54546 United States;X-APPLE-RADIUS=500;X-TITLE=106 Iron Street:geo:-90.658573,46.32721
END:VEVENT
BEGIN:VEVENT
DTSTART;TZID=America/Chicago:20251023T090000
DTEND;TZID=America/Chicago:20251023T100000
DTSTAMP:20260423T023552
CREATED:20251001T173312Z
LAST-MODIFIED:20251001T173312Z
UID:10003713-1761210000-1761213600@www.legionmemoriallibrary.org
SUMMARY:Storytime
DESCRIPTION:
URL:https://www.legionmemoriallibrary.org/event/storytime-5/
LOCATION:Legion Memorial Library\, 106 Iron Street\, Mellen\, WI\, 54546\, United States
GEO:46.32721;-90.658573
X-APPLE-STRUCTURED-LOCATION;VALUE=URI;X-ADDRESS=Legion Memorial Library 106 Iron Street Mellen WI 54546 United States;X-APPLE-RADIUS=500;X-TITLE=106 Iron Street:geo:-90.658573,46.32721
END:VEVENT
BEGIN:VEVENT
DTSTART;VALUE=DATE:20251023
DTEND;VALUE=DATE:20251024
DTSTAMP:20260423T023552
CREATED:20250911T214852Z
LAST-MODIFIED:20250911T214852Z
UID:10003697-1761177600-1761263999@www.legionmemoriallibrary.org
SUMMARY:Boston Cream Pie
DESCRIPTION:National Boston Cream Pie \n“Boston Cream Pie is not a pie but a cake with custard filling.” –OneLookDictionary
URL:https://www.legionmemoriallibrary.org/event/boston-cream-pie/
LOCATION:Legion Memorial Library\, 106 Iron Street\, Mellen\, WI\, 54546\, United States
GEO:46.32721;-90.658573
X-APPLE-STRUCTURED-LOCATION;VALUE=URI;X-ADDRESS=Legion Memorial Library 106 Iron Street Mellen WI 54546 United States;X-APPLE-RADIUS=500;X-TITLE=106 Iron Street:geo:-90.658573,46.32721
END:VEVENT
BEGIN:VEVENT
DTSTART;TZID=America/Chicago:20251022T083000
DTEND;TZID=America/Chicago:20251022T093000
DTSTAMP:20260423T023552
CREATED:20251015T173857Z
LAST-MODIFIED:20251015T173857Z
UID:10003723-1761121800-1761125400@www.legionmemoriallibrary.org
SUMMARY:Asahi Nordic Exercise
DESCRIPTION:
URL:https://www.legionmemoriallibrary.org/event/asahi-nordic-exercise-46/
LOCATION:Legion Memorial Library\, 106 Iron Street\, Mellen\, WI\, 54546\, United States
GEO:46.32721;-90.658573
X-APPLE-STRUCTURED-LOCATION;VALUE=URI;X-ADDRESS=Legion Memorial Library 106 Iron Street Mellen WI 54546 United States;X-APPLE-RADIUS=500;X-TITLE=106 Iron Street:geo:-90.658573,46.32721
END:VEVENT
BEGIN:VEVENT
DTSTART;VALUE=DATE:20251022
DTEND;VALUE=DATE:20251023
DTSTAMP:20260423T023552
CREATED:20250911T214806Z
LAST-MODIFIED:20250911T214806Z
UID:10003696-1761091200-1761177599@www.legionmemoriallibrary.org
SUMMARY:Nut Day
DESCRIPTION:National Nut Day \n“I love nuts. I’m for nuts. I am nuts. “—Penn Jillette
URL:https://www.legionmemoriallibrary.org/event/nut-day-3/
LOCATION:Legion Memorial Library\, 106 Iron Street\, Mellen\, WI\, 54546\, United States
GEO:46.32721;-90.658573
X-APPLE-STRUCTURED-LOCATION;VALUE=URI;X-ADDRESS=Legion Memorial Library 106 Iron Street Mellen WI 54546 United States;X-APPLE-RADIUS=500;X-TITLE=106 Iron Street:geo:-90.658573,46.32721
END:VEVENT
BEGIN:VEVENT
DTSTART;VALUE=DATE:20251021
DTEND;VALUE=DATE:20251022
DTSTAMP:20260423T023552
CREATED:20250911T214735Z
LAST-MODIFIED:20250911T214735Z
UID:10003695-1761004800-1761091199@www.legionmemoriallibrary.org
SUMMARY:Apple Day
DESCRIPTION:National Apple Day \n“The fruit is what matters\, not how gnarly or beautiful the apple tree is.” —Aiden Wison Tozer
URL:https://www.legionmemoriallibrary.org/event/apple-day/
LOCATION:Legion Memorial Library\, 106 Iron Street\, Mellen\, WI\, 54546\, United States
GEO:46.32721;-90.658573
X-APPLE-STRUCTURED-LOCATION;VALUE=URI;X-ADDRESS=Legion Memorial Library 106 Iron Street Mellen WI 54546 United States;X-APPLE-RADIUS=500;X-TITLE=106 Iron Street:geo:-90.658573,46.32721
END:VEVENT
BEGIN:VEVENT
DTSTART;VALUE=DATE:20251020
DTEND;VALUE=DATE:20251021
DTSTAMP:20260423T023552
CREATED:20250911T214648Z
LAST-MODIFIED:20250911T214648Z
UID:10003694-1760918400-1761004799@www.legionmemoriallibrary.org
SUMMARY:Mozzarella Sticks Day
DESCRIPTION:National Mozzarella Sticks Day \n“I already have a drink. Do you think he’d buy me mozzarella sticks?” LIZ
URL:https://www.legionmemoriallibrary.org/event/mozzarella-sticks-day/
LOCATION:Legion Memorial Library\, 106 Iron Street\, Mellen\, WI\, 54546\, United States
GEO:46.32721;-90.658573
X-APPLE-STRUCTURED-LOCATION;VALUE=URI;X-ADDRESS=Legion Memorial Library 106 Iron Street Mellen WI 54546 United States;X-APPLE-RADIUS=500;X-TITLE=106 Iron Street:geo:-90.658573,46.32721
END:VEVENT
BEGIN:VEVENT
DTSTART;VALUE=DATE:20251019
DTEND;VALUE=DATE:20251020
DTSTAMP:20260423T023552
CREATED:20250911T213736Z
LAST-MODIFIED:20250911T213736Z
UID:10003693-1760832000-1760918399@www.legionmemoriallibrary.org
SUMMARY:Seafood Bisque Day
DESCRIPTION:National Seafood Bisque Day \n“I have trouble with seafood because it tastes like a dock.” —Douglas Coupland
URL:https://www.legionmemoriallibrary.org/event/seafood-bisque-day-3/
LOCATION:Legion Memorial Library\, 106 Iron Street\, Mellen\, WI\, 54546\, United States
GEO:46.32721;-90.658573
X-APPLE-STRUCTURED-LOCATION;VALUE=URI;X-ADDRESS=Legion Memorial Library 106 Iron Street Mellen WI 54546 United States;X-APPLE-RADIUS=500;X-TITLE=106 Iron Street:geo:-90.658573,46.32721
END:VEVENT
BEGIN:VEVENT
DTSTART;VALUE=DATE:20251018
DTEND;VALUE=DATE:20251019
DTSTAMP:20260423T023552
CREATED:20250911T213131Z
LAST-MODIFIED:20250911T213131Z
UID:10003692-1760745600-1760831999@www.legionmemoriallibrary.org
SUMMARY:Chocolate Cupcake Day
DESCRIPTION:National Chocolate Cupcake Day \n“Any cupcake consumed before 9am is\, technically\, a muffin.” —Brian P. Cleary
URL:https://www.legionmemoriallibrary.org/event/chocolate-cupcake-day-3/
LOCATION:Legion Memorial Library\, 106 Iron Street\, Mellen\, WI\, 54546\, United States
GEO:46.32721;-90.658573
X-APPLE-STRUCTURED-LOCATION;VALUE=URI;X-ADDRESS=Legion Memorial Library 106 Iron Street Mellen WI 54546 United States;X-APPLE-RADIUS=500;X-TITLE=106 Iron Street:geo:-90.658573,46.32721
END:VEVENT
BEGIN:VEVENT
DTSTART;TZID=America/Chicago:20251017T180000
DTEND;TZID=America/Chicago:20251017T210000
DTSTAMP:20260423T023552
CREATED:20251001T175233Z
LAST-MODIFIED:20251001T175233Z
UID:10003720-1760724000-1760734800@www.legionmemoriallibrary.org
SUMMARY:Paint Night
DESCRIPTION:
URL:https://www.legionmemoriallibrary.org/event/paint-night-11/
LOCATION:Legion Memorial Library\, 106 Iron Street\, Mellen\, WI\, 54546\, United States
GEO:46.32721;-90.658573
X-APPLE-STRUCTURED-LOCATION;VALUE=URI;X-ADDRESS=Legion Memorial Library 106 Iron Street Mellen WI 54546 United States;X-APPLE-RADIUS=500;X-TITLE=106 Iron Street:geo:-90.658573,46.32721
END:VEVENT
BEGIN:VEVENT
DTSTART;VALUE=DATE:20251017
DTEND;VALUE=DATE:20251018
DTSTAMP:20260423T023552
CREATED:20250911T213047Z
LAST-MODIFIED:20250911T213047Z
UID:10003691-1760659200-1760745599@www.legionmemoriallibrary.org
SUMMARY:Pasta Day
DESCRIPTION:National Pasta Day \n“Life is a combination of magic and pasta.” —Federico Fellini
URL:https://www.legionmemoriallibrary.org/event/pasta-day-4/
LOCATION:Legion Memorial Library\, 106 Iron Street\, Mellen\, WI\, 54546\, United States
GEO:46.32721;-90.658573
X-APPLE-STRUCTURED-LOCATION;VALUE=URI;X-ADDRESS=Legion Memorial Library 106 Iron Street Mellen WI 54546 United States;X-APPLE-RADIUS=500;X-TITLE=106 Iron Street:geo:-90.658573,46.32721
END:VEVENT
BEGIN:VEVENT
DTSTART;TZID=America/Chicago:20251016T090000
DTEND;TZID=America/Chicago:20251016T100000
DTSTAMP:20260423T023552
CREATED:20251001T173244Z
LAST-MODIFIED:20251001T173244Z
UID:10003712-1760605200-1760608800@www.legionmemoriallibrary.org
SUMMARY:Storytime
DESCRIPTION:
URL:https://www.legionmemoriallibrary.org/event/storytime-4/
LOCATION:Legion Memorial Library\, 106 Iron Street\, Mellen\, WI\, 54546\, United States
GEO:46.32721;-90.658573
X-APPLE-STRUCTURED-LOCATION;VALUE=URI;X-ADDRESS=Legion Memorial Library 106 Iron Street Mellen WI 54546 United States;X-APPLE-RADIUS=500;X-TITLE=106 Iron Street:geo:-90.658573,46.32721
END:VEVENT
BEGIN:VEVENT
DTSTART;VALUE=DATE:20251016
DTEND;VALUE=DATE:20251017
DTSTAMP:20260423T023552
CREATED:20250911T213013Z
LAST-MODIFIED:20250911T213013Z
UID:10003690-1760572800-1760659199@www.legionmemoriallibrary.org
SUMMARY:Veterans BBQ Day
DESCRIPTION:National Veterans BBQ Day \n“A great barbecue to me is all about abundance and gathering together!” —Andi Oliver
URL:https://www.legionmemoriallibrary.org/event/veterans-bbq-day/
LOCATION:Legion Memorial Library\, 106 Iron Street\, Mellen\, WI\, 54546\, United States
GEO:46.32721;-90.658573
X-APPLE-STRUCTURED-LOCATION;VALUE=URI;X-ADDRESS=Legion Memorial Library 106 Iron Street Mellen WI 54546 United States;X-APPLE-RADIUS=500;X-TITLE=106 Iron Street:geo:-90.658573,46.32721
END:VEVENT
BEGIN:VEVENT
DTSTART;TZID=America/Chicago:20251015T090000
DTEND;TZID=America/Chicago:20251015T100000
DTSTAMP:20260423T023552
CREATED:20251001T174303Z
LAST-MODIFIED:20251001T174303Z
UID:10003716-1760518800-1760522400@www.legionmemoriallibrary.org
SUMMARY:Morning Book Club
DESCRIPTION:This month we will meet and discuss “The Blue Hour” by Paula Hawkins.
URL:https://www.legionmemoriallibrary.org/event/morning-book-club-18/
LOCATION:Legion Memorial Library\, 106 Iron Street\, Mellen\, WI\, 54546\, United States
GEO:46.32721;-90.658573
X-APPLE-STRUCTURED-LOCATION;VALUE=URI;X-ADDRESS=Legion Memorial Library 106 Iron Street Mellen WI 54546 United States;X-APPLE-RADIUS=500;X-TITLE=106 Iron Street:geo:-90.658573,46.32721
END:VEVENT
BEGIN:VEVENT
DTSTART;TZID=America/Chicago:20251015T080000
DTEND;TZID=America/Chicago:20251015T090000
DTSTAMP:20260423T023552
CREATED:20251001T174206Z
LAST-MODIFIED:20251001T174206Z
UID:10003715-1760515200-1760518800@www.legionmemoriallibrary.org
SUMMARY:Asahi Nordic Exercise
DESCRIPTION:
URL:https://www.legionmemoriallibrary.org/event/asahi-nordic-exercise-18/
LOCATION:Legion Memorial Library\, 106 Iron Street\, Mellen\, WI\, 54546\, United States
GEO:46.32721;-90.658573
X-APPLE-STRUCTURED-LOCATION;VALUE=URI;X-ADDRESS=Legion Memorial Library 106 Iron Street Mellen WI 54546 United States;X-APPLE-RADIUS=500;X-TITLE=106 Iron Street:geo:-90.658573,46.32721
END:VEVENT
BEGIN:VEVENT
DTSTART;VALUE=DATE:20251015
DTEND;VALUE=DATE:20251016
DTSTAMP:20260423T023552
CREATED:20250911T212947Z
LAST-MODIFIED:20250911T212947Z
UID:10003689-1760486400-1760572799@www.legionmemoriallibrary.org
SUMMARY:Cheese Curds Day
DESCRIPTION:National Cheese Curds Day \n“In Wisconsin they have deep-fried cheese curds\, which taste like French fries and heaven had a baby.” —Jim Gaffigan
URL:https://www.legionmemoriallibrary.org/event/cheese-curds-day-2/
LOCATION:Legion Memorial Library\, 106 Iron Street\, Mellen\, WI\, 54546\, United States
GEO:46.32721;-90.658573
X-APPLE-STRUCTURED-LOCATION;VALUE=URI;X-ADDRESS=Legion Memorial Library 106 Iron Street Mellen WI 54546 United States;X-APPLE-RADIUS=500;X-TITLE=106 Iron Street:geo:-90.658573,46.32721
END:VEVENT
BEGIN:VEVENT
DTSTART;TZID=America/Chicago:20251014T113000
DTEND;TZID=America/Chicago:20251014T123000
DTSTAMP:20260423T023552
CREATED:20251001T174540Z
LAST-MODIFIED:20251001T174540Z
UID:10003719-1760441400-1760445000@www.legionmemoriallibrary.org
SUMMARY:Flu Vaccines
DESCRIPTION:
URL:https://www.legionmemoriallibrary.org/event/flu-vaccines/
LOCATION:Legion Memorial Library\, 106 Iron Street\, Mellen\, WI\, 54546\, United States
GEO:46.32721;-90.658573
X-APPLE-STRUCTURED-LOCATION;VALUE=URI;X-ADDRESS=Legion Memorial Library 106 Iron Street Mellen WI 54546 United States;X-APPLE-RADIUS=500;X-TITLE=106 Iron Street:geo:-90.658573,46.32721
END:VEVENT
BEGIN:VEVENT
DTSTART;VALUE=DATE:20251014
DTEND;VALUE=DATE:20251015
DTSTAMP:20260423T023552
CREATED:20250911T212816Z
LAST-MODIFIED:20250911T212816Z
UID:10003688-1760400000-1760486399@www.legionmemoriallibrary.org
SUMMARY:Chocolate Covered Insect Day
DESCRIPTION:National Chocolate Covered Insect Day \n“We hope that\, when insects take over the world\, they will remember with gratitude how we took them along on all our picnics.” —Bill Vaughan
URL:https://www.legionmemoriallibrary.org/event/chocolate-covered-insect-day/
LOCATION:Legion Memorial Library\, 106 Iron Street\, Mellen\, WI\, 54546\, United States
GEO:46.32721;-90.658573
X-APPLE-STRUCTURED-LOCATION;VALUE=URI;X-ADDRESS=Legion Memorial Library 106 Iron Street Mellen WI 54546 United States;X-APPLE-RADIUS=500;X-TITLE=106 Iron Street:geo:-90.658573,46.32721
END:VEVENT
BEGIN:VEVENT
DTSTART;TZID=America/Chicago:20251013T180000
DTEND;TZID=America/Chicago:20251013T190000
DTSTAMP:20260423T023552
CREATED:20251001T174357Z
LAST-MODIFIED:20251001T174357Z
UID:10003717-1760378400-1760382000@www.legionmemoriallibrary.org
SUMMARY:Evening Book Club
DESCRIPTION:This month we will meet and discuss “Mad Honey” by Jodi Picoult.
URL:https://www.legionmemoriallibrary.org/event/evening-book-club-7/
LOCATION:Legion Memorial Library\, 106 Iron Street\, Mellen\, WI\, 54546\, United States
GEO:46.32721;-90.658573
X-APPLE-STRUCTURED-LOCATION;VALUE=URI;X-ADDRESS=Legion Memorial Library 106 Iron Street Mellen WI 54546 United States;X-APPLE-RADIUS=500;X-TITLE=106 Iron Street:geo:-90.658573,46.32721
END:VEVENT
BEGIN:VEVENT
DTSTART;TZID=America/Chicago:20251013T090000
DTEND;TZID=America/Chicago:20251013T120000
DTSTAMP:20260423T023552
CREATED:20251001T174458Z
LAST-MODIFIED:20251001T174458Z
UID:10003718-1760346000-1760356800@www.legionmemoriallibrary.org
SUMMARY:Elder Benefit Specialist
DESCRIPTION:
URL:https://www.legionmemoriallibrary.org/event/elder-benefit-specialist-2/
LOCATION:Legion Memorial Library\, 106 Iron Street\, Mellen\, WI\, 54546\, United States
GEO:46.32721;-90.658573
X-APPLE-STRUCTURED-LOCATION;VALUE=URI;X-ADDRESS=Legion Memorial Library 106 Iron Street Mellen WI 54546 United States;X-APPLE-RADIUS=500;X-TITLE=106 Iron Street:geo:-90.658573,46.32721
END:VEVENT
BEGIN:VEVENT
DTSTART;VALUE=DATE:20251013
DTEND;VALUE=DATE:20251014
DTSTAMP:20260423T023552
CREATED:20250911T212739Z
LAST-MODIFIED:20250911T212739Z
UID:10003687-1760313600-1760399999@www.legionmemoriallibrary.org
SUMMARY:M&M Day
DESCRIPTION:National M&M Day \n“Candy is like eye candy; it looks great on the shelf and taste great in your mouth.” —Jhene Aiko
URL:https://www.legionmemoriallibrary.org/event/mm-day-3/
LOCATION:Legion Memorial Library\, 106 Iron Street\, Mellen\, WI\, 54546\, United States
GEO:46.32721;-90.658573
X-APPLE-STRUCTURED-LOCATION;VALUE=URI;X-ADDRESS=Legion Memorial Library 106 Iron Street Mellen WI 54546 United States;X-APPLE-RADIUS=500;X-TITLE=106 Iron Street:geo:-90.658573,46.32721
END:VEVENT
BEGIN:VEVENT
DTSTART;VALUE=DATE:20251012
DTEND;VALUE=DATE:20251013
DTSTAMP:20260423T023552
CREATED:20250911T212658Z
LAST-MODIFIED:20250911T212658Z
UID:10003686-1760227200-1760313599@www.legionmemoriallibrary.org
SUMMARY:Pulled Pork Day
DESCRIPTION:National Pulled Pork Day \n“If I had to narrow my choice of meats down to one for the rest of my life\, I am quite certain that meat would be pork.” —James Beard
URL:https://www.legionmemoriallibrary.org/event/pulled-pork-day/
LOCATION:Legion Memorial Library\, 106 Iron Street\, Mellen\, WI\, 54546\, United States
GEO:46.32721;-90.658573
X-APPLE-STRUCTURED-LOCATION;VALUE=URI;X-ADDRESS=Legion Memorial Library 106 Iron Street Mellen WI 54546 United States;X-APPLE-RADIUS=500;X-TITLE=106 Iron Street:geo:-90.658573,46.32721
END:VEVENT
BEGIN:VEVENT
DTSTART;VALUE=DATE:20251011
DTEND;VALUE=DATE:20251012
DTSTAMP:20260423T023552
CREATED:20250911T212605Z
LAST-MODIFIED:20250911T212605Z
UID:10003685-1760140800-1760227199@www.legionmemoriallibrary.org
SUMMARY:Sausage Pizza Day
DESCRIPTION:National Sausage Pizza Day \n“My favorite pizza is the real Neapolitan-Italian sausage\, friarielli\, mozzarella and Chilli.” —–Gino D’Acampo
URL:https://www.legionmemoriallibrary.org/event/sausage-pizza-day-3/
LOCATION:Legion Memorial Library\, 106 Iron Street\, Mellen\, WI\, 54546\, United States
GEO:46.32721;-90.658573
X-APPLE-STRUCTURED-LOCATION;VALUE=URI;X-ADDRESS=Legion Memorial Library 106 Iron Street Mellen WI 54546 United States;X-APPLE-RADIUS=500;X-TITLE=106 Iron Street:geo:-90.658573,46.32721
END:VEVENT
BEGIN:VEVENT
DTSTART;VALUE=DATE:20251010
DTEND;VALUE=DATE:20251011
DTSTAMP:20260423T023552
CREATED:20250911T212524Z
LAST-MODIFIED:20250911T212524Z
UID:10003684-1760054400-1760140799@www.legionmemoriallibrary.org
SUMMARY:Cake Decorating Day
DESCRIPTION:National Cake Decorating Day \n“You know you’re getting old when the candles cost more than the cake.” —Bob Hope
URL:https://www.legionmemoriallibrary.org/event/cake-decorating-day/
LOCATION:Legion Memorial Library\, 106 Iron Street\, Mellen\, WI\, 54546\, United States
GEO:46.32721;-90.658573
X-APPLE-STRUCTURED-LOCATION;VALUE=URI;X-ADDRESS=Legion Memorial Library 106 Iron Street Mellen WI 54546 United States;X-APPLE-RADIUS=500;X-TITLE=106 Iron Street:geo:-90.658573,46.32721
END:VEVENT
BEGIN:VEVENT
DTSTART;TZID=America/Chicago:20251009T090000
DTEND;TZID=America/Chicago:20251009T100000
DTSTAMP:20260423T023552
CREATED:20251001T173212Z
LAST-MODIFIED:20251001T173212Z
UID:10003711-1760000400-1760004000@www.legionmemoriallibrary.org
SUMMARY:Storytime
DESCRIPTION:
URL:https://www.legionmemoriallibrary.org/event/storytime-3/
LOCATION:Legion Memorial Library\, 106 Iron Street\, Mellen\, WI\, 54546\, United States
GEO:46.32721;-90.658573
X-APPLE-STRUCTURED-LOCATION;VALUE=URI;X-ADDRESS=Legion Memorial Library 106 Iron Street Mellen WI 54546 United States;X-APPLE-RADIUS=500;X-TITLE=106 Iron Street:geo:-90.658573,46.32721
END:VEVENT
BEGIN:VEVENT
DTSTART;VALUE=DATE:20251009
DTEND;VALUE=DATE:20251010
DTSTAMP:20260423T023552
CREATED:20250911T212435Z
LAST-MODIFIED:20250911T212435Z
UID:10003683-1759968000-1760054399@www.legionmemoriallibrary.org
SUMMARY:Polenta Day
DESCRIPTION:National Polenta Day \n“Normally\, making polenta means having a convenient excuse to use all the butter\, milk\, and Parmesan in my fridge.” —Chris Morocco
URL:https://www.legionmemoriallibrary.org/event/polenta-day/
LOCATION:Legion Memorial Library\, 106 Iron Street\, Mellen\, WI\, 54546\, United States
GEO:46.32721;-90.658573
X-APPLE-STRUCTURED-LOCATION;VALUE=URI;X-ADDRESS=Legion Memorial Library 106 Iron Street Mellen WI 54546 United States;X-APPLE-RADIUS=500;X-TITLE=106 Iron Street:geo:-90.658573,46.32721
END:VEVENT
BEGIN:VEVENT
DTSTART;TZID=America/Chicago:20251008T083000
DTEND;TZID=America/Chicago:20251008T093000
DTSTAMP:20260423T023552
CREATED:20251004T144242Z
LAST-MODIFIED:20251004T144242Z
UID:10003722-1759912200-1759915800@www.legionmemoriallibrary.org
SUMMARY:Asahi Nordic Exercise
DESCRIPTION:
URL:https://www.legionmemoriallibrary.org/event/asahi-nordic-exercise-45/
LOCATION:Legion Memorial Library\, 106 Iron Street\, Mellen\, WI\, 54546\, United States
GEO:46.32721;-90.658573
X-APPLE-STRUCTURED-LOCATION;VALUE=URI;X-ADDRESS=Legion Memorial Library 106 Iron Street Mellen WI 54546 United States;X-APPLE-RADIUS=500;X-TITLE=106 Iron Street:geo:-90.658573,46.32721
END:VEVENT
END:VCALENDAR